BEGIN:VCALENDAR
VERSION:2.0
PRODID:-//Rosinka - ECPv6.15.20//NONSGML v1.0//EN
CALSCALE:GREGORIAN
METHOD:PUBLISH
X-ORIGINAL-URL:https://www.rosinka.at
X-WR-CALDESC:Мероприятия для Rosinka
REFRESH-INTERVAL;VALUE=DURATION:PT1H
X-Robots-Tag:noindex
X-PUBLISHED-TTL:PT1H
BEGIN:VTIMEZONE
TZID:Europe/Vienna
BEGIN:DAYLIGHT
TZOFFSETFROM:+0100
TZOFFSETTO:+0200
TZNAME:CEST
DTSTART:20180325T010000
END:DAYLIGHT
BEGIN:STANDARD
TZOFFSETFROM:+0200
TZOFFSETTO:+0100
TZNAME:CET
DTSTART:20181028T010000
END:STANDARD
BEGIN:DAYLIGHT
TZOFFSETFROM:+0100
TZOFFSETTO:+0200
TZNAME:CEST
DTSTART:20190331T010000
END:DAYLIGHT
BEGIN:STANDARD
TZOFFSETFROM:+0200
TZOFFSETTO:+0100
TZNAME:CET
DTSTART:20191027T010000
END:STANDARD
BEGIN:DAYLIGHT
TZOFFSETFROM:+0100
TZOFFSETTO:+0200
TZNAME:CEST
DTSTART:20200329T010000
END:DAYLIGHT
BEGIN:STANDARD
TZOFFSETFROM:+0200
TZOFFSETTO:+0100
TZNAME:CET
DTSTART:20201025T010000
END:STANDARD
END:VTIMEZONE
BEGIN:VEVENT
DTSTART;TZID=Europe/Vienna:20190516T164000
DTEND;TZID=Europe/Vienna:20190516T174000
DTSTAMP:20260421T032730
CREATED:20190311T094816Z
LAST-MODIFIED:20190311T094816Z
UID:2819-1558024800-1558028400@www.rosinka.at
SUMMARY:ЖИВОПИСЬ (4-6)
DESCRIPTION:
URL:https://www.rosinka.at/event/%d0%b6%d0%b8%d0%b2%d0%be%d0%bf%d0%b8%d1%81%d1%8c-4-6-8/
END:VEVENT
BEGIN:VEVENT
DTSTART;TZID=Europe/Vienna:20190517T154500
DTEND;TZID=Europe/Vienna:20190517T173000
DTSTAMP:20260421T032730
CREATED:20190311T094847Z
LAST-MODIFIED:20190311T094847Z
UID:2821-1558107900-1558114200@www.rosinka.at
SUMMARY:ФАНТАЗЕРЫ (6-7)
DESCRIPTION:
URL:https://www.rosinka.at/event/%d1%84%d0%b0%d0%bd%d1%82%d0%b0%d0%b7%d0%b5%d1%80%d1%8b-6-7-11/
END:VEVENT
BEGIN:VEVENT
DTSTART;TZID=Europe/Vienna:20190518T113000
DTEND;TZID=Europe/Vienna:20190518T123000
DTSTAMP:20260421T032730
CREATED:20190311T094934Z
LAST-MODIFIED:20190311T094934Z
UID:2823-1558179000-1558182600@www.rosinka.at
SUMMARY:РОБОТОТЕХНИКА (7-10)
DESCRIPTION:
URL:https://www.rosinka.at/event/%d1%80%d0%be%d0%b1%d0%be%d1%82%d0%be%d1%82%d0%b5%d1%85%d0%bd%d0%b8%d0%ba%d0%b0-7-10-10/
END:VEVENT
BEGIN:VEVENT
DTSTART;TZID=Europe/Vienna:20190518T133000
DTEND;TZID=Europe/Vienna:20190518T150000
DTSTAMP:20260421T032730
CREATED:20190311T095003Z
LAST-MODIFIED:20190311T095003Z
UID:2825-1558186200-1558191600@www.rosinka.at
SUMMARY:РОБОТОТЕХНИКА (11+)
DESCRIPTION:
URL:https://www.rosinka.at/event/%d1%80%d0%be%d0%b1%d0%be%d1%82%d0%be%d1%82%d0%b5%d1%85%d0%bd%d0%b8%d0%ba%d0%b0-11-10/
END:VEVENT
BEGIN:VEVENT
DTSTART;TZID=Europe/Vienna:20190520T153000
DTEND;TZID=Europe/Vienna:20190520T163000
DTSTAMP:20260421T032730
CREATED:20190303T215322Z
LAST-MODIFIED:20190303T215322Z
UID:2691-1558366200-1558369800@www.rosinka.at
SUMMARY:Музыкальное Развитие (4-6)
DESCRIPTION:
URL:https://www.rosinka.at/event/%d0%bc%d1%83%d0%b7%d1%8b%d0%ba%d0%b0%d0%bb%d1%8c%d0%bd%d0%be%d0%b5-%d1%80%d0%b0%d0%b7%d0%b2%d0%b8%d1%82%d0%b8%d0%b5-4-6-10/
END:VEVENT
BEGIN:VEVENT
DTSTART;TZID=Europe/Vienna:20190521T160000
DTEND;TZID=Europe/Vienna:20190521T170000
DTSTAMP:20260421T032730
CREATED:20190311T095200Z
LAST-MODIFIED:20190318T191752Z
UID:2827-1558454400-1558458000@www.rosinka.at
SUMMARY:СВЕТЛЯЧКИ (1\,5-3)
DESCRIPTION:
URL:https://www.rosinka.at/event/%d0%b3%d1%80%d1%83%d0%bf%d0%bf%d0%b0-15-3-%d0%b3%d0%be%d0%b4%d0%b0-20/
END:VEVENT
BEGIN:VEVENT
DTSTART;TZID=Europe/Vienna:20190521T163000
DTEND;TZID=Europe/Vienna:20190521T181500
DTSTAMP:20260421T032730
CREATED:20190311T095228Z
LAST-MODIFIED:20190311T095228Z
UID:2829-1558456200-1558462500@www.rosinka.at
SUMMARY:ЗОЛОТОЙ КЛЮЧИК (8-10)
DESCRIPTION:
URL:https://www.rosinka.at/event/%d0%b7%d0%be%d0%bb%d0%be%d1%82%d0%be%d0%b9-%d0%ba%d0%bb%d1%8e%d1%87%d0%b8%d0%ba-8-10-10/
END:VEVENT
BEGIN:VEVENT
DTSTART;TZID=Europe/Vienna:20190522T150000
DTEND;TZID=Europe/Vienna:20190522T160000
DTSTAMP:20260421T032730
CREATED:20190311T095711Z
LAST-MODIFIED:20190311T095711Z
UID:2835-1558537200-1558540800@www.rosinka.at
SUMMARY:СТУДИЯ ДИЗАЙНА
DESCRIPTION:
URL:https://www.rosinka.at/event/%d1%81%d1%82%d1%83%d0%b4%d0%b8%d1%8f-%d0%b4%d0%b8%d0%b7%d0%b0%d0%b9%d0%bd%d0%b0-12/
END:VEVENT
BEGIN:VEVENT
DTSTART;TZID=Europe/Vienna:20190522T160000
DTEND;TZID=Europe/Vienna:20190522T170000
DTSTAMP:20260421T032730
CREATED:20190311T095736Z
LAST-MODIFIED:20190311T095736Z
UID:2837-1558540800-1558544400@www.rosinka.at
SUMMARY:ЯКОРЕК (4-5)
DESCRIPTION:
URL:https://www.rosinka.at/event/%d1%8f%d0%ba%d0%be%d1%80%d0%b5%d0%ba-4-5-13/
END:VEVENT
BEGIN:VEVENT
DTSTART;TZID=Europe/Vienna:20190522T163000
DTEND;TZID=Europe/Vienna:20190522T173000
DTSTAMP:20260421T032730
CREATED:20190311T100040Z
LAST-MODIFIED:20190311T100040Z
UID:2839-1558542600-1558546200@www.rosinka.at
SUMMARY:ТЕАТРАЛЬНЫЙ КРУЖОК (3-4)
DESCRIPTION:
URL:https://www.rosinka.at/event/%d1%82%d0%b5%d0%b0%d1%82%d1%80%d0%b0%d0%bb%d1%8c%d0%bd%d1%8b%d0%b9-%d0%ba%d1%80%d1%83%d0%b6%d0%be%d0%ba-3-4-9/
END:VEVENT
BEGIN:VEVENT
DTSTART;TZID=Europe/Vienna:20190523T150000
DTEND;TZID=Europe/Vienna:20190523T163000
DTSTAMP:20260421T032730
CREATED:20190311T100242Z
LAST-MODIFIED:20190311T100242Z
UID:2841-1558623600-1558629000@www.rosinka.at
SUMMARY:ЖИВОПИСЬ (7-11)
DESCRIPTION:
URL:https://www.rosinka.at/event/%d0%b6%d0%b8%d0%b2%d0%be%d0%bf%d0%b8%d1%81%d1%8c-7-11-11/
END:VEVENT
BEGIN:VEVENT
DTSTART;TZID=Europe/Vienna:20190523T163000
DTEND;TZID=Europe/Vienna:20190523T181500
DTSTAMP:20260421T032730
CREATED:20190311T100328Z
LAST-MODIFIED:20190311T100328Z
UID:2843-1558629000-1558635300@www.rosinka.at
SUMMARY:ЗВЕЗДОЧЕТЫ (7-8)
DESCRIPTION:
URL:https://www.rosinka.at/event/%d0%b7%d0%b2%d0%b5%d0%b7%d0%b4%d0%be%d1%87%d0%b5%d1%82%d1%8b-7-8-14/
END:VEVENT
BEGIN:VEVENT
DTSTART;TZID=Europe/Vienna:20190523T164000
DTEND;TZID=Europe/Vienna:20190523T174000
DTSTAMP:20260421T032730
CREATED:20190311T100357Z
LAST-MODIFIED:20190311T100357Z
UID:2845-1558629600-1558633200@www.rosinka.at
SUMMARY:ЖИВОПИСЬ (4-6)
DESCRIPTION:
URL:https://www.rosinka.at/event/%d0%b6%d0%b8%d0%b2%d0%be%d0%bf%d0%b8%d1%81%d1%8c-4-6-9/
END:VEVENT
BEGIN:VEVENT
DTSTART;TZID=Europe/Vienna:20190524T154500
DTEND;TZID=Europe/Vienna:20190524T173000
DTSTAMP:20260421T032730
CREATED:20190311T100450Z
LAST-MODIFIED:20190311T100450Z
UID:2847-1558712700-1558719000@www.rosinka.at
SUMMARY:ФАНТАЗЕРЫ (6-7)
DESCRIPTION:
URL:https://www.rosinka.at/event/%d1%84%d0%b0%d0%bd%d1%82%d0%b0%d0%b7%d0%b5%d1%80%d1%8b-6-7-12/
END:VEVENT
BEGIN:VEVENT
DTSTART;TZID=Europe/Vienna:20190525T113000
DTEND;TZID=Europe/Vienna:20190525T123000
DTSTAMP:20260421T032730
CREATED:20190311T100518Z
LAST-MODIFIED:20190311T100518Z
UID:2849-1558783800-1558787400@www.rosinka.at
SUMMARY:РОБОТОТЕХНИКА (7-10)
DESCRIPTION:
URL:https://www.rosinka.at/event/%d1%80%d0%be%d0%b1%d0%be%d1%82%d0%be%d1%82%d0%b5%d1%85%d0%bd%d0%b8%d0%ba%d0%b0-7-10-11/
END:VEVENT
BEGIN:VEVENT
DTSTART;TZID=Europe/Vienna:20190525T133000
DTEND;TZID=Europe/Vienna:20190525T150000
DTSTAMP:20260421T032730
CREATED:20190311T100550Z
LAST-MODIFIED:20190311T100550Z
UID:2851-1558791000-1558796400@www.rosinka.at
SUMMARY:РОБОТОТЕХНИКА (11+)
DESCRIPTION:
URL:https://www.rosinka.at/event/%d1%80%d0%be%d0%b1%d0%be%d1%82%d0%be%d1%82%d0%b5%d1%85%d0%bd%d0%b8%d0%ba%d0%b0-11-11/
END:VEVENT
BEGIN:VEVENT
DTSTART;TZID=Europe/Vienna:20190527T153000
DTEND;TZID=Europe/Vienna:20190527T163000
DTSTAMP:20260421T032730
CREATED:20190303T215345Z
LAST-MODIFIED:20190303T215345Z
UID:2693-1558971000-1558974600@www.rosinka.at
SUMMARY:Музыкальное Развитие (4-6)
DESCRIPTION:
URL:https://www.rosinka.at/event/%d0%bc%d1%83%d0%b7%d1%8b%d0%ba%d0%b0%d0%bb%d1%8c%d0%bd%d0%be%d0%b5-%d1%80%d0%b0%d0%b7%d0%b2%d0%b8%d1%82%d0%b8%d0%b5-4-6-11/
END:VEVENT
BEGIN:VEVENT
DTSTART;TZID=Europe/Vienna:20190528T160000
DTEND;TZID=Europe/Vienna:20190528T170000
DTSTAMP:20260421T032730
CREATED:20190311T100614Z
LAST-MODIFIED:20190318T191651Z
UID:2853-1559059200-1559062800@www.rosinka.at
SUMMARY:СВЕТЛЯЧКИ (1\,5 - 3)
DESCRIPTION:
URL:https://www.rosinka.at/event/%d0%b3%d1%80%d1%83%d0%bf%d0%bf%d0%b0-15-3-%d0%b3%d0%be%d0%b4%d0%b0-19/
END:VEVENT
BEGIN:VEVENT
DTSTART;TZID=Europe/Vienna:20190528T163000
DTEND;TZID=Europe/Vienna:20190528T181500
DTSTAMP:20260421T032730
CREATED:20190311T100645Z
LAST-MODIFIED:20190311T100645Z
UID:2855-1559061000-1559067300@www.rosinka.at
SUMMARY:ЗОЛОТОЙ КЛЮЧИК (8-10)
DESCRIPTION:
URL:https://www.rosinka.at/event/%d0%b7%d0%be%d0%bb%d0%be%d1%82%d0%be%d0%b9-%d0%ba%d0%bb%d1%8e%d1%87%d0%b8%d0%ba-8-10-11/
END:VEVENT
BEGIN:VEVENT
DTSTART;TZID=Europe/Vienna:20190529T150000
DTEND;TZID=Europe/Vienna:20190529T160000
DTSTAMP:20260421T032730
CREATED:20190311T100718Z
LAST-MODIFIED:20190311T100718Z
UID:2857-1559142000-1559145600@www.rosinka.at
SUMMARY:СТУДИЯ ДИЗАЙНА
DESCRIPTION:
URL:https://www.rosinka.at/event/%d1%81%d1%82%d1%83%d0%b4%d0%b8%d1%8f-%d0%b4%d0%b8%d0%b7%d0%b0%d0%b9%d0%bd%d0%b0-13/
END:VEVENT
BEGIN:VEVENT
DTSTART;TZID=Europe/Vienna:20190529T160000
DTEND;TZID=Europe/Vienna:20190529T170000
DTSTAMP:20260421T032730
CREATED:20190311T100744Z
LAST-MODIFIED:20190311T100744Z
UID:2859-1559145600-1559149200@www.rosinka.at
SUMMARY:ЯКОРЕК (4-5)
DESCRIPTION:
URL:https://www.rosinka.at/event/%d1%8f%d0%ba%d0%be%d1%80%d0%b5%d0%ba-4-5-14/
END:VEVENT
BEGIN:VEVENT
DTSTART;TZID=Europe/Vienna:20190529T163000
DTEND;TZID=Europe/Vienna:20190529T173000
DTSTAMP:20260421T032730
CREATED:20190311T100811Z
LAST-MODIFIED:20190311T100811Z
UID:2861-1559147400-1559151000@www.rosinka.at
SUMMARY:ТЕАТРАЛЬНЫЙ КРУЖОК (3-4)
DESCRIPTION:
URL:https://www.rosinka.at/event/%d1%82%d0%b5%d0%b0%d1%82%d1%80%d0%b0%d0%bb%d1%8c%d0%bd%d1%8b%d0%b9-%d0%ba%d1%80%d1%83%d0%b6%d0%be%d0%ba-3-4-10/
LOCATION:Alte Poststraße 134\, 8020 Graz\, Alte Poststraße 134\, Graz\, 8020\, Austria
END:VEVENT
BEGIN:VEVENT
DTSTART;VALUE=DATE:20190530
DTEND;VALUE=DATE:20190601
DTSTAMP:20260421T032730
CREATED:20180907T080221Z
LAST-MODIFIED:20180907T081112Z
UID:1861-1559174400-1559347199@www.rosinka.at
SUMMARY:НЕУЧЕБНЫЙ ДЕНЬ
DESCRIPTION:
URL:https://www.rosinka.at/event/%d0%b3%d0%be%d1%81%d1%83%d0%b4%d0%b0%d1%80%d1%81%d1%82%d0%b2%d0%b5%d0%bd%d0%bd%d1%8b%d0%b9-%d0%bf%d1%80%d0%b0%d0%b7%d0%b4%d0%bd%d0%b8%d0%ba-5/
END:VEVENT
BEGIN:VEVENT
DTSTART;VALUE=DATE:20190601
DTEND;VALUE=DATE:20190602
DTSTAMP:20260421T032730
CREATED:20190311T101321Z
LAST-MODIFIED:20190311T101321Z
UID:2863-1559347200-1559433599@www.rosinka.at
SUMMARY:НЕУЧЕБНЫЙ ДЕЬ
DESCRIPTION:
URL:https://www.rosinka.at/event/%d0%bd%d0%b5%d1%83%d1%87%d0%b5%d0%b1%d0%bd%d1%8b%d0%b9-%d0%b4%d0%b5%d0%bd%d1%8c-9/
END:VEVENT
BEGIN:VEVENT
DTSTART;TZID=Europe/Vienna:20190603T153000
DTEND;TZID=Europe/Vienna:20190603T163000
DTSTAMP:20260421T032730
CREATED:20190303T215407Z
LAST-MODIFIED:20190303T215407Z
UID:2695-1559575800-1559579400@www.rosinka.at
SUMMARY:Музыкальное Развитие (4-6)
DESCRIPTION:
URL:https://www.rosinka.at/event/%d0%bc%d1%83%d0%b7%d1%8b%d0%ba%d0%b0%d0%bb%d1%8c%d0%bd%d0%be%d0%b5-%d1%80%d0%b0%d0%b7%d0%b2%d0%b8%d1%82%d0%b8%d0%b5-4-6-12/
END:VEVENT
BEGIN:VEVENT
DTSTART;TZID=Europe/Vienna:20190604T160000
DTEND;TZID=Europe/Vienna:20190604T170000
DTSTAMP:20260421T032730
CREATED:20190318T143652Z
LAST-MODIFIED:20190318T143652Z
UID:2904-1559664000-1559667600@www.rosinka.at
SUMMARY:СВЕТЛЯЧКИ (1\,5-3)
DESCRIPTION:
URL:https://www.rosinka.at/event/%d1%81%d0%b2%d0%b5%d1%82%d0%bb%d1%8f%d1%87%d0%ba%d0%b8-15-3/
END:VEVENT
BEGIN:VEVENT
DTSTART;TZID=Europe/Vienna:20190604T163000
DTEND;TZID=Europe/Vienna:20190604T181500
DTSTAMP:20260421T032730
CREATED:20190318T143723Z
LAST-MODIFIED:20190318T143723Z
UID:2906-1559665800-1559672100@www.rosinka.at
SUMMARY:ЗОЛОТОЙ КЛЮЧИК (8-10)
DESCRIPTION:
URL:https://www.rosinka.at/event/%d0%b7%d0%be%d0%bb%d0%be%d1%82%d0%be%d0%b9-%d0%ba%d0%bb%d1%8e%d1%87%d0%b8%d0%ba-8-10-12/
END:VEVENT
BEGIN:VEVENT
DTSTART;TZID=Europe/Vienna:20190605T150000
DTEND;TZID=Europe/Vienna:20190605T160000
DTSTAMP:20260421T032730
CREATED:20190318T143911Z
LAST-MODIFIED:20190318T143911Z
UID:2910-1559746800-1559750400@www.rosinka.at
SUMMARY:СТУДИЯ ДИЗАЙНА
DESCRIPTION:
URL:https://www.rosinka.at/event/%d1%81%d1%82%d1%83%d0%b4%d0%b8%d1%8f-%d0%b4%d0%b8%d0%b7%d0%b0%d0%b9%d0%bd%d0%b0-14/
END:VEVENT
BEGIN:VEVENT
DTSTART;TZID=Europe/Vienna:20190605T160000
DTEND;TZID=Europe/Vienna:20190605T170000
DTSTAMP:20260421T032730
CREATED:20190318T143842Z
LAST-MODIFIED:20190318T143842Z
UID:2908-1559750400-1559754000@www.rosinka.at
SUMMARY:ЯКОРЕК (4-5)
DESCRIPTION:
URL:https://www.rosinka.at/event/%d1%8f%d0%ba%d0%be%d1%80%d0%b5%d0%ba-4-5-15/
END:VEVENT
BEGIN:VEVENT
DTSTART;TZID=Europe/Vienna:20190605T163000
DTEND;TZID=Europe/Vienna:20190605T173000
DTSTAMP:20260421T032730
CREATED:20190318T144001Z
LAST-MODIFIED:20190318T144001Z
UID:2912-1559752200-1559755800@www.rosinka.at
SUMMARY:ТЕАТРАЛЬНЫЙ КРУЖОК (3-4)
DESCRIPTION:
URL:https://www.rosinka.at/event/%d1%82%d0%b5%d0%b0%d1%82%d1%80%d0%b0%d0%bb%d1%8c%d0%bd%d1%8b%d0%b9-%d0%ba%d1%80%d1%83%d0%b6%d0%be%d0%ba-3-4-11/
LOCATION:Alte Poststraße 134\, 8020 Graz\, Alte Poststraße 134\, Graz\, 8020\, Austria
END:VEVENT
END:VCALENDAR