BEGIN:VCALENDAR
VERSION:2.0
PRODID:-//Rosinka - ECPv6.15.20//NONSGML v1.0//EN
CALSCALE:GREGORIAN
METHOD:PUBLISH
X-WR-CALNAME:Rosinka
X-ORIGINAL-URL:https://www.rosinka.at
X-WR-CALDESC:Мероприятия для Rosinka
REFRESH-INTERVAL;VALUE=DURATION:PT1H
X-Robots-Tag:noindex
X-PUBLISHED-TTL:PT1H
BEGIN:VTIMEZONE
TZID:Europe/Vienna
BEGIN:DAYLIGHT
TZOFFSETFROM:+0100
TZOFFSETTO:+0200
TZNAME:CEST
DTSTART:20180325T010000
END:DAYLIGHT
BEGIN:STANDARD
TZOFFSETFROM:+0200
TZOFFSETTO:+0100
TZNAME:CET
DTSTART:20181028T010000
END:STANDARD
BEGIN:DAYLIGHT
TZOFFSETFROM:+0100
TZOFFSETTO:+0200
TZNAME:CEST
DTSTART:20190331T010000
END:DAYLIGHT
BEGIN:STANDARD
TZOFFSETFROM:+0200
TZOFFSETTO:+0100
TZNAME:CET
DTSTART:20191027T010000
END:STANDARD
BEGIN:DAYLIGHT
TZOFFSETFROM:+0100
TZOFFSETTO:+0200
TZNAME:CEST
DTSTART:20200329T010000
END:DAYLIGHT
BEGIN:STANDARD
TZOFFSETFROM:+0200
TZOFFSETTO:+0100
TZNAME:CET
DTSTART:20201025T010000
END:STANDARD
END:VTIMEZONE
BEGIN:VEVENT
DTSTART;TZID=Europe/Vienna:20190411T150000
DTEND;TZID=Europe/Vienna:20190411T163000
DTSTAMP:20260420T221918
CREATED:20190309T110553Z
LAST-MODIFIED:20190309T110553Z
UID:2753-1554994800-1555000200@www.rosinka.at
SUMMARY:ЖИВОПИСЬ (7-11)
DESCRIPTION:
URL:https://www.rosinka.at/event/%d0%b6%d0%b8%d0%b2%d0%be%d0%bf%d0%b8%d1%81%d1%8c-7-11-6/
END:VEVENT
BEGIN:VEVENT
DTSTART;TZID=Europe/Vienna:20190410T163000
DTEND;TZID=Europe/Vienna:20190410T173000
DTSTAMP:20260420T221918
CREATED:20190227T213150Z
LAST-MODIFIED:20190227T213337Z
UID:2633-1554913800-1554917400@www.rosinka.at
SUMMARY:ТЕАТРАЛЬНАЯ СТУДИЯ (3-4)
DESCRIPTION:
URL:https://www.rosinka.at/event/%d1%8f%d0%ba%d0%be%d1%80%d0%b5%d0%ba-4-5-7/
LOCATION:Alte Poststraße 134\, 8020 Graz\, Alte Poststraße 134\, Graz\, 8020\, Austria
END:VEVENT
BEGIN:VEVENT
DTSTART;TZID=Europe/Vienna:20190410T160000
DTEND;TZID=Europe/Vienna:20190410T170000
DTSTAMP:20260420T221918
CREATED:20190227T213658Z
LAST-MODIFIED:20190227T213658Z
UID:2642-1554912000-1554915600@www.rosinka.at
SUMMARY:ЯКОРЕК (4-5)
DESCRIPTION:
URL:https://www.rosinka.at/event/%d1%8f%d0%ba%d0%be%d1%80%d0%b5%d0%ba-4-5-8/
END:VEVENT
BEGIN:VEVENT
DTSTART;TZID=Europe/Vienna:20190409T163000
DTEND;TZID=Europe/Vienna:20190409T181500
DTSTAMP:20260420T221918
CREATED:20190227T212825Z
LAST-MODIFIED:20190227T212825Z
UID:2630-1554827400-1554833700@www.rosinka.at
SUMMARY:ЗОЛОТОЙ КЛЮЧИК (8-10)
DESCRIPTION:
URL:https://www.rosinka.at/event/%d0%b7%d0%be%d0%bb%d0%be%d1%82%d0%be%d0%b9-%d0%ba%d0%bb%d1%8e%d1%87%d0%b8%d0%ba-8-10-6/
END:VEVENT
BEGIN:VEVENT
DTSTART;TZID=Europe/Vienna:20190409T160000
DTEND;TZID=Europe/Vienna:20190409T170000
DTSTAMP:20260420T221918
CREATED:20190227T212755Z
LAST-MODIFIED:20190318T191918Z
UID:2628-1554825600-1554829200@www.rosinka.at
SUMMARY:СВЕТЛЯЧКИ (1\,5-3)
DESCRIPTION:
URL:https://www.rosinka.at/event/%d0%b3%d1%80%d1%83%d0%bf%d0%bf%d0%b0-15-3-%d0%b3%d0%be%d0%b4%d0%b0-17/
END:VEVENT
BEGIN:VEVENT
DTSTART;TZID=Europe/Vienna:20190408T153000
DTEND;TZID=Europe/Vienna:20190408T163000
DTSTAMP:20260420T221918
CREATED:20190303T215106Z
LAST-MODIFIED:20190303T215106Z
UID:2683-1554737400-1554741000@www.rosinka.at
SUMMARY:Музыкальное Развитие (4-6)
DESCRIPTION:
URL:https://www.rosinka.at/event/%d0%bc%d1%83%d0%b7%d1%8b%d0%ba%d0%b0%d0%bb%d1%8c%d0%bd%d0%be%d0%b5-%d1%80%d0%b0%d0%b7%d0%b2%d0%b8%d1%82%d0%b8%d0%b5-4-6-6/
END:VEVENT
BEGIN:VEVENT
DTSTART;TZID=Europe/Vienna:20190406T133000
DTEND;TZID=Europe/Vienna:20190406T150000
DTSTAMP:20260420T221918
CREATED:20190227T212714Z
LAST-MODIFIED:20190412T143820Z
UID:2626-1554557400-1554562800@www.rosinka.at
SUMMARY:РОБОТОТЕХНИКА (11+)
DESCRIPTION:
URL:https://www.rosinka.at/event/%d1%80%d0%be%d0%b1%d0%be%d1%82%d0%be%d1%82%d0%b5%d1%85%d0%bd%d0%b8%d0%ba%d0%b0-11-6/
END:VEVENT
BEGIN:VEVENT
DTSTART;TZID=Europe/Vienna:20190406T113000
DTEND;TZID=Europe/Vienna:20190406T123000
DTSTAMP:20260420T221918
CREATED:20190227T212647Z
LAST-MODIFIED:20190227T212647Z
UID:2624-1554550200-1554553800@www.rosinka.at
SUMMARY:РОБОТОТЕХНИКА (7-10)
DESCRIPTION:
URL:https://www.rosinka.at/event/%d1%80%d0%be%d0%b1%d0%be%d1%82%d0%be%d1%82%d0%b5%d1%85%d0%bd%d0%b8%d0%ba%d0%b0-7-10-6/
END:VEVENT
BEGIN:VEVENT
DTSTART;TZID=Europe/Vienna:20190406T110000
DTEND;TZID=Europe/Vienna:20190406T123000
DTSTAMP:20260420T221918
CREATED:20190318T220829Z
LAST-MODIFIED:20190318T220829Z
UID:2998-1554548400-1554553800@www.rosinka.at
SUMMARY:БЛОК I: ГОРОДЕЦ
DESCRIPTION:
URL:https://www.rosinka.at/event/%d0%b1%d0%bb%d0%be%d0%ba-i-%d0%b3%d0%be%d1%80%d0%be%d0%b4%d0%b5%d1%86-2/
END:VEVENT
BEGIN:VEVENT
DTSTART;TZID=Europe/Vienna:20190405T154500
DTEND;TZID=Europe/Vienna:20190405T173000
DTSTAMP:20260420T221918
CREATED:20190227T212404Z
LAST-MODIFIED:20190227T212404Z
UID:2620-1554479100-1554485400@www.rosinka.at
SUMMARY:ФАНТАЗЕРЫ (6-7)
DESCRIPTION:
URL:https://www.rosinka.at/event/%d1%84%d0%b0%d0%bd%d1%82%d0%b0%d0%b7%d0%b5%d1%80%d1%8b-6-7-7/
END:VEVENT
BEGIN:VEVENT
DTSTART;TZID=Europe/Vienna:20190404T164000
DTEND;TZID=Europe/Vienna:20190404T174000
DTSTAMP:20260420T221918
CREATED:20190309T110535Z
LAST-MODIFIED:20190309T110535Z
UID:2751-1554396000-1554399600@www.rosinka.at
SUMMARY:ЖИВОПИСЬ (4-6)
DESCRIPTION:
URL:https://www.rosinka.at/event/%d0%b6%d0%b8%d0%b2%d0%be%d0%bf%d0%b8%d1%81%d1%8c-4-6-4/
END:VEVENT
BEGIN:VEVENT
DTSTART;TZID=Europe/Vienna:20190404T163000
DTEND;TZID=Europe/Vienna:20190404T181500
DTSTAMP:20260420T221918
CREATED:20190227T212312Z
LAST-MODIFIED:20190227T212312Z
UID:2618-1554395400-1554401700@www.rosinka.at
SUMMARY:ЗВЕЗДОЧЕТЫ (7-8)
DESCRIPTION:
URL:https://www.rosinka.at/event/%d0%b7%d0%b2%d0%b5%d0%b7%d0%b4%d0%be%d1%87%d0%b5%d1%82%d1%8b-7-8-7/
END:VEVENT
BEGIN:VEVENT
DTSTART;TZID=Europe/Vienna:20190404T150000
DTEND;TZID=Europe/Vienna:20190404T163000
DTSTAMP:20260420T221918
CREATED:20190309T110432Z
LAST-MODIFIED:20190309T110507Z
UID:2748-1554390000-1554395400@www.rosinka.at
SUMMARY:ЖИВОПИСЬ (7-11)
DESCRIPTION:
URL:https://www.rosinka.at/event/%d0%b6%d0%b8%d0%b2%d0%be%d0%bf%d0%b8%d1%81%d1%8c-7-11-5/
END:VEVENT
BEGIN:VEVENT
DTSTART;TZID=Europe/Vienna:20190403T163000
DTEND;TZID=Europe/Vienna:20190403T173000
DTSTAMP:20260420T221918
CREATED:20190227T212233Z
LAST-MODIFIED:20190227T212547Z
UID:2616-1554309000-1554312600@www.rosinka.at
SUMMARY:ТЕАТРАЛЬНАЯ СТУДИЯ (3-4)
DESCRIPTION:
URL:https://www.rosinka.at/event/%d1%82%d0%b5%d0%b0%d1%82%d1%80%d0%b0%d0%bb%d1%8c%d0%bd%d1%8b%d0%b9-%d0%ba%d1%80%d1%83%d0%b6%d0%be%d0%ba-3-4-6/
LOCATION:Alte Poststraße 134\, 8020 Graz\, Alte Poststraße 134\, Graz\, 8020\, Austria
END:VEVENT
BEGIN:VEVENT
DTSTART;TZID=Europe/Vienna:20190403T160000
DTEND;TZID=Europe/Vienna:20190403T170000
DTSTAMP:20260420T221918
CREATED:20190227T212155Z
LAST-MODIFIED:20190227T212155Z
UID:2614-1554307200-1554310800@www.rosinka.at
SUMMARY:ЯКОРЕК (4-5)
DESCRIPTION:
URL:https://www.rosinka.at/event/%d1%8f%d0%ba%d0%be%d1%80%d0%b5%d0%ba-4-5-6/
END:VEVENT
BEGIN:VEVENT
DTSTART;TZID=Europe/Vienna:20190403T150000
DTEND;TZID=Europe/Vienna:20190403T160000
DTSTAMP:20260420T221918
CREATED:20190227T212130Z
LAST-MODIFIED:20190227T212521Z
UID:2612-1554303600-1554307200@www.rosinka.at
SUMMARY:СТУДИЯ ДИЗАЙНА
DESCRIPTION:
URL:https://www.rosinka.at/event/%d1%81%d1%82%d1%83%d0%b4%d0%b8%d1%8f-%d0%b4%d0%b8%d0%b7%d0%b0%d0%b9%d0%bd%d0%b0-6/
END:VEVENT
BEGIN:VEVENT
DTSTART;TZID=Europe/Vienna:20190402T163000
DTEND;TZID=Europe/Vienna:20190402T181500
DTSTAMP:20260420T221918
CREATED:20190227T212053Z
LAST-MODIFIED:20190227T212053Z
UID:2610-1554222600-1554228900@www.rosinka.at
SUMMARY:ЗОЛОТОЙ КЛЮЧИК (8-10)
DESCRIPTION:
URL:https://www.rosinka.at/event/%d0%b7%d0%be%d0%bb%d0%be%d1%82%d0%be%d0%b9-%d0%ba%d0%bb%d1%8e%d1%87%d0%b8%d0%ba-8-10-5/
END:VEVENT
BEGIN:VEVENT
DTSTART;TZID=Europe/Vienna:20190402T160000
DTEND;TZID=Europe/Vienna:20190402T170000
DTSTAMP:20260420T221918
CREATED:20190227T212019Z
LAST-MODIFIED:20190318T191945Z
UID:2608-1554220800-1554224400@www.rosinka.at
SUMMARY:СВЕТЛЯЧКИ (1\,5-3)
DESCRIPTION:
URL:https://www.rosinka.at/event/%d0%b3%d1%80%d1%83%d0%bf%d0%bf%d0%b0-15-3-%d0%b3%d0%be%d0%b4%d0%b0-16/
END:VEVENT
BEGIN:VEVENT
DTSTART;TZID=Europe/Vienna:20190401T153000
DTEND;TZID=Europe/Vienna:20190401T163000
DTSTAMP:20260420T221918
CREATED:20190303T215049Z
LAST-MODIFIED:20190303T215049Z
UID:2681-1554132600-1554136200@www.rosinka.at
SUMMARY:Музыкальное Развитие (4-6)
DESCRIPTION:
URL:https://www.rosinka.at/event/%d0%bc%d1%83%d0%b7%d1%8b%d0%ba%d0%b0%d0%bb%d1%8c%d0%bd%d0%be%d0%b5-%d1%80%d0%b0%d0%b7%d0%b2%d0%b8%d1%82%d0%b8%d0%b5-4-6-5/
END:VEVENT
BEGIN:VEVENT
DTSTART;TZID=Europe/Vienna:20190330T133000
DTEND;TZID=Europe/Vienna:20190330T150000
DTSTAMP:20260420T221918
CREATED:20190220T215541Z
LAST-MODIFIED:20190220T215541Z
UID:2584-1553952600-1553958000@www.rosinka.at
SUMMARY:РОБОТОТЕХНИКА (11+)
DESCRIPTION:
URL:https://www.rosinka.at/event/%d1%80%d0%be%d0%b1%d0%be%d1%82%d0%be%d1%82%d0%b5%d1%85%d0%bd%d0%b8%d0%ba%d0%b0-11-5/
END:VEVENT
BEGIN:VEVENT
DTSTART;TZID=Europe/Vienna:20190330T113000
DTEND;TZID=Europe/Vienna:20190330T123000
DTSTAMP:20260420T221918
CREATED:20190220T215515Z
LAST-MODIFIED:20190220T215515Z
UID:2582-1553945400-1553949000@www.rosinka.at
SUMMARY:РОБОТОТЕХНИКА (7-10)
DESCRIPTION:
URL:https://www.rosinka.at/event/%d1%80%d0%be%d0%b1%d0%be%d1%82%d0%be%d1%82%d0%b5%d1%85%d0%bd%d0%b8%d0%ba%d0%b0-7-10-5/
END:VEVENT
BEGIN:VEVENT
DTSTART;TZID=Europe/Vienna:20190330T110000
DTEND;TZID=Europe/Vienna:20190330T123000
DTSTAMP:20260420T221918
CREATED:20190318T220809Z
LAST-MODIFIED:20190318T220809Z
UID:2996-1553943600-1553949000@www.rosinka.at
SUMMARY:БЛОК I: ГОРОДЕЦ
DESCRIPTION:
URL:https://www.rosinka.at/event/%d0%b1%d0%bb%d0%be%d0%ba-i-%d0%b3%d0%be%d1%80%d0%be%d0%b4%d0%b5%d1%86/
END:VEVENT
BEGIN:VEVENT
DTSTART;TZID=Europe/Vienna:20190329T154500
DTEND;TZID=Europe/Vienna:20190329T173000
DTSTAMP:20260420T221918
CREATED:20190220T215448Z
LAST-MODIFIED:20190220T215448Z
UID:2580-1553874300-1553880600@www.rosinka.at
SUMMARY:ФАНТАЗЕРЫ (6-7)
DESCRIPTION:
URL:https://www.rosinka.at/event/%d1%84%d0%b0%d0%bd%d1%82%d0%b0%d0%b7%d0%b5%d1%80%d1%8b-6-7-6/
END:VEVENT
BEGIN:VEVENT
DTSTART;TZID=Europe/Vienna:20190328T163000
DTEND;TZID=Europe/Vienna:20190328T181500
DTSTAMP:20260420T221918
CREATED:20190220T215420Z
LAST-MODIFIED:20190220T215420Z
UID:2578-1553790600-1553796900@www.rosinka.at
SUMMARY:ЗВЕЗДОЧЕТЫ (7-8)
DESCRIPTION:
URL:https://www.rosinka.at/event/%d0%b7%d0%b2%d0%b5%d0%b7%d0%b4%d0%be%d1%87%d0%b5%d1%82%d1%8b-7-8-6/
END:VEVENT
BEGIN:VEVENT
DTSTART;TZID=Europe/Vienna:20190328T150000
DTEND;TZID=Europe/Vienna:20190328T163000
DTSTAMP:20260420T221918
CREATED:20190309T095001Z
LAST-MODIFIED:20190309T095001Z
UID:2740-1553785200-1553790600@www.rosinka.at
SUMMARY:ЖИВОПИСЬ (7-11)
DESCRIPTION:
URL:https://www.rosinka.at/event/%d0%b6%d0%b8%d0%b2%d0%be%d0%bf%d0%b8%d1%81%d1%8c-7-11-4/
END:VEVENT
BEGIN:VEVENT
DTSTART;TZID=Europe/Vienna:20190327T163000
DTEND;TZID=Europe/Vienna:20190327T173000
DTSTAMP:20260420T221918
CREATED:20190220T214528Z
LAST-MODIFIED:20190227T215004Z
UID:2563-1553704200-1553707800@www.rosinka.at
SUMMARY:ТЕАТРАЛЬНАЯ СТУДИЯ (3-4)
DESCRIPTION:
URL:https://www.rosinka.at/event/%d1%82%d0%b5%d0%b0%d1%82%d1%80%d0%b0%d0%bb%d1%8c%d0%bd%d0%b0%d1%8f-%d1%81%d1%82%d1%83%d0%b4%d0%b8%d1%8f-3-4/
LOCATION:Alte Poststraße 134\, 8020 Graz\, Alte Poststraße 134\, Graz\, 8020\, Austria
END:VEVENT
BEGIN:VEVENT
DTSTART;TZID=Europe/Vienna:20190327T160000
DTEND;TZID=Europe/Vienna:20190327T170000
DTSTAMP:20260420T221918
CREATED:20190219T155636Z
LAST-MODIFIED:20190220T214703Z
UID:2482-1553702400-1553706000@www.rosinka.at
SUMMARY:ЯКОРЕК (4-5)
DESCRIPTION:
URL:https://www.rosinka.at/event/%d1%8f%d0%ba%d0%be%d1%80%d0%b5%d0%ba-4-5/
END:VEVENT
BEGIN:VEVENT
DTSTART;TZID=Europe/Vienna:20190327T150000
DTEND;TZID=Europe/Vienna:20190327T160000
DTSTAMP:20260420T221918
CREATED:20190219T155609Z
LAST-MODIFIED:20190220T214745Z
UID:2480-1553698800-1553702400@www.rosinka.at
SUMMARY:СТУДИЯ ДИЗАЙНА
DESCRIPTION:
URL:https://www.rosinka.at/event/%d1%81%d1%82%d1%83%d0%b4%d0%b8%d1%8f-%d0%b4%d0%b8%d0%b7%d0%b0%d0%b9%d0%bd%d0%b0/
END:VEVENT
BEGIN:VEVENT
DTSTART;TZID=Europe/Vienna:20190326T163000
DTEND;TZID=Europe/Vienna:20190326T181500
DTSTAMP:20260420T221918
CREATED:20190219T155453Z
LAST-MODIFIED:20190220T214818Z
UID:2478-1553617800-1553624100@www.rosinka.at
SUMMARY:ЗОЛОТОЙ КЛЮЧИК (8-10)
DESCRIPTION:
URL:https://www.rosinka.at/event/%d0%b7%d0%be%d0%bb%d0%be%d1%82%d0%be%d0%b9-%d0%ba%d0%bb%d1%8e%d1%87%d0%b8%d0%ba-8-10/
END:VEVENT
BEGIN:VEVENT
DTSTART;TZID=Europe/Vienna:20190326T160000
DTEND;TZID=Europe/Vienna:20190326T170000
DTSTAMP:20260420T221918
CREATED:20190219T155807Z
LAST-MODIFIED:20190318T192024Z
UID:2486-1553616000-1553619600@www.rosinka.at
SUMMARY:СВЕТЛЯЧКИ (1\,5-3)
DESCRIPTION:
URL:https://www.rosinka.at/event/15-3/
END:VEVENT
END:VCALENDAR