BEGIN:VCALENDAR
VERSION:2.0
PRODID:-//Rosinka - ECPv6.15.20//NONSGML v1.0//EN
CALSCALE:GREGORIAN
METHOD:PUBLISH
X-WR-CALNAME:Rosinka
X-ORIGINAL-URL:https://www.rosinka.at
X-WR-CALDESC:Мероприятия для Rosinka
REFRESH-INTERVAL;VALUE=DURATION:PT1H
X-Robots-Tag:noindex
X-PUBLISHED-TTL:PT1H
BEGIN:VTIMEZONE
TZID:Europe/Vienna
BEGIN:DAYLIGHT
TZOFFSETFROM:+0100
TZOFFSETTO:+0200
TZNAME:CEST
DTSTART:20180325T010000
END:DAYLIGHT
BEGIN:STANDARD
TZOFFSETFROM:+0200
TZOFFSETTO:+0100
TZNAME:CET
DTSTART:20181028T010000
END:STANDARD
BEGIN:DAYLIGHT
TZOFFSETFROM:+0100
TZOFFSETTO:+0200
TZNAME:CEST
DTSTART:20190331T010000
END:DAYLIGHT
BEGIN:STANDARD
TZOFFSETFROM:+0200
TZOFFSETTO:+0100
TZNAME:CET
DTSTART:20191027T010000
END:STANDARD
BEGIN:DAYLIGHT
TZOFFSETFROM:+0100
TZOFFSETTO:+0200
TZNAME:CEST
DTSTART:20200329T010000
END:DAYLIGHT
BEGIN:STANDARD
TZOFFSETFROM:+0200
TZOFFSETTO:+0100
TZNAME:CET
DTSTART:20201025T010000
END:STANDARD
END:VTIMEZONE
BEGIN:VEVENT
DTSTART;TZID=Europe/Vienna:20191107T151500
DTEND;TZID=Europe/Vienna:20191107T164500
DTSTAMP:20260422T013654
CREATED:20191022T202913Z
LAST-MODIFIED:20191022T202913Z
UID:3538-1573139700-1573145100@www.rosinka.at
SUMMARY:БУКВОЕЖКИ (4-5)
DESCRIPTION:
URL:https://www.rosinka.at/event/%d0%b1%d1%83%d0%ba%d0%b2%d0%be%d0%b5%d0%b6%d0%ba%d0%b8-4-5/
END:VEVENT
BEGIN:VEVENT
DTSTART;TZID=Europe/Vienna:20191107T163000
DTEND;TZID=Europe/Vienna:20191107T181500
DTSTAMP:20260422T013654
CREATED:20191022T202956Z
LAST-MODIFIED:20191022T202956Z
UID:3540-1573144200-1573150500@www.rosinka.at
SUMMARY:ФАНТАЗЕРЫ (7-8)
DESCRIPTION:
URL:https://www.rosinka.at/event/%d1%84%d0%b0%d0%bd%d1%82%d0%b0%d0%b7%d0%b5%d1%80%d1%8b-7-8-7/
END:VEVENT
BEGIN:VEVENT
DTSTART;TZID=Europe/Vienna:20191108T160000
DTEND;TZID=Europe/Vienna:20191108T174500
DTSTAMP:20260422T013654
CREATED:20191022T203041Z
LAST-MODIFIED:20191022T203041Z
UID:3542-1573228800-1573235100@www.rosinka.at
SUMMARY:ЗВЕЗДОЧЕТЫ (8-9)
DESCRIPTION:
URL:https://www.rosinka.at/event/%d0%b7%d0%b2%d0%b5%d0%b7%d0%b4%d0%be%d1%87%d0%b5%d1%82%d1%8b-8-9-6/
END:VEVENT
BEGIN:VEVENT
DTSTART;TZID=Europe/Vienna:20191111T152000
DTEND;TZID=Europe/Vienna:20191111T165000
DTSTAMP:20260422T013654
CREATED:20191022T203204Z
LAST-MODIFIED:20191022T203204Z
UID:3544-1573485600-1573491000@www.rosinka.at
SUMMARY:Музыкальное развитие (4-6) // КАПЕЛЬКИ
DESCRIPTION:
URL:https://www.rosinka.at/event/%d0%bc%d1%83%d0%b7%d1%8b%d0%ba%d0%b0%d0%bb%d1%8c%d0%bd%d0%be%d0%b5-%d1%80%d0%b0%d0%b7%d0%b2%d0%b8%d1%82%d0%b8%d0%b5-4-6-%d0%ba%d0%b0%d0%bf%d0%b5%d0%bb%d1%8c%d0%ba%d0%b8-6/
END:VEVENT
BEGIN:VEVENT
DTSTART;TZID=Europe/Vienna:20191111T163000
DTEND;TZID=Europe/Vienna:20191111T181500
DTSTAMP:20260422T013654
CREATED:20191022T203253Z
LAST-MODIFIED:20191022T203253Z
UID:3546-1573489800-1573496100@www.rosinka.at
SUMMARY:ЗОЛОТОЙ КЛЮЧИК (9-11)
DESCRIPTION:
URL:https://www.rosinka.at/event/%d0%b7%d0%be%d0%bb%d0%be%d1%82%d0%be%d0%b9-%d0%ba%d0%bb%d1%8e%d1%87%d0%b8%d0%ba-9-11-6/
END:VEVENT
BEGIN:VEVENT
DTSTART;TZID=Europe/Vienna:20191112T150000
DTEND;TZID=Europe/Vienna:20191112T160000
DTSTAMP:20260422T013654
CREATED:20191022T203336Z
LAST-MODIFIED:20191022T203336Z
UID:3548-1573570800-1573574400@www.rosinka.at
SUMMARY:СВЕТЛЯЧКИ (1\,5-3)
DESCRIPTION:
URL:https://www.rosinka.at/event/%d1%81%d0%b2%d0%b5%d1%82%d0%bb%d1%8f%d1%87%d0%ba%d0%b8-15-3-13/
END:VEVENT
BEGIN:VEVENT
DTSTART;TZID=Europe/Vienna:20191112T163000
DTEND;TZID=Europe/Vienna:20191112T173000
DTSTAMP:20260422T013654
CREATED:20191022T203417Z
LAST-MODIFIED:20191108T202723Z
UID:3550-1573576200-1573579800@www.rosinka.at
SUMMARY:ЛУЧИКИ (3+)
DESCRIPTION:
URL:https://www.rosinka.at/event/%d1%81%d0%b2%d0%b5%d1%82%d0%bb%d1%8f%d1%87%d0%ba%d0%b8-3-9/
END:VEVENT
BEGIN:VEVENT
DTSTART;TZID=Europe/Vienna:20191113T154500
DTEND;TZID=Europe/Vienna:20191113T173000
DTSTAMP:20260422T013654
CREATED:20191022T203620Z
LAST-MODIFIED:20191022T203620Z
UID:3552-1573659900-1573666200@www.rosinka.at
SUMMARY:ЯКОРЕК (5-6) подгруппа I
DESCRIPTION:
URL:https://www.rosinka.at/event/%d1%8f%d0%ba%d0%be%d1%80%d0%b5%d0%ba-5-6-%d0%bf%d0%be%d0%b4%d0%b3%d1%80%d1%83%d0%bf%d0%bf%d0%b0-i-6/
END:VEVENT
BEGIN:VEVENT
DTSTART;TZID=Europe/Vienna:20191113T163000
DTEND;TZID=Europe/Vienna:20191113T173000
DTSTAMP:20260422T013654
CREATED:20191022T203912Z
LAST-MODIFIED:20191022T203912Z
UID:3558-1573662600-1573666200@www.rosinka.at
SUMMARY:ТЕАТРАЛЬНЫЙ КРУЖОК (3-4+)
DESCRIPTION:
URL:https://www.rosinka.at/event/%d1%82%d0%b5%d0%b0%d1%82%d1%80%d0%b0%d0%bb%d1%8c%d0%bd%d1%8b%d0%b9-%d0%ba%d1%80%d1%83%d0%b6%d0%be%d0%ba-3-4-22/
LOCATION:Alte Poststraße 134\, 8020 Graz\, Alte Poststraße 134\, Graz\, 8020\, Austria
END:VEVENT
BEGIN:VEVENT
DTSTART;TZID=Europe/Vienna:20191113T163000
DTEND;TZID=Europe/Vienna:20191113T181500
DTSTAMP:20260422T013654
CREATED:20191022T203704Z
LAST-MODIFIED:20191022T203704Z
UID:3554-1573662600-1573668900@www.rosinka.at
SUMMARY:ЯКОРЕК (5-6) подгруппа II
DESCRIPTION:
URL:https://www.rosinka.at/event/%d1%8f%d0%ba%d0%be%d1%80%d0%b5%d0%ba-5-6-%d0%bf%d0%be%d0%b4%d0%b3%d1%80%d1%83%d0%bf%d0%bf%d0%b0-ii-7/
END:VEVENT
BEGIN:VEVENT
DTSTART;TZID=Europe/Vienna:20191114T151500
DTEND;TZID=Europe/Vienna:20191114T163000
DTSTAMP:20260422T013654
CREATED:20191022T204103Z
LAST-MODIFIED:20191022T204103Z
UID:3562-1573744500-1573749000@www.rosinka.at
SUMMARY:БУКВОЕЖКИ (4-5)
DESCRIPTION:
URL:https://www.rosinka.at/event/%d0%b1%d1%83%d0%ba%d0%b2%d0%be%d0%b5%d0%b6%d0%ba%d0%b8-4-5-2/
END:VEVENT
BEGIN:VEVENT
DTSTART;TZID=Europe/Vienna:20191114T151500
DTEND;TZID=Europe/Vienna:20191114T164500
DTSTAMP:20260422T013654
CREATED:20191022T204005Z
LAST-MODIFIED:20191022T204005Z
UID:3560-1573744500-1573749900@www.rosinka.at
SUMMARY:ЖИВОПИСЬ (7-11)
DESCRIPTION:
URL:https://www.rosinka.at/event/%d0%b6%d0%b8%d0%b2%d0%be%d0%bf%d0%b8%d1%81%d1%8c-7-11-22/
END:VEVENT
BEGIN:VEVENT
DTSTART;TZID=Europe/Vienna:20191114T163000
DTEND;TZID=Europe/Vienna:20191114T181500
DTSTAMP:20260422T013654
CREATED:20191022T204211Z
LAST-MODIFIED:20191022T204211Z
UID:3564-1573749000-1573755300@www.rosinka.at
SUMMARY:ФАНТАЗЕРЫ (7-8)
DESCRIPTION:
URL:https://www.rosinka.at/event/%d1%84%d0%b0%d0%bd%d1%82%d0%b0%d0%b7%d0%b5%d1%80%d1%8b-7-8-8/
END:VEVENT
BEGIN:VEVENT
DTSTART;TZID=Europe/Vienna:20191115T160000
DTEND;TZID=Europe/Vienna:20191115T174500
DTSTAMP:20260422T013654
CREATED:20191022T204250Z
LAST-MODIFIED:20191022T204250Z
UID:3566-1573833600-1573839900@www.rosinka.at
SUMMARY:ЗВЕЗДОЧЕТЫ (8-9)
DESCRIPTION:
URL:https://www.rosinka.at/event/%d0%b7%d0%b2%d0%b5%d0%b7%d0%b4%d0%be%d1%87%d0%b5%d1%82%d1%8b-8-9-7/
END:VEVENT
BEGIN:VEVENT
DTSTART;TZID=Europe/Vienna:20191115T161500
DTEND;TZID=Europe/Vienna:20191115T171500
DTSTAMP:20260422T013654
CREATED:20191029T211749Z
LAST-MODIFIED:20191104T082112Z
UID:3627-1573834500-1573838100@www.rosinka.at
SUMMARY:ЖИВОПИСЬ (4-6)
DESCRIPTION:
URL:https://www.rosinka.at/event/%d0%b6%d0%b8%d0%b2%d0%be%d0%bf%d0%b8%d1%81%d1%8c-4-6-19/
END:VEVENT
BEGIN:VEVENT
DTSTART;TZID=Europe/Vienna:20191118T152000
DTEND;TZID=Europe/Vienna:20191118T165000
DTSTAMP:20260422T013654
CREATED:20191022T204407Z
LAST-MODIFIED:20191022T204407Z
UID:3568-1574090400-1574095800@www.rosinka.at
SUMMARY:Музыкальное развитие (4-6) // КАПЕЛЬКИ
DESCRIPTION:
URL:https://www.rosinka.at/event/%d0%bc%d1%83%d0%b7%d1%8b%d0%ba%d0%b0%d0%bb%d1%8c%d0%bd%d0%be%d0%b5-%d1%80%d0%b0%d0%b7%d0%b2%d0%b8%d1%82%d0%b8%d0%b5-4-6-%d0%ba%d0%b0%d0%bf%d0%b5%d0%bb%d1%8c%d0%ba%d0%b8-7/
END:VEVENT
BEGIN:VEVENT
DTSTART;TZID=Europe/Vienna:20191118T163000
DTEND;TZID=Europe/Vienna:20191118T181500
DTSTAMP:20260422T013654
CREATED:20191022T204456Z
LAST-MODIFIED:20191022T204456Z
UID:3570-1574094600-1574100900@www.rosinka.at
SUMMARY:ЗОЛОТОЙ КЛЮЧИК (9-11)
DESCRIPTION:
URL:https://www.rosinka.at/event/%d0%b7%d0%be%d0%bb%d0%be%d1%82%d0%be%d0%b9-%d0%ba%d0%bb%d1%8e%d1%87%d0%b8%d0%ba-9-11-7/
END:VEVENT
BEGIN:VEVENT
DTSTART;TZID=Europe/Vienna:20191119T150000
DTEND;TZID=Europe/Vienna:20191119T160000
DTSTAMP:20260422T013654
CREATED:20191022T204532Z
LAST-MODIFIED:20191022T204532Z
UID:3572-1574175600-1574179200@www.rosinka.at
SUMMARY:СВЕТЛЯЧКИ (1\,5-3)
DESCRIPTION:
URL:https://www.rosinka.at/event/%d1%81%d0%b2%d0%b5%d1%82%d0%bb%d1%8f%d1%87%d0%ba%d0%b8-15-3-14/
END:VEVENT
BEGIN:VEVENT
DTSTART;TZID=Europe/Vienna:20191119T163000
DTEND;TZID=Europe/Vienna:20191119T173000
DTSTAMP:20260422T013654
CREATED:20191022T204604Z
LAST-MODIFIED:20191108T202702Z
UID:3574-1574181000-1574184600@www.rosinka.at
SUMMARY:ЛУЧИКИ (3+)
DESCRIPTION:
URL:https://www.rosinka.at/event/%d1%81%d0%b2%d0%b5%d1%82%d0%bb%d1%8f%d1%87%d0%ba%d0%b8-3-10/
END:VEVENT
BEGIN:VEVENT
DTSTART;TZID=Europe/Vienna:20191120T154500
DTEND;TZID=Europe/Vienna:20191120T173000
DTSTAMP:20260422T013654
CREATED:20191022T204653Z
LAST-MODIFIED:20191022T204653Z
UID:3576-1574264700-1574271000@www.rosinka.at
SUMMARY:ЯКОЕК (5-6) подгруппа I
DESCRIPTION:
URL:https://www.rosinka.at/event/%d1%8f%d0%ba%d0%be%d1%80%d0%b5%d0%ba-5-6-%d0%bf%d0%be%d0%b4%d0%b3%d1%80%d1%83%d0%bf%d0%bf%d0%b0-i-7/
END:VEVENT
BEGIN:VEVENT
DTSTART;TZID=Europe/Vienna:20191120T160000
DTEND;TZID=Europe/Vienna:20191120T170000
DTSTAMP:20260422T013654
CREATED:20191022T204809Z
LAST-MODIFIED:20191022T204809Z
UID:3580-1574265600-1574269200@www.rosinka.at
SUMMARY:ЖИВОПИСЬ (4-6)
DESCRIPTION:
URL:https://www.rosinka.at/event/%d0%b6%d0%b8%d0%b2%d0%be%d0%bf%d0%b8%d1%81%d1%8c-4-6-22/
END:VEVENT
BEGIN:VEVENT
DTSTART;TZID=Europe/Vienna:20191120T163000
DTEND;TZID=Europe/Vienna:20191120T181500
DTSTAMP:20260422T013654
CREATED:20191022T204738Z
LAST-MODIFIED:20191022T204738Z
UID:3578-1574267400-1574273700@www.rosinka.at
SUMMARY:ЯКОРЕК (5-6) подгруппа II
DESCRIPTION:
URL:https://www.rosinka.at/event/%d1%8f%d0%ba%d0%be%d1%80%d0%b5%d0%ba-5-6-%d0%bf%d0%be%d0%b4%d0%b3%d1%80%d1%83%d0%bf%d0%bf%d0%b0-ii-8/
END:VEVENT
BEGIN:VEVENT
DTSTART;TZID=Europe/Vienna:20191121T151500
DTEND;TZID=Europe/Vienna:20191121T163000
DTSTAMP:20260422T013654
CREATED:20191022T205013Z
LAST-MODIFIED:20191022T205013Z
UID:3586-1574349300-1574353800@www.rosinka.at
SUMMARY:БУКВОЕЖКИ (4-5)
DESCRIPTION:
URL:https://www.rosinka.at/event/%d0%b1%d1%83%d0%ba%d0%b2%d0%be%d0%b5%d0%b6%d0%ba%d0%b8-4-5-3/
END:VEVENT
BEGIN:VEVENT
DTSTART;TZID=Europe/Vienna:20191121T151500
DTEND;TZID=Europe/Vienna:20191121T164500
DTSTAMP:20260422T013654
CREATED:20191022T204942Z
LAST-MODIFIED:20191022T204942Z
UID:3584-1574349300-1574354700@www.rosinka.at
SUMMARY:ЖИВОПИСЬ (7-11)
DESCRIPTION:
URL:https://www.rosinka.at/event/%d0%b6%d0%b8%d0%b2%d0%be%d0%bf%d0%b8%d1%81%d1%8c-7-11-23/
END:VEVENT
BEGIN:VEVENT
DTSTART;TZID=Europe/Vienna:20191121T163000
DTEND;TZID=Europe/Vienna:20191121T173000
DTSTAMP:20260422T013654
CREATED:20191022T204855Z
LAST-MODIFIED:20191121T161335Z
UID:3582-1574353800-1574357400@www.rosinka.at
SUMMARY:ТЕАТРАЛЬНЫЙ КРУЖОК (3-4+)
DESCRIPTION:
URL:https://www.rosinka.at/event/%d1%82%d0%b5%d0%b0%d1%82%d1%80%d0%b0%d0%bb%d1%8c%d0%bd%d1%8b%d0%b9-%d0%ba%d1%80%d1%83%d0%b6%d0%be%d0%ba-3-4-23/
LOCATION:Alte Poststraße 134\, 8020 Graz\, Alte Poststraße 134\, Graz\, 8020\, Austria
END:VEVENT
BEGIN:VEVENT
DTSTART;TZID=Europe/Vienna:20191121T163000
DTEND;TZID=Europe/Vienna:20191121T181500
DTSTAMP:20260422T013654
CREATED:20191022T205047Z
LAST-MODIFIED:20191022T205047Z
UID:3588-1574353800-1574360100@www.rosinka.at
SUMMARY:ФАНТАЗЕРЫ (7-8)
DESCRIPTION:
URL:https://www.rosinka.at/event/%d1%84%d0%b0%d0%bd%d1%82%d0%b0%d0%b7%d0%b5%d1%80%d1%8b-7-8-9/
END:VEVENT
BEGIN:VEVENT
DTSTART;TZID=Europe/Vienna:20191122T160000
DTEND;TZID=Europe/Vienna:20191122T174500
DTSTAMP:20260422T013654
CREATED:20191022T205126Z
LAST-MODIFIED:20191022T205126Z
UID:3590-1574438400-1574444700@www.rosinka.at
SUMMARY:ЗВЕЗДОЧЕТЫ (8-9)
DESCRIPTION:
URL:https://www.rosinka.at/event/%d0%b7%d0%b2%d0%b5%d0%b7%d0%b4%d0%be%d1%87%d0%b5%d1%82%d1%8b-8-9-8/
END:VEVENT
BEGIN:VEVENT
DTSTART;TZID=Europe/Vienna:20191122T161500
DTEND;TZID=Europe/Vienna:20191122T171500
DTSTAMP:20260422T013654
CREATED:20200204T144500Z
LAST-MODIFIED:20200204T144500Z
UID:4146-1574439300-1574442900@www.rosinka.at
SUMMARY:ЖИВОПИСЬ (4-6)
DESCRIPTION:
URL:https://www.rosinka.at/event/%d0%b6%d0%b8%d0%b2%d0%be%d0%bf%d0%b8%d1%81%d1%8c-4-6-16/
END:VEVENT
BEGIN:VEVENT
DTSTART;TZID=Europe/Vienna:20191125T152000
DTEND;TZID=Europe/Vienna:20191125T165000
DTSTAMP:20260422T013654
CREATED:20191022T205228Z
LAST-MODIFIED:20191022T205228Z
UID:3592-1574695200-1574700600@www.rosinka.at
SUMMARY:Музыкальное развитие (4-6) // КАПЕЛЬКИ
DESCRIPTION:
URL:https://www.rosinka.at/event/%d0%bc%d1%83%d0%b7%d1%8b%d0%ba%d0%b0%d0%bb%d1%8c%d0%bd%d0%be%d0%b5-%d1%80%d0%b0%d0%b7%d0%b2%d0%b8%d1%82%d0%b8%d0%b5-4-6-%d0%ba%d0%b0%d0%bf%d0%b5%d0%bb%d1%8c%d0%ba%d0%b8-8/
END:VEVENT
BEGIN:VEVENT
DTSTART;TZID=Europe/Vienna:20191125T163000
DTEND;TZID=Europe/Vienna:20191125T181500
DTSTAMP:20260422T013654
CREATED:20191022T205317Z
LAST-MODIFIED:20191022T205317Z
UID:3594-1574699400-1574705700@www.rosinka.at
SUMMARY:ЗОЛОТОЙ КЛЮЧИК (9-11)
DESCRIPTION:
URL:https://www.rosinka.at/event/%d0%b7%d0%be%d0%bb%d0%be%d1%82%d0%be%d0%b9-%d0%ba%d0%bb%d1%8e%d1%87%d0%b8%d0%ba-9-11-8/
END:VEVENT
END:VCALENDAR