BEGIN:VCALENDAR
VERSION:2.0
PRODID:-//Rosinka - ECPv6.15.20//NONSGML v1.0//EN
CALSCALE:GREGORIAN
METHOD:PUBLISH
X-ORIGINAL-URL:https://www.rosinka.at
X-WR-CALDESC:Мероприятия для Rosinka
REFRESH-INTERVAL;VALUE=DURATION:PT1H
X-Robots-Tag:noindex
X-PUBLISHED-TTL:PT1H
BEGIN:VTIMEZONE
TZID:Europe/Vienna
BEGIN:DAYLIGHT
TZOFFSETFROM:+0100
TZOFFSETTO:+0200
TZNAME:CEST
DTSTART:20200329T010000
END:DAYLIGHT
BEGIN:STANDARD
TZOFFSETFROM:+0200
TZOFFSETTO:+0100
TZNAME:CET
DTSTART:20201025T010000
END:STANDARD
BEGIN:DAYLIGHT
TZOFFSETFROM:+0100
TZOFFSETTO:+0200
TZNAME:CEST
DTSTART:20210328T010000
END:DAYLIGHT
BEGIN:STANDARD
TZOFFSETFROM:+0200
TZOFFSETTO:+0100
TZNAME:CET
DTSTART:20211031T010000
END:STANDARD
BEGIN:DAYLIGHT
TZOFFSETFROM:+0100
TZOFFSETTO:+0200
TZNAME:CEST
DTSTART:20220327T010000
END:DAYLIGHT
BEGIN:STANDARD
TZOFFSETFROM:+0200
TZOFFSETTO:+0100
TZNAME:CET
DTSTART:20221030T010000
END:STANDARD
END:VTIMEZONE
BEGIN:VEVENT
DTSTART;TZID=Europe/Vienna:20210408T163000
DTEND;TZID=Europe/Vienna:20210408T181000
DTSTAMP:20260421T021821
CREATED:20210405T170711Z
LAST-MODIFIED:20210407T072132Z
UID:6011-1617899400-1617905400@www.rosinka.at
SUMMARY:ФАНТАЗЕРЫ (8-9)
DESCRIPTION:
URL:https://www.rosinka.at/event/%d1%84%d0%b0%d0%bd%d1%82%d0%b0%d0%b7%d0%b5%d1%80%d1%8b-8-9-3/2021-04-08/
END:VEVENT
BEGIN:VEVENT
DTSTART;TZID=Europe/Vienna:20210407T163000
DTEND;TZID=Europe/Vienna:20210407T180000
DTSTAMP:20260421T021821
CREATED:20210405T170941Z
LAST-MODIFIED:20210405T174753Z
UID:6039-1617813000-1617818400@www.rosinka.at
SUMMARY:ЯКОРЕК (6-7)
DESCRIPTION:
URL:https://www.rosinka.at/event/%d1%8f%d0%ba%d0%be%d1%80%d0%b5%d0%ba-6-7-3/2021-04-07/
END:VEVENT
BEGIN:VEVENT
DTSTART;TZID=Europe/Vienna:20210407T163000
DTEND;TZID=Europe/Vienna:20210407T173000
DTSTAMP:20260421T021821
CREATED:20210405T170826Z
LAST-MODIFIED:20210405T170826Z
UID:6025-1617813000-1617816600@www.rosinka.at
SUMMARY:ЯКОРЕК ОНЛАЙН (6-7)
DESCRIPTION:
URL:https://www.rosinka.at/event/%d1%8f%d0%ba%d0%be%d1%80%d0%b5%d0%ba-%d0%be%d0%bd%d0%bb%d0%b0%d0%b9%d0%bd-6-7/2021-04-07/
END:VEVENT
BEGIN:VEVENT
DTSTART;TZID=Europe/Vienna:20210407T161500
DTEND;TZID=Europe/Vienna:20210407T171500
DTSTAMP:20260421T021821
CREATED:20210405T171134Z
LAST-MODIFIED:20210414T092045Z
UID:6065-1617812100-1617815700@www.rosinka.at
SUMMARY:ЖИВОПИСЬ (6-8)
DESCRIPTION:
URL:https://www.rosinka.at/event/%d0%b6%d0%b8%d0%b2%d0%be%d0%bf%d0%b8%d1%81%d1%8c-6-8-2/2021-04-07/
END:VEVENT
BEGIN:VEVENT
DTSTART;TZID=Europe/Vienna:20210406T164500
DTEND;TZID=Europe/Vienna:20210406T181500
DTSTAMP:20260421T021821
CREATED:20210405T170511Z
LAST-MODIFIED:20210405T170511Z
UID:5997-1617727500-1617732900@www.rosinka.at
SUMMARY:ЗВЕЗДОЧЕТЫ (9-10)
DESCRIPTION:
URL:https://www.rosinka.at/event/%d0%b7%d0%b2%d0%b5%d0%b7%d0%b4%d0%be%d1%87%d0%b5%d1%82%d1%8b-9-10-3/2021-04-06/
END:VEVENT
BEGIN:VEVENT
DTSTART;TZID=Europe/Vienna:20210406T150000
DTEND;TZID=Europe/Vienna:20210406T163000
DTSTAMP:20260421T021821
CREATED:20210405T170318Z
LAST-MODIFIED:20210405T170318Z
UID:5983-1617721200-1617726600@www.rosinka.at
SUMMARY:ЗОЛОТОЙ КЛЮЧИК (10-12)
DESCRIPTION:
URL:https://www.rosinka.at/event/%d0%b7%d0%be%d0%bb%d0%be%d1%82%d0%be%d0%b9-%d0%ba%d0%bb%d1%8e%d1%87%d0%b8%d0%ba-10-12-3/2021-04-06/
END:VEVENT
BEGIN:VEVENT
DTSTART;VALUE=DATE:20210327
DTEND;VALUE=DATE:20210406
DTSTAMP:20260421T021821
CREATED:20200910T211914Z
LAST-MODIFIED:20200910T211914Z
UID:5129-1616803200-1617667199@www.rosinka.at
SUMMARY:ПАСХАЛЬНЫЕ КАНИКУЛЫ
DESCRIPTION:
URL:https://www.rosinka.at/event/%d0%bf%d0%b0%d1%81%d1%85%d0%b0%d0%bb%d1%8c%d0%bd%d1%8b%d0%b5-%d0%ba%d0%b0%d0%bd%d0%b8%d0%ba%d1%83%d0%bb%d1%8b-4/
END:VEVENT
BEGIN:VEVENT
DTSTART;TZID=Europe/Vienna:20210319T163000
DTEND;TZID=Europe/Vienna:20210319T171500
DTSTAMP:20260421T021821
CREATED:20210213T111647Z
LAST-MODIFIED:20210318T141001Z
UID:5933-1616171400-1616174100@www.rosinka.at
SUMMARY:ЗНАЙЧИКИ (4-5)
DESCRIPTION:
URL:https://www.rosinka.at/event/%d0%b7%d0%bd%d0%b0%d0%b9%d1%87%d0%b8%d0%ba%d0%b8-4-5-2-2021-03-19/
END:VEVENT
BEGIN:VEVENT
DTSTART;TZID=Europe/Vienna:20210220T101500
DTEND;TZID=Europe/Vienna:20210220T111500
DTSTAMP:20260421T021821
CREATED:20210213T111743Z
LAST-MODIFIED:20210213T111911Z
UID:5936-1613816100-1613819700@www.rosinka.at
SUMMARY:РОБОТОТЕХНИКА
DESCRIPTION:
URL:https://www.rosinka.at/event/%d1%80%d0%be%d0%b1%d0%be%d1%82%d0%be%d1%82%d0%b5%d1%85%d0%bd%d0%b8%d0%ba%d0%b0-3/2021-02-20/
END:VEVENT
BEGIN:VEVENT
DTSTART;TZID=Europe/Vienna:20210219T163000
DTEND;TZID=Europe/Vienna:20210219T171500
DTSTAMP:20260421T021821
CREATED:20210213T111647Z
LAST-MODIFIED:20210213T112338Z
UID:5928-1613752200-1613754900@www.rosinka.at
SUMMARY:ЗНАЙЧИКИ (4-5)
DESCRIPTION:
URL:https://www.rosinka.at/event/%d0%b7%d0%bd%d0%b0%d0%b9%d1%87%d0%b8%d0%ba%d0%b8-4-5-2/2021-02-19/
END:VEVENT
BEGIN:VEVENT
DTSTART;TZID=Europe/Vienna:20210218T164500
DTEND;TZID=Europe/Vienna:20210218T182500
DTSTAMP:20260421T021821
CREATED:20210213T111544Z
LAST-MODIFIED:20210213T112233Z
UID:5920-1613666700-1613672700@www.rosinka.at
SUMMARY:ФАНТАЗЕРЫ (8-9)
DESCRIPTION:
URL:https://www.rosinka.at/event/%d1%84%d0%b0%d0%bd%d1%82%d0%b0%d0%b7%d0%b5%d1%80%d1%8b-8-9-2/2021-02-18/
END:VEVENT
BEGIN:VEVENT
DTSTART;TZID=Europe/Vienna:20210218T151500
DTEND;TZID=Europe/Vienna:20210218T161500
DTSTAMP:20260421T021821
CREATED:20210213T111426Z
LAST-MODIFIED:20210213T112157Z
UID:5912-1613661300-1613664900@www.rosinka.at
SUMMARY:БУКВОЕЖКИ (5-6)
DESCRIPTION:
URL:https://www.rosinka.at/event/%d0%b1%d1%83%d0%ba%d0%b2%d0%be%d0%b5%d0%b6%d0%ba%d0%b8-5-6-2/2021-02-18/
END:VEVENT
BEGIN:VEVENT
DTSTART;TZID=Europe/Vienna:20210217T163000
DTEND;TZID=Europe/Vienna:20210217T173000
DTSTAMP:20260421T021821
CREATED:20210213T111233Z
LAST-MODIFIED:20210213T112122Z
UID:5904-1613579400-1613583000@www.rosinka.at
SUMMARY:ЯКОРЕК (6-7)
DESCRIPTION:
URL:https://www.rosinka.at/event/%d1%8f%d0%ba%d0%be%d1%80%d0%b5%d0%ba-6-7-2/2021-02-17/
END:VEVENT
BEGIN:VEVENT
DTSTART;TZID=Europe/Vienna:20210216T160000
DTEND;TZID=Europe/Vienna:20210216T173000
DTSTAMP:20260421T021821
CREATED:20210213T111137Z
LAST-MODIFIED:20210213T112050Z
UID:5896-1613491200-1613496600@www.rosinka.at
SUMMARY:ЗВЕЗДОЧЕТЫ (9-10)
DESCRIPTION:
URL:https://www.rosinka.at/event/%d0%b7%d0%b2%d0%b5%d0%b7%d0%b4%d0%be%d1%87%d0%b5%d1%82%d1%8b-9-10-2/2021-02-16/
END:VEVENT
BEGIN:VEVENT
DTSTART;TZID=Europe/Vienna:20210215T160000
DTEND;TZID=Europe/Vienna:20210215T173000
DTSTAMP:20260421T021821
CREATED:20210213T111022Z
LAST-MODIFIED:20210213T112012Z
UID:5888-1613404800-1613410200@www.rosinka.at
SUMMARY:ЗОЛОТОЙ КЛЮЧИК (10-12)
DESCRIPTION:
URL:https://www.rosinka.at/event/%d0%b7%d0%be%d0%bb%d0%be%d1%82%d0%be%d0%b9-%d0%ba%d0%bb%d1%8e%d1%87%d0%b8%d0%ba-10-12-2/2021-02-15/
END:VEVENT
BEGIN:VEVENT
DTSTART;VALUE=DATE:20210207
DTEND;VALUE=DATE:20210215
DTSTAMP:20260421T021821
CREATED:20200910T211830Z
LAST-MODIFIED:20210126T093850Z
UID:5127-1612656000-1613347199@www.rosinka.at
SUMMARY:ЗИМНИЕ КАНИКУЛЫ
DESCRIPTION:
URL:https://www.rosinka.at/event/%d0%b7%d0%b8%d0%bc%d0%bd%d0%b8%d0%b5-%d0%ba%d0%b0%d0%bd%d0%b8%d0%ba%d1%83%d0%bb%d1%8b-4/
END:VEVENT
BEGIN:VEVENT
DTSTART;TZID=Europe/Vienna:20210205T163000
DTEND;TZID=Europe/Vienna:20210205T171500
DTSTAMP:20260421T021821
CREATED:20200928T051657Z
LAST-MODIFIED:20210126T093304Z
UID:5553-1612542600-1612545300@www.rosinka.at
SUMMARY:ЗНАЙЧИКИ (4-5)
DESCRIPTION:
URL:https://www.rosinka.at/event/%d0%b7%d0%bd%d0%b0%d0%b9%d1%87%d0%b8%d0%ba%d0%b8-4-5-2021-02-05/
END:VEVENT
BEGIN:VEVENT
DTSTART;TZID=Europe/Vienna:20210204T151500
DTEND;TZID=Europe/Vienna:20210204T161500
DTSTAMP:20260421T021821
CREATED:20200918T212015Z
LAST-MODIFIED:20210126T093205Z
UID:5366-1612451700-1612455300@www.rosinka.at
SUMMARY:БУКВОЕЖКИ (5-6)
DESCRIPTION:
URL:https://www.rosinka.at/event/%d0%b1%d1%83%d0%ba%d0%b2%d0%be%d0%b5%d0%b6%d0%ba%d0%b8-5-6-2021-02-04/
END:VEVENT
BEGIN:VEVENT
DTSTART;TZID=Europe/Vienna:20210203T163000
DTEND;TZID=Europe/Vienna:20210203T173000
DTSTAMP:20260421T021821
CREATED:20200918T211242Z
LAST-MODIFIED:20210126T093135Z
UID:5341-1612369800-1612373400@www.rosinka.at
SUMMARY:ЯКОРЕК (6-7)
DESCRIPTION:
URL:https://www.rosinka.at/event/%d1%8f%d0%ba%d0%be%d1%80%d0%b5%d0%ba-6-7-2021-02-03/
END:VEVENT
BEGIN:VEVENT
DTSTART;TZID=Europe/Vienna:20210202T160000
DTEND;TZID=Europe/Vienna:20210202T173000
DTSTAMP:20260421T021821
CREATED:20200918T210850Z
LAST-MODIFIED:20210126T092954Z
UID:5315-1612281600-1612287000@www.rosinka.at
SUMMARY:ЗВЕЗДОЧЕТЫ (9-10)
DESCRIPTION:
URL:https://www.rosinka.at/event/%d0%b7%d0%b2%d0%b5%d0%b7%d0%b4%d0%be%d1%87%d0%b5%d1%82%d1%8b-9-10-2021-02-02/
END:VEVENT
BEGIN:VEVENT
DTSTART;TZID=Europe/Vienna:20210201T153000
DTEND;TZID=Europe/Vienna:20210201T170000
DTSTAMP:20260421T021821
CREATED:20200918T210400Z
LAST-MODIFIED:20210126T092900Z
UID:5289-1612193400-1612198800@www.rosinka.at
SUMMARY:ЗОЛОТОЙ КЛЮЧИК (10-12)
DESCRIPTION:
URL:https://www.rosinka.at/event/%d0%b7%d0%be%d0%bb%d0%be%d1%82%d0%be%d0%b9-%d0%ba%d0%bb%d1%8e%d1%87%d0%b8%d0%ba-10-12-2021-02-02/
END:VEVENT
BEGIN:VEVENT
DTSTART;TZID=Europe/Vienna:20210129T163000
DTEND;TZID=Europe/Vienna:20210129T171500
DTSTAMP:20260421T021821
CREATED:20200928T051657Z
LAST-MODIFIED:20210126T092731Z
UID:5552-1611937800-1611940500@www.rosinka.at
SUMMARY:ЗНАЙЧИКИ (4-5)
DESCRIPTION:
URL:https://www.rosinka.at/event/%d0%b7%d0%bd%d0%b0%d0%b9%d1%87%d0%b8%d0%ba%d0%b8-4-5-2021-01-29/
END:VEVENT
BEGIN:VEVENT
DTSTART;TZID=Europe/Vienna:20210128T151500
DTEND;TZID=Europe/Vienna:20210128T161500
DTSTAMP:20260421T021821
CREATED:20200918T212015Z
LAST-MODIFIED:20210126T092628Z
UID:5365-1611846900-1611850500@www.rosinka.at
SUMMARY:БУКВОЕЖКИ (5-6)
DESCRIPTION:
URL:https://www.rosinka.at/event/%d0%b1%d1%83%d0%ba%d0%b2%d0%be%d0%b5%d0%b6%d0%ba%d0%b8-5-6-2021-01-28/
END:VEVENT
BEGIN:VEVENT
DTSTART;TZID=Europe/Vienna:20210127T163000
DTEND;TZID=Europe/Vienna:20210127T173000
DTSTAMP:20260421T021821
CREATED:20200918T211242Z
LAST-MODIFIED:20210126T092555Z
UID:5340-1611765000-1611768600@www.rosinka.at
SUMMARY:ЯКОРЕК (6-7)
DESCRIPTION:
URL:https://www.rosinka.at/event/%d1%8f%d0%ba%d0%be%d1%80%d0%b5%d0%ba-6-7-2021-01-27/
END:VEVENT
BEGIN:VEVENT
DTSTART;TZID=Europe/Vienna:20210126T160000
DTEND;TZID=Europe/Vienna:20210126T173000
DTSTAMP:20260421T021821
CREATED:20200918T210850Z
LAST-MODIFIED:20210126T092452Z
UID:5314-1611676800-1611682200@www.rosinka.at
SUMMARY:ЗВЕЗДОЧЕТЫ (9-10)
DESCRIPTION:
URL:https://www.rosinka.at/event/%d0%b7%d0%b2%d0%b5%d0%b7%d0%b4%d0%be%d1%87%d0%b5%d1%82%d1%8b-9-10-2021-01-26/
END:VEVENT
BEGIN:VEVENT
DTSTART;TZID=Europe/Vienna:20210125T153000
DTEND;TZID=Europe/Vienna:20210125T170000
DTSTAMP:20260421T021821
CREATED:20200918T210400Z
LAST-MODIFIED:20210126T092422Z
UID:5288-1611588600-1611594000@www.rosinka.at
SUMMARY:ЗОЛОТОЙ КЛЮЧИК (10-12)
DESCRIPTION:
URL:https://www.rosinka.at/event/%d0%b7%d0%be%d0%bb%d0%be%d1%82%d0%be%d0%b9-%d0%ba%d0%bb%d1%8e%d1%87%d0%b8%d0%ba-10-12-2021-01-26/
END:VEVENT
BEGIN:VEVENT
DTSTART;TZID=Europe/Vienna:20210122T163000
DTEND;TZID=Europe/Vienna:20210122T171500
DTSTAMP:20260421T021821
CREATED:20200928T051657Z
LAST-MODIFIED:20210126T092332Z
UID:5551-1611333000-1611335700@www.rosinka.at
SUMMARY:ЗНАЙЧИКИ (4-5)
DESCRIPTION:
URL:https://www.rosinka.at/event/%d0%b7%d0%bd%d0%b0%d0%b9%d1%87%d0%b8%d0%ba%d0%b8-4-5-2021-01-22/
END:VEVENT
BEGIN:VEVENT
DTSTART;TZID=Europe/Vienna:20210121T151500
DTEND;TZID=Europe/Vienna:20210121T161500
DTSTAMP:20260421T021821
CREATED:20200918T212015Z
LAST-MODIFIED:20210126T092226Z
UID:5364-1611242100-1611245700@www.rosinka.at
SUMMARY:БУКВОЕЖКИ (5-6)
DESCRIPTION:
URL:https://www.rosinka.at/event/%d0%b1%d1%83%d0%ba%d0%b2%d0%be%d0%b5%d0%b6%d0%ba%d0%b8-5-6-2021-01-21/
END:VEVENT
BEGIN:VEVENT
DTSTART;TZID=Europe/Vienna:20210120T163000
DTEND;TZID=Europe/Vienna:20210120T173000
DTSTAMP:20260421T021821
CREATED:20200918T211242Z
LAST-MODIFIED:20210126T092301Z
UID:5339-1611160200-1611163800@www.rosinka.at
SUMMARY:ЯКОРЕК (6-7)
DESCRIPTION:
URL:https://www.rosinka.at/event/%d1%8f%d0%ba%d0%be%d1%80%d0%b5%d0%ba-6-7-2021-01-20/
END:VEVENT
BEGIN:VEVENT
DTSTART;TZID=Europe/Vienna:20210119T160000
DTEND;TZID=Europe/Vienna:20210119T173000
DTSTAMP:20260421T021821
CREATED:20200918T210850Z
LAST-MODIFIED:20210126T091949Z
UID:5313-1611072000-1611077400@www.rosinka.at
SUMMARY:ЗВЕЗДОЧЕТЫ (9-10)
DESCRIPTION:
URL:https://www.rosinka.at/event/%d0%b7%d0%b2%d0%b5%d0%b7%d0%b4%d0%be%d1%87%d0%b5%d1%82%d1%8b-9-10-2021-01-19/
END:VEVENT
END:VCALENDAR