BEGIN:VCALENDAR
VERSION:2.0
PRODID:-//Rosinka - ECPv6.15.20//NONSGML v1.0//EN
CALSCALE:GREGORIAN
METHOD:PUBLISH
X-ORIGINAL-URL:https://www.rosinka.at
X-WR-CALDESC:Мероприятия для Rosinka
REFRESH-INTERVAL;VALUE=DURATION:PT1H
X-Robots-Tag:noindex
X-PUBLISHED-TTL:PT1H
BEGIN:VTIMEZONE
TZID:Europe/Vienna
BEGIN:DAYLIGHT
TZOFFSETFROM:+0100
TZOFFSETTO:+0200
TZNAME:CEST
DTSTART:20190331T010000
END:DAYLIGHT
BEGIN:STANDARD
TZOFFSETFROM:+0200
TZOFFSETTO:+0100
TZNAME:CET
DTSTART:20191027T010000
END:STANDARD
BEGIN:DAYLIGHT
TZOFFSETFROM:+0100
TZOFFSETTO:+0200
TZNAME:CEST
DTSTART:20200329T010000
END:DAYLIGHT
BEGIN:STANDARD
TZOFFSETFROM:+0200
TZOFFSETTO:+0100
TZNAME:CET
DTSTART:20201025T010000
END:STANDARD
BEGIN:DAYLIGHT
TZOFFSETFROM:+0100
TZOFFSETTO:+0200
TZNAME:CEST
DTSTART:20210328T010000
END:DAYLIGHT
BEGIN:STANDARD
TZOFFSETFROM:+0200
TZOFFSETTO:+0100
TZNAME:CET
DTSTART:20211031T010000
END:STANDARD
END:VTIMEZONE
BEGIN:VEVENT
DTSTART;TZID=Europe/Vienna:20200626T140000
DTEND;TZID=Europe/Vienna:20200626T150000
DTSTAMP:20260421T193930
CREATED:20200515T213427Z
LAST-MODIFIED:20200529T143443Z
UID:4905-1593180000-1593183600@www.rosinka.at
SUMMARY:ФАНТАЗЕРЫ (7-8)
DESCRIPTION:
URL:https://www.rosinka.at/event/%d1%84%d0%b0%d0%bd%d1%82%d0%b0%d0%b7%d0%b5%d1%80%d1%8b-7-8-19/
LOCATION:ONLINE
END:VEVENT
BEGIN:VEVENT
DTSTART;TZID=Europe/Vienna:20200623T163000
DTEND;TZID=Europe/Vienna:20200623T173000
DTSTAMP:20260421T193930
CREATED:20200220T123243Z
LAST-MODIFIED:20200603T163631Z
UID:4343-1592929800-1592933400@www.rosinka.at
SUMMARY:ЛУЧИКИ (3+)
DESCRIPTION:
URL:https://www.rosinka.at/event/%d0%bb%d1%83%d1%87%d0%b8%d0%ba%d0%b8-3-2-2020-06-23/
END:VEVENT
BEGIN:VEVENT
DTSTART;TZID=Europe/Vienna:20200623T160000
DTEND;TZID=Europe/Vienna:20200623T170000
DTSTAMP:20260421T193930
CREATED:20200220T124709Z
LAST-MODIFIED:20200603T163604Z
UID:4509-1592928000-1592931600@www.rosinka.at
SUMMARY:ЗВЕЗДОЧЕТЫ (8-9)
DESCRIPTION:
URL:https://www.rosinka.at/event/%d0%b7%d0%b2%d0%b5%d0%b7%d0%b4%d0%be%d1%87%d0%b5%d1%82%d1%8b-8-9-13-2020-06-26/
END:VEVENT
BEGIN:VEVENT
DTSTART;TZID=Europe/Vienna:20200619T140000
DTEND;TZID=Europe/Vienna:20200619T150000
DTSTAMP:20260421T193930
CREATED:20200515T213401Z
LAST-MODIFIED:20200529T143338Z
UID:4903-1592575200-1592578800@www.rosinka.at
SUMMARY:ФАНТАЗЕРЫ (7-8)
DESCRIPTION:
URL:https://www.rosinka.at/event/%d1%84%d0%b0%d0%bd%d1%82%d0%b0%d0%b7%d0%b5%d1%80%d1%8b-7-8-18/
LOCATION:ONLINE
END:VEVENT
BEGIN:VEVENT
DTSTART;TZID=Europe/Vienna:20200616T163000
DTEND;TZID=Europe/Vienna:20200616T173000
DTSTAMP:20260421T193930
CREATED:20200220T123243Z
LAST-MODIFIED:20200603T163541Z
UID:4342-1592325000-1592328600@www.rosinka.at
SUMMARY:ЛУЧИКИ (3+)
DESCRIPTION:
URL:https://www.rosinka.at/event/%d0%bb%d1%83%d1%87%d0%b8%d0%ba%d0%b8-3-2-2020-06-16/
END:VEVENT
BEGIN:VEVENT
DTSTART;TZID=Europe/Vienna:20200613T100000
DTEND;TZID=Europe/Vienna:20200613T110000
DTSTAMP:20260421T193930
CREATED:20200515T211555Z
LAST-MODIFIED:20200515T211555Z
UID:4888-1592042400-1592046000@www.rosinka.at
SUMMARY:ШАХМАТЫ (6+)
DESCRIPTION:
URL:https://www.rosinka.at/event/%d1%88%d0%b0%d1%85%d0%bc%d0%b0%d1%82%d1%8b-6-5/
END:VEVENT
BEGIN:VEVENT
DTSTART;TZID=Europe/Vienna:20200612T140000
DTEND;TZID=Europe/Vienna:20200612T150000
DTSTAMP:20260421T193930
CREATED:20200515T213323Z
LAST-MODIFIED:20200529T143130Z
UID:4901-1591970400-1591974000@www.rosinka.at
SUMMARY:ФАНТАЗЕРЫ (7-8)
DESCRIPTION:
URL:https://www.rosinka.at/event/%d1%84%d0%b0%d0%bd%d1%82%d0%b0%d0%b7%d0%b5%d1%80%d1%8b-7-8-17/
LOCATION:ONLINE
END:VEVENT
BEGIN:VEVENT
DTSTART;VALUE=DATE:20200611
DTEND;VALUE=DATE:20200612
DTSTAMP:20260421T193930
CREATED:20190521T201254Z
LAST-MODIFIED:20190521T201254Z
UID:3133-1591833600-1591919999@www.rosinka.at
SUMMARY:НЕУЧЕБНЫЙ ДЕНЬ
DESCRIPTION:
URL:https://www.rosinka.at/event/%d0%bd%d0%b5%d1%83%d1%87%d0%b5%d0%b1%d0%bd%d1%8b%d0%b9-%d0%b4%d0%b5%d0%bd%d1%8c-15/
END:VEVENT
BEGIN:VEVENT
DTSTART;TZID=Europe/Vienna:20200609T163000
DTEND;TZID=Europe/Vienna:20200609T173000
DTSTAMP:20260421T193930
CREATED:20200220T123243Z
LAST-MODIFIED:20200603T163357Z
UID:4341-1591720200-1591723800@www.rosinka.at
SUMMARY:ЛУЧИКИ (3+)
DESCRIPTION:
URL:https://www.rosinka.at/event/%d0%bb%d1%83%d1%87%d0%b8%d0%ba%d0%b8-3-2-2020-06-09/
END:VEVENT
BEGIN:VEVENT
DTSTART;TZID=Europe/Vienna:20200609T160000
DTEND;TZID=Europe/Vienna:20200609T170000
DTSTAMP:20260421T193930
CREATED:20200515T212908Z
LAST-MODIFIED:20200515T212908Z
UID:4899-1591718400-1591722000@www.rosinka.at
SUMMARY:ЗВЕЗДОЧЕТЫ (8-9)
DESCRIPTION:
URL:https://www.rosinka.at/event/%d0%b7%d0%b2%d0%b5%d0%b7%d0%b4%d0%be%d1%87%d0%b5%d1%82%d1%8b-8-9-17/
LOCATION:ONLINE
END:VEVENT
BEGIN:VEVENT
DTSTART;TZID=Europe/Vienna:20200605T140000
DTEND;TZID=Europe/Vienna:20200605T150000
DTSTAMP:20260421T193930
CREATED:20200220T124502Z
LAST-MODIFIED:20200529T142932Z
UID:4466-1591365600-1591369200@www.rosinka.at
SUMMARY:ФАНТАЗЕРЫ (7-8)
DESCRIPTION:
URL:https://www.rosinka.at/event/%d1%84%d0%b0%d0%bd%d1%82%d0%b0%d0%b7%d0%b5%d1%80%d1%8b-7-8-15-2020-06-04/
END:VEVENT
BEGIN:VEVENT
DTSTART;TZID=Europe/Vienna:20200603T160000
DTEND;TZID=Europe/Vienna:20200603T170000
DTSTAMP:20260421T193930
CREATED:20200515T212505Z
LAST-MODIFIED:20200515T212505Z
UID:4894-1591200000-1591203600@www.rosinka.at
SUMMARY:ЗОЛОТОЙ КЛЮЧИК (9-11)
DESCRIPTION:
URL:https://www.rosinka.at/event/%d0%b7%d0%be%d0%bb%d0%be%d1%82%d0%be%d0%b9-%d0%ba%d0%bb%d1%8e%d1%87%d0%b8%d0%ba-9-11-14/
LOCATION:ONLINE
END:VEVENT
BEGIN:VEVENT
DTSTART;TZID=Europe/Vienna:20200602T163000
DTEND;TZID=Europe/Vienna:20200602T173000
DTSTAMP:20260421T193930
CREATED:20200603T163505Z
LAST-MODIFIED:20200603T163505Z
UID:4919-1591115400-1591119000@www.rosinka.at
SUMMARY:ЛУЧИКИ (3+)
DESCRIPTION:
URL:https://www.rosinka.at/event/%d0%bb%d1%83%d1%87%d0%b8%d0%ba%d0%b8-3-3/
END:VEVENT
BEGIN:VEVENT
DTSTART;VALUE=DATE:20200601
DTEND;VALUE=DATE:20200603
DTSTAMP:20260421T193930
CREATED:20200529T142839Z
LAST-MODIFIED:20200529T142839Z
UID:4914-1590969600-1591142399@www.rosinka.at
SUMMARY:НЕУЧЕБНЫЙ ДЕНЬ
DESCRIPTION:
URL:https://www.rosinka.at/event/%d0%bd%d0%b5%d1%83%d1%87%d0%b5%d0%b1%d0%bd%d1%8b%d0%b9-%d0%b4%d0%b5%d0%bd%d1%8c-14/
END:VEVENT
BEGIN:VEVENT
DTSTART;TZID=Europe/Vienna:20200530T100000
DTEND;TZID=Europe/Vienna:20200530T110000
DTSTAMP:20260421T193930
CREATED:20200519T121232Z
LAST-MODIFIED:20200519T121232Z
UID:4909-1590832800-1590836400@www.rosinka.at
SUMMARY:ШАХМАТЫ (6+)
DESCRIPTION:
URL:https://www.rosinka.at/event/%d1%88%d0%b0%d1%85%d0%bc%d0%b0%d1%82%d1%8b-6-4/
END:VEVENT
BEGIN:VEVENT
DTSTART;TZID=Europe/Vienna:20200529T140000
DTEND;TZID=Europe/Vienna:20200529T150000
DTSTAMP:20260421T193930
CREATED:20200220T124502Z
LAST-MODIFIED:20200529T142734Z
UID:4465-1590760800-1590764400@www.rosinka.at
SUMMARY:ФАНТАЗЕРЫ (7-8)
DESCRIPTION:
URL:https://www.rosinka.at/event/%d1%84%d0%b0%d0%bd%d1%82%d0%b0%d0%b7%d0%b5%d1%80%d1%8b-7-8-15-2020-05-28/
END:VEVENT
BEGIN:VEVENT
DTSTART;TZID=Europe/Vienna:20200523T100000
DTEND;TZID=Europe/Vienna:20200523T110000
DTSTAMP:20260421T193930
CREATED:20200515T211441Z
LAST-MODIFIED:20200515T211441Z
UID:4884-1590228000-1590231600@www.rosinka.at
SUMMARY:ШАХМАТЫ (6+)
DESCRIPTION:
URL:https://www.rosinka.at/event/%d1%88%d0%b0%d1%85%d0%bc%d0%b0%d1%82%d1%8b-6-3/
END:VEVENT
BEGIN:VEVENT
DTSTART;VALUE=DATE:20200521
DTEND;VALUE=DATE:20200522
DTSTAMP:20260421T193930
CREATED:20190521T201059Z
LAST-MODIFIED:20190521T201059Z
UID:3128-1590019200-1590105599@www.rosinka.at
SUMMARY:НЕУЧЕБНЫЙ ДЕНЬ
DESCRIPTION:
URL:https://www.rosinka.at/event/%d0%bd%d0%b5%d1%83%d1%87%d0%b5%d0%b1%d0%bd%d1%8b%d0%b9-%d0%b4%d0%b5%d0%bd%d1%8c-13/
END:VEVENT
BEGIN:VEVENT
DTSTART;TZID=Europe/Vienna:20200519T160000
DTEND;TZID=Europe/Vienna:20200519T170000
DTSTAMP:20260421T193930
CREATED:20200515T211933Z
LAST-MODIFIED:20200515T211933Z
UID:4890-1589904000-1589907600@www.rosinka.at
SUMMARY:ЗВЕЗДОЧЕТЫ (8-9)
DESCRIPTION:
URL:https://www.rosinka.at/event/%d0%b7%d0%b2%d0%b5%d0%b7%d0%b4%d0%be%d1%87%d0%b5%d1%82%d1%8b-8-9-16/
LOCATION:ONLINE
END:VEVENT
BEGIN:VEVENT
DTSTART;TZID=Europe/Vienna:20200516T093000
DTEND;TZID=Europe/Vienna:20200516T103000
DTSTAMP:20260421T193930
CREATED:20200515T211342Z
LAST-MODIFIED:20200515T211409Z
UID:4882-1589621400-1589625000@www.rosinka.at
SUMMARY:ШАХМАТЫ (6+)
DESCRIPTION:
URL:https://www.rosinka.at/event/%d1%88%d0%b0%d1%85%d0%bc%d0%b0%d1%82%d1%8b-6-2/
END:VEVENT
BEGIN:VEVENT
DTSTART;VALUE=DATE:20200502
DTEND;VALUE=DATE:20200503
DTSTAMP:20260421T193930
CREATED:20200221T105350Z
LAST-MODIFIED:20200221T105350Z
UID:4729-1588377600-1588463999@www.rosinka.at
SUMMARY:НЕУЧЕБНЫЙ ДЕНЬ
DESCRIPTION:
URL:https://www.rosinka.at/event/%d0%bd%d0%b5%d1%83%d1%87%d0%b5%d0%b1%d0%bd%d1%8b%d0%b9-%d0%b4%d0%b5%d0%bd%d1%8c-24/
END:VEVENT
BEGIN:VEVENT
DTSTART;VALUE=DATE:20200501
DTEND;VALUE=DATE:20200502
DTSTAMP:20260421T193930
CREATED:20190521T200956Z
LAST-MODIFIED:20190521T200956Z
UID:3126-1588291200-1588377599@www.rosinka.at
SUMMARY:НЕУЧЕБНЫЙ ДЕНЬ
DESCRIPTION:
URL:https://www.rosinka.at/event/%d0%bd%d0%b5%d1%83%d1%87%d0%b5%d0%b1%d0%bd%d1%8b%d0%b9-%d0%b4%d0%b5%d0%bd%d1%8c-12/
END:VEVENT
BEGIN:VEVENT
DTSTART;VALUE=DATE:20200430
DTEND;VALUE=DATE:20200501
DTSTAMP:20260421T193930
CREATED:20200128T103802Z
LAST-MODIFIED:20200128T103802Z
UID:4138-1588204800-1588291199@www.rosinka.at
SUMMARY:НЕУЧЕБНЫЙ ДЕНЬ
DESCRIPTION:
URL:https://www.rosinka.at/event/%d0%bd%d0%b5%d1%83%d1%87%d0%b5%d0%b1%d0%bd%d1%8b%d0%b9-%d0%b4%d0%b5%d0%bd%d1%8c-22/
END:VEVENT
BEGIN:VEVENT
DTSTART;VALUE=DATE:20200415
DTEND;VALUE=DATE:20200516
DTSTAMP:20260421T193930
CREATED:20200416T142050Z
LAST-MODIFIED:20200515T210958Z
UID:4837-1586908800-1589587199@www.rosinka.at
SUMMARY:КАРАНТИН
DESCRIPTION:
URL:https://www.rosinka.at/event/%d0%ba%d0%b0%d1%80%d0%b0%d0%bd%d1%82%d0%b8%d0%bd-3/
END:VEVENT
BEGIN:VEVENT
DTSTART;VALUE=DATE:20200404
DTEND;VALUE=DATE:20200415
DTSTAMP:20260421T193930
CREATED:20190521T195841Z
LAST-MODIFIED:20190521T195841Z
UID:3117-1585958400-1586908799@www.rosinka.at
SUMMARY:ПАСХАЛЬНЫЕ КАНИКУЛЫ
DESCRIPTION:
URL:https://www.rosinka.at/event/%d0%bf%d0%b0%d1%81%d1%85%d0%b0%d0%bb%d1%8c%d0%bd%d1%8b%d0%b5-%d0%ba%d0%b0%d0%bd%d0%b8%d0%ba%d1%83%d0%bb%d1%8b-3/
END:VEVENT
BEGIN:VEVENT
DTSTART;VALUE=DATE:20200322
DTEND;VALUE=DATE:20200404
DTSTAMP:20260421T193930
CREATED:20200312T214258Z
LAST-MODIFIED:20200312T214258Z
UID:4767-1584835200-1585958399@www.rosinka.at
SUMMARY:КАРАНТИН
DESCRIPTION:
URL:https://www.rosinka.at/event/%d0%ba%d0%b0%d1%80%d0%b0%d0%bd%d1%82%d0%b8%d0%bd-2/
END:VEVENT
BEGIN:VEVENT
DTSTART;VALUE=DATE:20200321
DTEND;VALUE=DATE:20200322
DTSTAMP:20260421T193930
CREATED:20200221T105102Z
LAST-MODIFIED:20200221T105102Z
UID:4724-1584748800-1584835199@www.rosinka.at
SUMMARY:НЕУЧЕБНЫЙ ДЕНЬ
DESCRIPTION:
URL:https://www.rosinka.at/event/%d0%bd%d0%b5%d1%83%d1%87%d0%b5%d0%b1%d0%bd%d1%8b%d0%b9-%d0%b4%d0%b5%d0%bd%d1%8c-23/
END:VEVENT
BEGIN:VEVENT
DTSTART;VALUE=DATE:20200320
DTEND;VALUE=DATE:20200321
DTSTAMP:20260421T193930
CREATED:20190903T173646Z
LAST-MODIFIED:20190903T173646Z
UID:3263-1584662400-1584748799@www.rosinka.at
SUMMARY:НЕУЧЕБНЫЙ ДЕНЬ
DESCRIPTION:
URL:https://www.rosinka.at/event/%d0%bd%d0%b5%d1%83%d1%87%d0%b5%d0%b1%d0%bd%d1%8b%d0%b9-%d0%b4%d0%b5%d0%bd%d1%8c-19/
END:VEVENT
BEGIN:VEVENT
DTSTART;TZID=Europe/Vienna:20200319T080000
DTEND;TZID=Europe/Vienna:20200319T170000
DTSTAMP:20260421T193930
CREATED:20190521T195721Z
LAST-MODIFIED:20190521T195721Z
UID:3115-1584604800-1584637200@www.rosinka.at
SUMMARY:НЕУЧЕБНЫЙ ДЕНЬ
DESCRIPTION:
URL:https://www.rosinka.at/event/%d0%bd%d0%b5%d1%83%d1%87%d0%b5%d0%b1%d0%bd%d1%8b%d0%b9-%d0%b4%d0%b5%d0%bd%d1%8c-10/
END:VEVENT
BEGIN:VEVENT
DTSTART;VALUE=DATE:20200314
DTEND;VALUE=DATE:20200319
DTSTAMP:20260421T193930
CREATED:20200312T214216Z
LAST-MODIFIED:20200312T214216Z
UID:4765-1584144000-1584575999@www.rosinka.at
SUMMARY:КАРАНИН
DESCRIPTION:
URL:https://www.rosinka.at/event/%d0%ba%d0%b0%d1%80%d0%b0%d0%bd%d1%82%d0%b8%d0%bd/
END:VEVENT
END:VCALENDAR