BEGIN:VCALENDAR
VERSION:2.0
PRODID:-//Rosinka - ECPv6.15.20//NONSGML v1.0//EN
CALSCALE:GREGORIAN
METHOD:PUBLISH
X-ORIGINAL-URL:https://www.rosinka.at
X-WR-CALDESC:Мероприятия для Rosinka
REFRESH-INTERVAL;VALUE=DURATION:PT1H
X-Robots-Tag:noindex
X-PUBLISHED-TTL:PT1H
BEGIN:VTIMEZONE
TZID:Europe/Vienna
BEGIN:DAYLIGHT
TZOFFSETFROM:+0100
TZOFFSETTO:+0200
TZNAME:CEST
DTSTART:20180325T010000
END:DAYLIGHT
BEGIN:STANDARD
TZOFFSETFROM:+0200
TZOFFSETTO:+0100
TZNAME:CET
DTSTART:20181028T010000
END:STANDARD
BEGIN:DAYLIGHT
TZOFFSETFROM:+0100
TZOFFSETTO:+0200
TZNAME:CEST
DTSTART:20190331T010000
END:DAYLIGHT
BEGIN:STANDARD
TZOFFSETFROM:+0200
TZOFFSETTO:+0100
TZNAME:CET
DTSTART:20191027T010000
END:STANDARD
BEGIN:DAYLIGHT
TZOFFSETFROM:+0100
TZOFFSETTO:+0200
TZNAME:CEST
DTSTART:20200329T010000
END:DAYLIGHT
BEGIN:STANDARD
TZOFFSETFROM:+0200
TZOFFSETTO:+0100
TZNAME:CET
DTSTART:20201025T010000
END:STANDARD
BEGIN:DAYLIGHT
TZOFFSETFROM:+0100
TZOFFSETTO:+0200
TZNAME:CEST
DTSTART:20210328T010000
END:DAYLIGHT
BEGIN:STANDARD
TZOFFSETFROM:+0200
TZOFFSETTO:+0100
TZNAME:CET
DTSTART:20211031T010000
END:STANDARD
END:VTIMEZONE
BEGIN:VEVENT
DTSTART;TZID=Europe/Vienna:20200113T163000
DTEND;TZID=Europe/Vienna:20200113T181500
DTSTAMP:20260422T011638
CREATED:20200110T070912Z
LAST-MODIFIED:20200110T070912Z
UID:4070-1578933000-1578939300@www.rosinka.at
SUMMARY:ЗОЛОТОЙ КЛЮЧИК (9-11)
DESCRIPTION:
URL:https://www.rosinka.at/event/%d0%b7%d0%be%d0%bb%d0%be%d1%82%d0%be%d0%b9-%d0%ba%d0%bb%d1%8e%d1%87%d0%b8%d0%ba-9-11-12/2020-01-13/
END:VEVENT
BEGIN:VEVENT
DTSTART;TZID=Europe/Vienna:20200113T152000
DTEND;TZID=Europe/Vienna:20200113T165000
DTSTAMP:20260422T011638
CREATED:20191119T230426Z
LAST-MODIFIED:20191119T232057Z
UID:3803-1578928800-1578934200@www.rosinka.at
SUMMARY:Музыкальное Развитие (4-6) // КАПЕЛЬКИ
DESCRIPTION:
URL:https://www.rosinka.at/event/%d0%bc%d1%83%d0%b7%d1%8b%d0%ba%d0%b0%d0%bb%d1%8c%d0%bd%d0%be%d0%b5-%d1%80%d0%b0%d0%b7%d0%b2%d0%b8%d1%82%d0%b8%d0%b5-4-6-%d0%ba%d0%b0%d0%bf%d0%b5%d0%bb%d1%8c%d0%ba%d0%b8-12/2020-01-13/
END:VEVENT
BEGIN:VEVENT
DTSTART;TZID=Europe/Vienna:20200110T160000
DTEND;TZID=Europe/Vienna:20200110T174500
DTSTAMP:20260422T011638
CREATED:20191119T231410Z
LAST-MODIFIED:20191119T231410Z
UID:3869-1578672000-1578678300@www.rosinka.at
SUMMARY:ЗВЕЗДОЧЕТЫ (8-9)
DESCRIPTION:
URL:https://www.rosinka.at/event/%d0%b7%d0%b2%d0%b5%d0%b7%d0%b4%d0%be%d1%87%d0%b5%d1%82%d1%8b-8-9-14/2020-01-10/
END:VEVENT
BEGIN:VEVENT
DTSTART;TZID=Europe/Vienna:20200109T163000
DTEND;TZID=Europe/Vienna:20200109T181500
DTSTAMP:20260422T011638
CREATED:20200110T070615Z
LAST-MODIFIED:20200110T070615Z
UID:4055-1578587400-1578593700@www.rosinka.at
SUMMARY:ФАНТАЗЕРЫ (7-8)
DESCRIPTION:
URL:https://www.rosinka.at/event/%d1%84%d0%b0%d0%bd%d1%82%d0%b0%d0%b7%d0%b5%d1%80%d1%8b-7-8-14/2020-01-09/
END:VEVENT
BEGIN:VEVENT
DTSTART;TZID=Europe/Vienna:20200109T151500
DTEND;TZID=Europe/Vienna:20200109T164500
DTSTAMP:20260422T011638
CREATED:20191119T231133Z
LAST-MODIFIED:20200110T065950Z
UID:3848-1578582900-1578588300@www.rosinka.at
SUMMARY:ЖИВОПИСЬ (7-11)
DESCRIPTION:
URL:https://www.rosinka.at/event/%d0%b6%d0%b8%d0%b2%d0%be%d0%bf%d0%b8%d1%81%d1%8c-7-11-28/2020-01-09/
END:VEVENT
BEGIN:VEVENT
DTSTART;TZID=Europe/Vienna:20200109T151500
DTEND;TZID=Europe/Vienna:20200109T163000
DTSTAMP:20260422T011638
CREATED:20200110T070502Z
LAST-MODIFIED:20200110T070502Z
UID:4047-1578582900-1578587400@www.rosinka.at
SUMMARY:БУКВОЕЖКИ (4-5)
DESCRIPTION:
URL:https://www.rosinka.at/event/%d0%b1%d1%83%d0%ba%d0%b2%d0%be%d0%b5%d0%b6%d0%ba%d0%b8-4-5-8/2020-01-09/
END:VEVENT
BEGIN:VEVENT
DTSTART;TZID=Europe/Vienna:20200108T163000
DTEND;TZID=Europe/Vienna:20200108T181500
DTSTAMP:20260422T011638
CREATED:20191119T230908Z
LAST-MODIFIED:20191119T230908Z
UID:3834-1578501000-1578507300@www.rosinka.at
SUMMARY:ЯКОРЕК (5-6) подгруппа II
DESCRIPTION:
URL:https://www.rosinka.at/event/%d1%8f%d0%ba%d0%be%d1%80%d0%b5%d0%ba-5-6-%d0%bf%d0%be%d0%b4%d0%b3%d1%80%d1%83%d0%bf%d0%bf%d0%b0-ii-13/2020-01-08/
END:VEVENT
BEGIN:VEVENT
DTSTART;TZID=Europe/Vienna:20200108T163000
DTEND;TZID=Europe/Vienna:20200108T173000
DTSTAMP:20260422T011638
CREATED:20200128T091715Z
LAST-MODIFIED:20200128T092355Z
UID:4126-1578501000-1578504600@www.rosinka.at
SUMMARY:ТЕАТРАЛЬНЫЙ КРУЖОК (3-4+)
DESCRIPTION:
URL:https://www.rosinka.at/event/%d1%82%d0%b5%d0%b0%d1%82%d1%80%d0%b0%d0%bb%d1%8c%d0%bd%d1%8b%d0%b9-%d0%ba%d1%80%d1%83%d0%b6%d0%be%d0%ba-3-4-28/2020-01-08/
LOCATION:Alte Poststraße 134\, 8020 Graz\, Alte Poststraße 134\, Graz\, 8020\, Austria
END:VEVENT
BEGIN:VEVENT
DTSTART;TZID=Europe/Vienna:20200108T160000
DTEND;TZID=Europe/Vienna:20200108T170000
DTSTAMP:20260422T011638
CREATED:20191119T230650Z
LAST-MODIFIED:20191119T230650Z
UID:3820-1578499200-1578502800@www.rosinka.at
SUMMARY:ЖИВОПИСЬ (4-6)
DESCRIPTION:
URL:https://www.rosinka.at/event/%d0%b6%d0%b8%d0%b2%d0%be%d0%bf%d0%b8%d1%81%d1%8c-4-6-26/2020-01-08/
END:VEVENT
BEGIN:VEVENT
DTSTART;TZID=Europe/Vienna:20200108T154500
DTEND;TZID=Europe/Vienna:20200108T173000
DTSTAMP:20260422T011638
CREATED:20191119T230806Z
LAST-MODIFIED:20191119T230806Z
UID:3827-1578498300-1578504600@www.rosinka.at
SUMMARY:ЯКОРЕК (5-6) подгруппа I
DESCRIPTION:
URL:https://www.rosinka.at/event/%d1%8f%d0%ba%d0%be%d1%80%d0%b5%d0%ba-5-6-%d0%bf%d0%be%d0%b4%d0%b3%d1%80%d1%83%d0%bf%d0%bf%d0%b0-i-12/2020-01-08/
END:VEVENT
BEGIN:VEVENT
DTSTART;VALUE=DATE:20191221
DTEND;VALUE=DATE:20200107
DTSTAMP:20260422T011638
CREATED:20190521T195941Z
LAST-MODIFIED:20190521T195941Z
UID:3119-1576886400-1578355199@www.rosinka.at
SUMMARY:РОЖДЕСТВЕНСКИЕ КАНИКУЛЫ
DESCRIPTION:
URL:https://www.rosinka.at/event/%d1%80%d0%be%d0%b6%d0%b4%d0%b5%d1%81%d1%82%d0%b2%d0%b5%d0%bd%d1%81%d0%ba%d0%b8%d0%b5-%d0%ba%d0%b0%d0%bd%d0%b8%d0%ba%d1%83%d0%bb%d1%8b-3/
END:VEVENT
BEGIN:VEVENT
DTSTART;TZID=Europe/Vienna:20191219T163000
DTEND;TZID=Europe/Vienna:20191219T181500
DTSTAMP:20260422T011638
CREATED:20191104T095700Z
LAST-MODIFIED:20191104T095700Z
UID:3726-1576773000-1576779300@www.rosinka.at
SUMMARY:ФАНТАЗЕРЫ (7-8)
DESCRIPTION:
URL:https://www.rosinka.at/event/%d1%84%d0%b0%d0%bd%d1%82%d0%b0%d0%b7%d0%b5%d1%80%d1%8b-7-8-13/
END:VEVENT
BEGIN:VEVENT
DTSTART;TZID=Europe/Vienna:20191219T151500
DTEND;TZID=Europe/Vienna:20191219T164500
DTSTAMP:20260422T011638
CREATED:20191104T095548Z
LAST-MODIFIED:20191104T095548Z
UID:3722-1576768500-1576773900@www.rosinka.at
SUMMARY:ЖИВОПИСЬ (7-11)
DESCRIPTION:
URL:https://www.rosinka.at/event/%d0%b6%d0%b8%d0%b2%d0%be%d0%bf%d0%b8%d1%81%d1%8c-7-11-27/
END:VEVENT
BEGIN:VEVENT
DTSTART;TZID=Europe/Vienna:20191219T151500
DTEND;TZID=Europe/Vienna:20191219T163000
DTSTAMP:20260422T011638
CREATED:20191104T095625Z
LAST-MODIFIED:20191104T095625Z
UID:3724-1576768500-1576773000@www.rosinka.at
SUMMARY:БУКВОЕЖКИ (4-5)
DESCRIPTION:
URL:https://www.rosinka.at/event/%d0%b1%d1%83%d0%ba%d0%b2%d0%be%d0%b5%d0%b6%d0%ba%d0%b8-4-5-7/
END:VEVENT
BEGIN:VEVENT
DTSTART;TZID=Europe/Vienna:20191218T163000
DTEND;TZID=Europe/Vienna:20191218T181500
DTSTAMP:20260422T011638
CREATED:20191104T095236Z
LAST-MODIFIED:20191104T095236Z
UID:3716-1576686600-1576692900@www.rosinka.at
SUMMARY:ЯКОРЕК (5-6) подгруппа II
DESCRIPTION:
URL:https://www.rosinka.at/event/%d1%8f%d0%ba%d0%be%d1%80%d0%b5%d0%ba-5-6-%d0%bf%d0%be%d0%b4%d0%b3%d1%80%d1%83%d0%bf%d0%bf%d0%b0-ii-12/
END:VEVENT
BEGIN:VEVENT
DTSTART;TZID=Europe/Vienna:20191218T163000
DTEND;TZID=Europe/Vienna:20191218T173000
DTSTAMP:20260422T011638
CREATED:20191104T095453Z
LAST-MODIFIED:20191104T095453Z
UID:3720-1576686600-1576690200@www.rosinka.at
SUMMARY:ТЕАТРАЛЬНЫЙ КРУЖОК (3-4+)
DESCRIPTION:
URL:https://www.rosinka.at/event/%d1%82%d0%b5%d0%b0%d1%82%d1%80%d0%b0%d0%bb%d1%8c%d0%bd%d1%8b%d0%b9-%d0%ba%d1%80%d1%83%d0%b6%d0%be%d0%ba-3-4-27/
LOCATION:Alte Poststraße 134\, 8020 Graz\, Alte Poststraße 134\, Graz\, 8020\, Austria
END:VEVENT
BEGIN:VEVENT
DTSTART;TZID=Europe/Vienna:20191218T160000
DTEND;TZID=Europe/Vienna:20191218T170000
DTSTAMP:20260422T011638
CREATED:20191104T095418Z
LAST-MODIFIED:20191104T095418Z
UID:3718-1576684800-1576688400@www.rosinka.at
SUMMARY:ЖИВОПИСЬ (4-6)
DESCRIPTION:
URL:https://www.rosinka.at/event/%d0%b6%d0%b8%d0%b2%d0%be%d0%bf%d0%b8%d1%81%d1%8c-4-6-25/
END:VEVENT
BEGIN:VEVENT
DTSTART;TZID=Europe/Vienna:20191218T154500
DTEND;TZID=Europe/Vienna:20191218T173000
DTSTAMP:20260422T011638
CREATED:20191104T095157Z
LAST-MODIFIED:20191104T095157Z
UID:3714-1576683900-1576690200@www.rosinka.at
SUMMARY:ЯКОРЕК (5-6) подгруппа I
DESCRIPTION:
URL:https://www.rosinka.at/event/%d1%8f%d0%ba%d0%be%d1%80%d0%b5%d0%ba-5-6-%d0%bf%d0%be%d0%b4%d0%b3%d1%80%d1%83%d0%bf%d0%bf%d0%b0-i-11/
END:VEVENT
BEGIN:VEVENT
DTSTART;TZID=Europe/Vienna:20191217T164500
DTEND;TZID=Europe/Vienna:20191217T183000
DTSTAMP:20260422T011638
CREATED:20191202T082059Z
LAST-MODIFIED:20191202T082059Z
UID:3912-1576601100-1576607400@www.rosinka.at
SUMMARY:ЗВЕЗДОЧЕТЫ (8-9)
DESCRIPTION:
URL:https://www.rosinka.at/event/%d0%b7%d0%b2%d0%b5%d0%b7%d0%b4%d0%be%d1%87%d0%b5%d1%82%d1%8b-8-9-10/
END:VEVENT
BEGIN:VEVENT
DTSTART;TZID=Europe/Vienna:20191217T163000
DTEND;TZID=Europe/Vienna:20191217T173000
DTSTAMP:20260422T011638
CREATED:20191104T095039Z
LAST-MODIFIED:20191108T202529Z
UID:3712-1576600200-1576603800@www.rosinka.at
SUMMARY:ЛУЧИКИ (3+)
DESCRIPTION:
URL:https://www.rosinka.at/event/%d1%81%d0%b2%d0%b5%d1%82%d0%bb%d1%8f%d1%87%d0%ba%d0%b8-3-14/
END:VEVENT
BEGIN:VEVENT
DTSTART;TZID=Europe/Vienna:20191217T150000
DTEND;TZID=Europe/Vienna:20191217T160000
DTSTAMP:20260422T011638
CREATED:20191104T095013Z
LAST-MODIFIED:20191104T095013Z
UID:3710-1576594800-1576598400@www.rosinka.at
SUMMARY:СВЕТЛЯЧКИ (1\,5-3)
DESCRIPTION:
URL:https://www.rosinka.at/event/%d1%81%d0%b2%d0%b5%d1%82%d0%bb%d1%8f%d1%87%d0%ba%d0%b8-15-3-18/
END:VEVENT
BEGIN:VEVENT
DTSTART;TZID=Europe/Vienna:20191216T163000
DTEND;TZID=Europe/Vienna:20191216T181500
DTSTAMP:20260422T011638
CREATED:20191104T094909Z
LAST-MODIFIED:20191104T094909Z
UID:3708-1576513800-1576520100@www.rosinka.at
SUMMARY:ЗОЛОТОЙ КЛЮЧИК (9-11)
DESCRIPTION:
URL:https://www.rosinka.at/event/%d0%b7%d0%be%d0%bb%d0%be%d1%82%d0%be%d0%b9-%d0%ba%d0%bb%d1%8e%d1%87%d0%b8%d0%ba-9-11-11/
END:VEVENT
BEGIN:VEVENT
DTSTART;TZID=Europe/Vienna:20191216T152000
DTEND;TZID=Europe/Vienna:20191216T165000
DTSTAMP:20260422T011638
CREATED:20191104T094834Z
LAST-MODIFIED:20191104T094834Z
UID:3706-1576509600-1576515000@www.rosinka.at
SUMMARY:Музыкальное развитие (4-6) // КАПЕЛЬКИ
DESCRIPTION:
URL:https://www.rosinka.at/event/%d0%bc%d1%83%d0%b7%d1%8b%d0%ba%d0%b0%d0%bb%d1%8c%d0%bd%d0%be%d0%b5-%d1%80%d0%b0%d0%b7%d0%b2%d0%b8%d1%82%d0%b8%d0%b5-4-6-%d0%ba%d0%b0%d0%bf%d0%b5%d0%bb%d1%8c%d0%ba%d0%b8-11/
END:VEVENT
BEGIN:VEVENT
DTSTART;TZID=Europe/Vienna:20191212T163000
DTEND;TZID=Europe/Vienna:20191212T181500
DTSTAMP:20260422T011638
CREATED:20191104T094510Z
LAST-MODIFIED:20191104T094510Z
UID:3699-1576168200-1576174500@www.rosinka.at
SUMMARY:ФАНТАЗЕРЫ (7-8)
DESCRIPTION:
URL:https://www.rosinka.at/event/%d1%84%d0%b0%d0%bd%d1%82%d0%b0%d0%b7%d0%b5%d1%80%d1%8b-7-8-12/
END:VEVENT
BEGIN:VEVENT
DTSTART;TZID=Europe/Vienna:20191212T151500
DTEND;TZID=Europe/Vienna:20191212T164500
DTSTAMP:20260422T011638
CREATED:20191104T094358Z
LAST-MODIFIED:20191104T094358Z
UID:3695-1576163700-1576169100@www.rosinka.at
SUMMARY:ЖИВОПИСЬ (7-11)
DESCRIPTION:
URL:https://www.rosinka.at/event/%d0%b6%d0%b8%d0%b2%d0%be%d0%bf%d0%b8%d1%81%d1%8c-7-11-26/
END:VEVENT
BEGIN:VEVENT
DTSTART;TZID=Europe/Vienna:20191212T151500
DTEND;TZID=Europe/Vienna:20191212T163000
DTSTAMP:20260422T011638
CREATED:20191104T094435Z
LAST-MODIFIED:20191104T094435Z
UID:3697-1576163700-1576168200@www.rosinka.at
SUMMARY:БУКВОЕЖКИ (4-5)
DESCRIPTION:
URL:https://www.rosinka.at/event/%d0%b1%d1%83%d0%ba%d0%b2%d0%be%d0%b5%d0%b6%d0%ba%d0%b8-4-5-6/
END:VEVENT
BEGIN:VEVENT
DTSTART;TZID=Europe/Vienna:20191211T163000
DTEND;TZID=Europe/Vienna:20191211T181500
DTSTAMP:20260422T011638
CREATED:20191104T094053Z
LAST-MODIFIED:20191104T094053Z
UID:3689-1576081800-1576088100@www.rosinka.at
SUMMARY:ЯКОРЕК (5-6) подгруппа II
DESCRIPTION:
URL:https://www.rosinka.at/event/%d1%8f%d0%ba%d0%be%d1%80%d0%b5%d0%ba-5-6-%d0%bf%d0%be%d0%b4%d0%b3%d1%80%d1%83%d0%bf%d0%bf%d0%b0-ii-11/
END:VEVENT
BEGIN:VEVENT
DTSTART;TZID=Europe/Vienna:20191211T163000
DTEND;TZID=Europe/Vienna:20191211T173000
DTSTAMP:20260422T011638
CREATED:20191104T094235Z
LAST-MODIFIED:20191104T094235Z
UID:3693-1576081800-1576085400@www.rosinka.at
SUMMARY:ТЕАТРАЛЬНЫЙ КРУЖОК (3-4+)
DESCRIPTION:
URL:https://www.rosinka.at/event/%d1%82%d0%b5%d0%b0%d1%82%d1%80%d0%b0%d0%bb%d1%8c%d0%bd%d1%8b%d0%b9-%d0%ba%d1%80%d1%83%d0%b6%d0%be%d0%ba-3-4-26/
LOCATION:Alte Poststraße 134\, 8020 Graz\, Alte Poststraße 134\, Graz\, 8020\, Austria
END:VEVENT
BEGIN:VEVENT
DTSTART;TZID=Europe/Vienna:20191211T160000
DTEND;TZID=Europe/Vienna:20191211T170000
DTSTAMP:20260422T011638
CREATED:20191104T094151Z
LAST-MODIFIED:20191104T094151Z
UID:3691-1576080000-1576083600@www.rosinka.at
SUMMARY:ЖИВОПИСЬ (4-6)
DESCRIPTION:
URL:https://www.rosinka.at/event/%d0%b6%d0%b8%d0%b2%d0%be%d0%bf%d0%b8%d1%81%d1%8c-4-6-24/
END:VEVENT
BEGIN:VEVENT
DTSTART;TZID=Europe/Vienna:20191211T154500
DTEND;TZID=Europe/Vienna:20191211T173000
DTSTAMP:20260422T011638
CREATED:20191104T093938Z
LAST-MODIFIED:20191104T093938Z
UID:3687-1576079100-1576085400@www.rosinka.at
SUMMARY:ЯКОРЕК (5-6) подгруппа I
DESCRIPTION:
URL:https://www.rosinka.at/event/%d1%8f%d0%ba%d0%be%d1%80%d0%b5%d0%ba-5-6-%d0%bf%d0%be%d0%b4%d0%b3%d1%80%d1%83%d0%bf%d0%bf%d0%b0-i-10/
END:VEVENT
END:VCALENDAR