BEGIN:VCALENDAR
VERSION:2.0
PRODID:-//Rosinka - ECPv6.15.20//NONSGML v1.0//EN
CALSCALE:GREGORIAN
METHOD:PUBLISH
X-ORIGINAL-URL:https://www.rosinka.at
X-WR-CALDESC:Мероприятия для Rosinka
REFRESH-INTERVAL;VALUE=DURATION:PT1H
X-Robots-Tag:noindex
X-PUBLISHED-TTL:PT1H
BEGIN:VTIMEZONE
TZID:Europe/Vienna
BEGIN:DAYLIGHT
TZOFFSETFROM:+0100
TZOFFSETTO:+0200
TZNAME:CEST
DTSTART:20200329T010000
END:DAYLIGHT
BEGIN:STANDARD
TZOFFSETFROM:+0200
TZOFFSETTO:+0100
TZNAME:CET
DTSTART:20201025T010000
END:STANDARD
BEGIN:DAYLIGHT
TZOFFSETFROM:+0100
TZOFFSETTO:+0200
TZNAME:CEST
DTSTART:20210328T010000
END:DAYLIGHT
BEGIN:STANDARD
TZOFFSETFROM:+0200
TZOFFSETTO:+0100
TZNAME:CET
DTSTART:20211031T010000
END:STANDARD
BEGIN:DAYLIGHT
TZOFFSETFROM:+0100
TZOFFSETTO:+0200
TZNAME:CEST
DTSTART:20220327T010000
END:DAYLIGHT
BEGIN:STANDARD
TZOFFSETFROM:+0200
TZOFFSETTO:+0100
TZNAME:CET
DTSTART:20221030T010000
END:STANDARD
BEGIN:DAYLIGHT
TZOFFSETFROM:+0100
TZOFFSETTO:+0200
TZNAME:CEST
DTSTART:20230326T010000
END:DAYLIGHT
BEGIN:STANDARD
TZOFFSETFROM:+0200
TZOFFSETTO:+0100
TZNAME:CET
DTSTART:20231029T010000
END:STANDARD
END:VTIMEZONE
BEGIN:VEVENT
DTSTART;TZID=Europe/Vienna:20220401T161500
DTEND;TZID=Europe/Vienna:20220401T171500
DTSTAMP:20260420T090552
CREATED:20220328T190450Z
LAST-MODIFIED:20220328T190450Z
UID:7672-1648829700-1648833300@www.rosinka.at
SUMMARY:ЖИВОПИСЬ
DESCRIPTION:
URL:https://www.rosinka.at/event/%d0%b6%d0%b8%d0%b2%d0%be%d0%bf%d0%b8%d1%81%d1%8c-2/
END:VEVENT
BEGIN:VEVENT
DTSTART;TZID=Europe/Vienna:20220326T103000
DTEND;TZID=Europe/Vienna:20220326T113000
DTSTAMP:20260420T090552
CREATED:20220228T084304Z
LAST-MODIFIED:20220324T135651Z
UID:7424-1648290600-1648294200@www.rosinka.at
SUMMARY:ШАХМАТЫ С НУЛЯ
DESCRIPTION:
URL:https://www.rosinka.at/event/%d1%88%d0%b0%d1%85%d0%bc%d0%b0%d1%82%d1%8b-%d1%81-%d0%bd%d1%83%d0%bb%d1%8f-2-2022-03-26/2022-03-26/
END:VEVENT
BEGIN:VEVENT
DTSTART;TZID=Europe/Vienna:20220326T091500
DTEND;TZID=Europe/Vienna:20220326T101500
DTSTAMP:20260420T090552
CREATED:20220228T084143Z
LAST-MODIFIED:20220324T135606Z
UID:7405-1648286100-1648289700@www.rosinka.at
SUMMARY:ШАХМАТЫ
DESCRIPTION:
URL:https://www.rosinka.at/event/%d1%88%d0%b0%d1%85%d0%bc%d0%b0%d1%82%d1%8b-7-2022-03-26/2022-03-26/
END:VEVENT
BEGIN:VEVENT
DTSTART;TZID=Europe/Vienna:20220325T161500
DTEND;TZID=Europe/Vienna:20220325T171500
DTSTAMP:20260420T090552
CREATED:20220325T060538Z
LAST-MODIFIED:20220325T060538Z
UID:7669-1648224900-1648228500@www.rosinka.at
SUMMARY:ЖИВОПИСЬ
DESCRIPTION:
URL:https://www.rosinka.at/event/%d0%b6%d0%b8%d0%b2%d0%be%d0%bf%d0%b8%d1%81%d1%8c/
END:VEVENT
BEGIN:VEVENT
DTSTART;TZID=Europe/Vienna:20220319T105000
DTEND;TZID=Europe/Vienna:20220319T115000
DTSTAMP:20260420T090552
CREATED:20220228T084304Z
LAST-MODIFIED:20220314T090615Z
UID:7423-1647687000-1647690600@www.rosinka.at
SUMMARY:ШАХМАТЫ С НУЛЯ
DESCRIPTION:
URL:https://www.rosinka.at/event/%d1%88%d0%b0%d1%85%d0%bc%d0%b0%d1%82%d1%8b-%d1%81-%d0%bd%d1%83%d0%bb%d1%8f-2-2022-03-19/
END:VEVENT
BEGIN:VEVENT
DTSTART;TZID=Europe/Vienna:20220317T164500
DTEND;TZID=Europe/Vienna:20220317T182000
DTSTAMP:20260420T090552
CREATED:20220228T083902Z
LAST-MODIFIED:20220314T090546Z
UID:7366-1647535500-1647541200@www.rosinka.at
SUMMARY:ФАНТАЗЕРЫ (9-10)
DESCRIPTION:
URL:https://www.rosinka.at/event/%d1%84%d0%b0%d0%bd%d1%82%d0%b0%d0%b7%d0%b5%d1%80%d1%8b-9-10-2-2022-03-17/2022-03-17/
END:VEVENT
BEGIN:VEVENT
DTSTART;TZID=Europe/Vienna:20220317T153000
DTEND;TZID=Europe/Vienna:20220317T163000
DTSTAMP:20260420T090552
CREATED:20220228T083735Z
LAST-MODIFIED:20220314T090530Z
UID:7347-1647531000-1647534600@www.rosinka.at
SUMMARY:БУКВОЕЖКИ (6-7)
DESCRIPTION:
URL:https://www.rosinka.at/event/%d0%b1%d1%83%d0%ba%d0%b2%d0%be%d0%b5%d0%b6%d0%ba%d0%b8-6-7-2-2022-03-17/2022-03-17/
END:VEVENT
BEGIN:VEVENT
DTSTART;TZID=Europe/Vienna:20220312T120000
DTEND;TZID=Europe/Vienna:20220312T133000
DTSTAMP:20260420T090552
CREATED:20220403T103918Z
LAST-MODIFIED:20220403T103918Z
UID:7677-1647086400-1647091800@www.rosinka.at
SUMMARY:ТЕАТРАЛЬНАЯ СТУДИЯ (5-9)
DESCRIPTION:
URL:https://www.rosinka.at/event/%d1%82%d0%b5%d0%b0%d1%82%d1%80%d0%b0%d0%bb%d1%8c%d0%bd%d0%b0%d1%8f-%d1%81%d1%82%d1%83%d0%b4%d0%b8%d1%8f-5-9-5/2022-03-12/
END:VEVENT
BEGIN:VEVENT
DTSTART;TZID=Europe/Vienna:20220312T100000
DTEND;TZID=Europe/Vienna:20220312T113000
DTSTAMP:20260420T090552
CREATED:20220701T083104Z
LAST-MODIFIED:20220701T083104Z
UID:7828-1647079200-1647084600@www.rosinka.at
SUMMARY:ФАНТАЗЕРЫ (9-10)
DESCRIPTION:
URL:https://www.rosinka.at/event/%d1%84%d0%b0%d0%bd%d1%82%d0%b0%d0%b7%d0%b5%d1%80%d1%8b-9-10-2/
END:VEVENT
BEGIN:VEVENT
DTSTART;TZID=Europe/Vienna:20220312T094500
DTEND;TZID=Europe/Vienna:20220312T104500
DTSTAMP:20260420T090552
CREATED:20220228T084143Z
LAST-MODIFIED:20220314T090342Z
UID:7403-1647078300-1647081900@www.rosinka.at
SUMMARY:ШАХМАТЫ
DESCRIPTION:
URL:https://www.rosinka.at/event/%d1%88%d0%b0%d1%85%d0%bc%d0%b0%d1%82%d1%8b-7-2022-03-12/2022-03-12/
END:VEVENT
BEGIN:VEVENT
DTSTART;TZID=Europe/Vienna:20220308T160000
DTEND;TZID=Europe/Vienna:20220308T173000
DTSTAMP:20260420T090552
CREATED:20220321T084039Z
LAST-MODIFIED:20220321T084629Z
UID:7617-1646755200-1646760600@www.rosinka.at
SUMMARY:ЗНАЙЧИКИ (5-6)
DESCRIPTION:
URL:https://www.rosinka.at/event/%d0%b7%d0%bd%d0%b0%d0%b9%d1%87%d0%b8%d0%ba%d0%b8-5-6-2-2022-03-08/2022-03-08/
END:VEVENT
BEGIN:VEVENT
DTSTART;TZID=Europe/Vienna:20220306T170000
DTEND;TZID=Europe/Vienna:20220306T183000
DTSTAMP:20260420T090552
CREATED:20220228T084501Z
LAST-MODIFIED:20220228T084501Z
UID:7458-1646586000-1646591400@www.rosinka.at
SUMMARY:ТЕАТРАЛЬНАЯ СТУДИЯ (10+)
DESCRIPTION:
URL:https://www.rosinka.at/event/%d1%82%d0%b5%d0%b0%d1%82%d1%80%d0%b0%d0%bb%d1%8c%d0%bd%d0%b0%d1%8f-%d1%81%d1%82%d1%83%d0%b4%d0%b8%d1%8f-10-2/2022-03-06/
END:VEVENT
BEGIN:VEVENT
DTSTART;TZID=Europe/Vienna:20220302T164500
DTEND;TZID=Europe/Vienna:20220302T182000
DTSTAMP:20260420T090552
CREATED:20220228T083637Z
LAST-MODIFIED:20220228T083637Z
UID:7325-1646239500-1646245200@www.rosinka.at
SUMMARY:ЯКОРЕК (7-8)
DESCRIPTION:
URL:https://www.rosinka.at/event/%d1%8f%d0%ba%d0%be%d1%80%d0%b5%d0%ba-7-8-3/2022-03-02/
END:VEVENT
BEGIN:VEVENT
DTSTART;TZID=Europe/Vienna:20220301T164500
DTEND;TZID=Europe/Vienna:20220301T182000
DTSTAMP:20260420T090552
CREATED:20220228T083528Z
LAST-MODIFIED:20220228T083528Z
UID:7306-1646153100-1646158800@www.rosinka.at
SUMMARY:ЗВЕЗДОЧЕТЫ (10-11)
DESCRIPTION:
URL:https://www.rosinka.at/event/%d0%b7%d0%b2%d0%b5%d0%b7%d0%b4%d0%be%d1%87%d0%b5%d1%82%d1%8b-10-11-3/2022-03-01/
END:VEVENT
BEGIN:VEVENT
DTSTART;TZID=Europe/Vienna:20220301T150000
DTEND;TZID=Europe/Vienna:20220301T163000
DTSTAMP:20260420T090552
CREATED:20220228T083410Z
LAST-MODIFIED:20220228T083410Z
UID:7287-1646146800-1646152200@www.rosinka.at
SUMMARY:ЗОЛОТОЙ КЛЮЧИК (11-13)
DESCRIPTION:
URL:https://www.rosinka.at/event/%d0%b7%d0%be%d0%bb%d0%be%d1%82%d0%be%d0%b9-%d0%ba%d0%bb%d1%8e%d1%87%d0%b8%d0%ba-11-13-2/2022-03-01/
END:VEVENT
BEGIN:VEVENT
DTSTART;TZID=Europe/Vienna:20220228T170000
DTEND;TZID=Europe/Vienna:20220228T180000
DTSTAMP:20260420T090552
CREATED:20220228T083223Z
LAST-MODIFIED:20220228T083223Z
UID:7249-1646067600-1646071200@www.rosinka.at
SUMMARY:СОЛНЫШКИ (1\,5-3)
DESCRIPTION:
URL:https://www.rosinka.at/event/%d1%81%d0%be%d0%bb%d0%bd%d1%8b%d1%88%d0%ba%d0%b8-15-3-2/2022-02-28/
END:VEVENT
BEGIN:VEVENT
DTSTART;TZID=Europe/Vienna:20220228T153000
DTEND;TZID=Europe/Vienna:20220228T163000
DTSTAMP:20260420T090552
CREATED:20220228T083320Z
LAST-MODIFIED:20220228T083320Z
UID:7268-1646062200-1646065800@www.rosinka.at
SUMMARY:НЕПОСЕДЫ (4-5)
DESCRIPTION:
URL:https://www.rosinka.at/event/%d0%bd%d0%b5%d0%bf%d0%be%d1%81%d0%b5%d0%b4%d1%8b-4-5-2/2022-02-28/
END:VEVENT
BEGIN:VEVENT
DTSTART;VALUE=DATE:20220219
DTEND;VALUE=DATE:20220228
DTSTAMP:20260420T090552
CREATED:20210824T140442Z
LAST-MODIFIED:20210824T140442Z
UID:6357-1645228800-1646006399@www.rosinka.at
SUMMARY:ЗИМНИЕ КАНИКУЛЫ
DESCRIPTION:
URL:https://www.rosinka.at/event/%d0%b7%d0%b8%d0%bc%d0%bd%d0%b8%d0%b5-%d0%ba%d0%b0%d0%bd%d0%b8%d0%ba%d1%83%d0%bb%d1%8b-5/
END:VEVENT
BEGIN:VEVENT
DTSTART;TZID=Europe/Vienna:20220218T161500
DTEND;TZID=Europe/Vienna:20220218T171500
DTSTAMP:20260420T090552
CREATED:20210923T053131Z
LAST-MODIFIED:20220108T131054Z
UID:6576-1645200900-1645204500@www.rosinka.at
SUMMARY:ЛЮБОЗНАЙКИ (3-4)
DESCRIPTION:
URL:https://www.rosinka.at/event/%d0%bb%d1%8e%d0%b1%d0%be%d0%b7%d0%bd%d0%b0%d0%b9%d0%ba%d0%b8-2-2022-02-18/
END:VEVENT
BEGIN:VEVENT
DTSTART;TZID=Europe/Vienna:20220215T164500
DTEND;TZID=Europe/Vienna:20220215T182000
DTSTAMP:20260420T090552
CREATED:20220209T083148Z
LAST-MODIFIED:20220209T083148Z
UID:7218-1644943500-1644949200@www.rosinka.at
SUMMARY:ЗВЕЗДОЧЕТЫ (10-11)
DESCRIPTION:
URL:https://www.rosinka.at/event/%d0%b7%d0%b2%d0%b5%d0%b7%d0%b4%d0%be%d1%87%d0%b5%d1%82%d1%8b-10-11-2/
END:VEVENT
BEGIN:VEVENT
DTSTART;TZID=Europe/Vienna:20220212T103000
DTEND;TZID=Europe/Vienna:20220212T120000
DTSTAMP:20260420T090552
CREATED:20220209T082159Z
LAST-MODIFIED:20220209T082838Z
UID:7212-1644661800-1644667200@www.rosinka.at
SUMMARY:ЗВЕЗДОЧЕТЫ (10-11)
DESCRIPTION:
URL:https://www.rosinka.at/event/%d0%b7%d0%b2%d0%b5%d0%b7%d0%b4%d0%be%d1%87%d0%b5%d1%82%d1%8b-10-11-2022-02-08/
END:VEVENT
BEGIN:VEVENT
DTSTART;TZID=Europe/Vienna:20220204T161500
DTEND;TZID=Europe/Vienna:20220204T171500
DTSTAMP:20260420T090552
CREATED:20210923T053131Z
LAST-MODIFIED:20220108T130946Z
UID:6574-1643991300-1643994900@www.rosinka.at
SUMMARY:ЛЮБОЗНАЙКИ (3-4)
DESCRIPTION:
URL:https://www.rosinka.at/event/%d0%bb%d1%8e%d0%b1%d0%be%d0%b7%d0%bd%d0%b0%d0%b9%d0%ba%d0%b8-2-2022-02-04/
END:VEVENT
BEGIN:VEVENT
DTSTART;TZID=Europe/Vienna:20220121T161500
DTEND;TZID=Europe/Vienna:20220121T171500
DTSTAMP:20260420T090552
CREATED:20210923T053131Z
LAST-MODIFIED:20220108T130849Z
UID:6572-1642781700-1642785300@www.rosinka.at
SUMMARY:ЛЮБОЗНАЙКИ (3-4)
DESCRIPTION:
URL:https://www.rosinka.at/event/%d0%bb%d1%8e%d0%b1%d0%be%d0%b7%d0%bd%d0%b0%d0%b9%d0%ba%d0%b8-2-2022-01-21/
END:VEVENT
BEGIN:VEVENT
DTSTART;VALUE=DATE:20211224
DTEND;VALUE=DATE:20220110
DTSTAMP:20260420T090552
CREATED:20210824T140331Z
LAST-MODIFIED:20210824T140331Z
UID:6355-1640304000-1641772799@www.rosinka.at
SUMMARY:РОЖДЕСТВЕНСКИЕ КАНИКУЛЫ
DESCRIPTION:
URL:https://www.rosinka.at/event/%d1%80%d0%be%d0%b6%d0%b4%d0%b5%d1%81%d1%82%d0%b2%d0%b5%d0%bd%d1%81%d0%ba%d0%b8%d0%b5-%d0%ba%d0%b0%d0%bd%d0%b8%d0%ba%d1%83%d0%bb%d1%8b-5/
END:VEVENT
BEGIN:VEVENT
DTSTART;TZID=Europe/Vienna:20211208T164500
DTEND;TZID=Europe/Vienna:20211208T182000
DTSTAMP:20260420T090552
CREATED:20211216T070500Z
LAST-MODIFIED:20211216T070500Z
UID:7102-1638981900-1638987600@www.rosinka.at
SUMMARY:ЯКОРЕК (7-8)
DESCRIPTION:
URL:https://www.rosinka.at/event/%d1%8f%d0%ba%d0%be%d1%80%d0%b5%d0%ba-7-8-2/
END:VEVENT
BEGIN:VEVENT
DTSTART;VALUE=DATE:20211208
DTEND;VALUE=DATE:20211209
DTSTAMP:20260420T090552
CREATED:20210824T140143Z
LAST-MODIFIED:20210824T140143Z
UID:6353-1638921600-1639007999@www.rosinka.at
SUMMARY:НЕУЧЕБНЫЙ ДЕНЬ
DESCRIPTION:
URL:https://www.rosinka.at/event/%d0%bd%d0%b5%d1%83%d1%87%d0%b5%d0%b1%d0%bd%d1%8b%d0%b9-%d0%b4%d0%b5%d0%bd%d1%8c-21/
END:VEVENT
BEGIN:VEVENT
DTSTART;TZID=Europe/Vienna:20211120T094500
DTEND;TZID=Europe/Vienna:20211120T104500
DTSTAMP:20260420T090552
CREATED:20210923T055522Z
LAST-MODIFIED:20220111T095505Z
UID:6680-1637401500-1637405100@www.rosinka.at
SUMMARY:ШАХМАТЫ
DESCRIPTION:
URL:https://www.rosinka.at/event/%d1%88%d0%b0%d1%85%d0%bc%d0%b0%d1%82%d1%8b-5/2021-11-20/
END:VEVENT
BEGIN:VEVENT
DTSTART;TZID=Europe/Vienna:20211109T160000
DTEND;TZID=Europe/Vienna:20211109T173000
DTSTAMP:20260420T090552
CREATED:20211115T103951Z
LAST-MODIFIED:20211115T104011Z
UID:7074-1636473600-1636479000@www.rosinka.at
SUMMARY:ЗНАЙЧИКИ (5-6)
DESCRIPTION:
URL:https://www.rosinka.at/event/%d0%b7%d0%bd%d0%b0%d0%b9%d1%87%d0%b8%d0%ba%d0%b8-5-6/2021-11-09/
END:VEVENT
BEGIN:VEVENT
DTSTART;TZID=Europe/Vienna:20211108T153000
DTEND;TZID=Europe/Vienna:20211108T163000
DTSTAMP:20260420T090552
CREATED:20211107T174151Z
LAST-MODIFIED:20211107T174151Z
UID:6997-1636385400-1636389000@www.rosinka.at
SUMMARY:НЕПОСЕДЫ (4-5)
DESCRIPTION:
URL:https://www.rosinka.at/event/%d0%bd%d0%b5%d0%bf%d0%be%d1%81%d0%b5%d0%b4%d1%8b-4-5/2021-11-08/
END:VEVENT
BEGIN:VEVENT
DTSTART;TZID=Europe/Vienna:20211107T170000
DTEND;TZID=Europe/Vienna:20211107T183000
DTSTAMP:20260420T090552
CREATED:20211107T182218Z
LAST-MODIFIED:20211107T182218Z
UID:7015-1636304400-1636309800@www.rosinka.at
SUMMARY:ТЕАТРАЛЬНАЯ СТУДИЯ (10+)
DESCRIPTION:
URL:https://www.rosinka.at/event/%d1%82%d0%b5%d0%b0%d1%82%d1%80%d0%b0%d0%bb%d1%8c%d0%bd%d0%b0%d1%8f-%d1%81%d1%82%d1%83%d0%b4%d0%b8%d1%8f-10/2021-11-07/
END:VEVENT
END:VCALENDAR