BEGIN:VCALENDAR
VERSION:2.0
PRODID:-//Rosinka - ECPv6.15.20//NONSGML v1.0//EN
CALSCALE:GREGORIAN
METHOD:PUBLISH
X-WR-CALNAME:Rosinka
X-ORIGINAL-URL:https://www.rosinka.at
X-WR-CALDESC:Мероприятия для Rosinka
REFRESH-INTERVAL;VALUE=DURATION:PT1H
X-Robots-Tag:noindex
X-PUBLISHED-TTL:PT1H
BEGIN:VTIMEZONE
TZID:Europe/Vienna
BEGIN:DAYLIGHT
TZOFFSETFROM:+0100
TZOFFSETTO:+0200
TZNAME:CEST
DTSTART:20200329T010000
END:DAYLIGHT
BEGIN:STANDARD
TZOFFSETFROM:+0200
TZOFFSETTO:+0100
TZNAME:CET
DTSTART:20201025T010000
END:STANDARD
BEGIN:DAYLIGHT
TZOFFSETFROM:+0100
TZOFFSETTO:+0200
TZNAME:CEST
DTSTART:20210328T010000
END:DAYLIGHT
BEGIN:STANDARD
TZOFFSETFROM:+0200
TZOFFSETTO:+0100
TZNAME:CET
DTSTART:20211031T010000
END:STANDARD
BEGIN:DAYLIGHT
TZOFFSETFROM:+0100
TZOFFSETTO:+0200
TZNAME:CEST
DTSTART:20220327T010000
END:DAYLIGHT
BEGIN:STANDARD
TZOFFSETFROM:+0200
TZOFFSETTO:+0100
TZNAME:CET
DTSTART:20221030T010000
END:STANDARD
END:VTIMEZONE
BEGIN:VEVENT
DTSTART;TZID=Europe/Vienna:20211208T164500
DTEND;TZID=Europe/Vienna:20211208T182000
DTSTAMP:20260420T080139
CREATED:20211216T070500Z
LAST-MODIFIED:20211216T070500Z
UID:7102-1638981900-1638987600@www.rosinka.at
SUMMARY:ЯКОРЕК (7-8)
DESCRIPTION:
URL:https://www.rosinka.at/event/%d1%8f%d0%ba%d0%be%d1%80%d0%b5%d0%ba-7-8-2/
END:VEVENT
BEGIN:VEVENT
DTSTART;VALUE=DATE:20211208
DTEND;VALUE=DATE:20211209
DTSTAMP:20260420T080139
CREATED:20210824T140143Z
LAST-MODIFIED:20210824T140143Z
UID:6353-1638921600-1639007999@www.rosinka.at
SUMMARY:НЕУЧЕБНЫЙ ДЕНЬ
DESCRIPTION:
URL:https://www.rosinka.at/event/%d0%bd%d0%b5%d1%83%d1%87%d0%b5%d0%b1%d0%bd%d1%8b%d0%b9-%d0%b4%d0%b5%d0%bd%d1%8c-21/
END:VEVENT
BEGIN:VEVENT
DTSTART;TZID=Europe/Vienna:20211120T094500
DTEND;TZID=Europe/Vienna:20211120T104500
DTSTAMP:20260420T080139
CREATED:20210923T055522Z
LAST-MODIFIED:20220111T095505Z
UID:6680-1637401500-1637405100@www.rosinka.at
SUMMARY:ШАХМАТЫ
DESCRIPTION:
URL:https://www.rosinka.at/event/%d1%88%d0%b0%d1%85%d0%bc%d0%b0%d1%82%d1%8b-5/2021-11-20/
END:VEVENT
BEGIN:VEVENT
DTSTART;TZID=Europe/Vienna:20211109T160000
DTEND;TZID=Europe/Vienna:20211109T173000
DTSTAMP:20260420T080139
CREATED:20211115T103951Z
LAST-MODIFIED:20211115T104011Z
UID:7074-1636473600-1636479000@www.rosinka.at
SUMMARY:ЗНАЙЧИКИ (5-6)
DESCRIPTION:
URL:https://www.rosinka.at/event/%d0%b7%d0%bd%d0%b0%d0%b9%d1%87%d0%b8%d0%ba%d0%b8-5-6/2021-11-09/
END:VEVENT
BEGIN:VEVENT
DTSTART;TZID=Europe/Vienna:20211108T153000
DTEND;TZID=Europe/Vienna:20211108T163000
DTSTAMP:20260420T080139
CREATED:20211107T174151Z
LAST-MODIFIED:20211107T174151Z
UID:6997-1636385400-1636389000@www.rosinka.at
SUMMARY:НЕПОСЕДЫ (4-5)
DESCRIPTION:
URL:https://www.rosinka.at/event/%d0%bd%d0%b5%d0%bf%d0%be%d1%81%d0%b5%d0%b4%d1%8b-4-5/2021-11-08/
END:VEVENT
BEGIN:VEVENT
DTSTART;TZID=Europe/Vienna:20211107T170000
DTEND;TZID=Europe/Vienna:20211107T183000
DTSTAMP:20260420T080139
CREATED:20211107T182218Z
LAST-MODIFIED:20211107T182218Z
UID:7015-1636304400-1636309800@www.rosinka.at
SUMMARY:ТЕАТРАЛЬНАЯ СТУДИЯ (10+)
DESCRIPTION:
URL:https://www.rosinka.at/event/%d1%82%d0%b5%d0%b0%d1%82%d1%80%d0%b0%d0%bb%d1%8c%d0%bd%d0%b0%d1%8f-%d1%81%d1%82%d1%83%d0%b4%d0%b8%d1%8f-10/2021-11-07/
END:VEVENT
BEGIN:VEVENT
DTSTART;TZID=Europe/Vienna:20211106T120000
DTEND;TZID=Europe/Vienna:20211106T133000
DTSTAMP:20260420T080139
CREATED:20211013T212407Z
LAST-MODIFIED:20211013T212407Z
UID:6807-1636200000-1636205400@www.rosinka.at
SUMMARY:ТЕАТРАЛЬНАЯ СТУДИЯ (5-9)
DESCRIPTION:
URL:https://www.rosinka.at/event/%d1%82%d0%b5%d0%b0%d1%82%d1%80%d0%b0%d0%bb%d1%8c%d0%bd%d0%b0%d1%8f-%d1%81%d1%82%d1%83%d0%b4%d0%b8%d1%8f-5-9-2/2021-11-06/
END:VEVENT
BEGIN:VEVENT
DTSTART;TZID=Europe/Vienna:20211106T105000
DTEND;TZID=Europe/Vienna:20211106T115000
DTSTAMP:20260420T080139
CREATED:20211107T182345Z
LAST-MODIFIED:20220111T095606Z
UID:7031-1636195800-1636199400@www.rosinka.at
SUMMARY:ШАХМАТЫ С НУЛЯ
DESCRIPTION:
URL:https://www.rosinka.at/event/%d1%88%d0%b0%d1%85%d0%bc%d0%b0%d1%82%d1%8b-%d1%81-%d0%bd%d1%83%d0%bb%d1%8f/2021-11-06/
END:VEVENT
BEGIN:VEVENT
DTSTART;TZID=Europe/Vienna:20211103T160000
DTEND;TZID=Europe/Vienna:20211103T170000
DTSTAMP:20260420T080139
CREATED:20211102T192353Z
LAST-MODIFIED:20211102T192353Z
UID:6977-1635955200-1635958800@www.rosinka.at
SUMMARY:ЖИВОПИСЬ (6-9)
DESCRIPTION:
URL:https://www.rosinka.at/event/%d0%b6%d0%b8%d0%b2%d0%be%d0%bf%d0%b8%d1%81%d1%8c-6-9-3/2021-11-03/
END:VEVENT
BEGIN:VEVENT
DTSTART;TZID=Europe/Vienna:20211029T160000
DTEND;TZID=Europe/Vienna:20211029T170000
DTSTAMP:20260420T080139
CREATED:20210923T053131Z
LAST-MODIFIED:20211022T161552Z
UID:6559-1635523200-1635526800@www.rosinka.at
SUMMARY:ЛЮБОЗНАЙКИ (3-4)
DESCRIPTION:
URL:https://www.rosinka.at/event/%d0%bb%d1%8e%d0%b1%d0%be%d0%b7%d0%bd%d0%b0%d0%b9%d0%ba%d0%b8/
END:VEVENT
BEGIN:VEVENT
DTSTART;TZID=Europe/Vienna:20211027T160000
DTEND;TZID=Europe/Vienna:20211027T170000
DTSTAMP:20260420T080139
CREATED:20211022T072457Z
LAST-MODIFIED:20211022T072457Z
UID:6840-1635350400-1635354000@www.rosinka.at
SUMMARY:ЖИВОПИСЬ (6-9)
DESCRIPTION:
URL:https://www.rosinka.at/event/%d0%b6%d0%b8%d0%b2%d0%be%d0%bf%d0%b8%d1%81%d1%8c-6-9-2/
END:VEVENT
BEGIN:VEVENT
DTSTART;TZID=Europe/Vienna:20211023T120000
DTEND;TZID=Europe/Vienna:20211023T133000
DTSTAMP:20260420T080139
CREATED:20211022T161500Z
LAST-MODIFIED:20211022T161500Z
UID:6848-1634990400-1634995800@www.rosinka.at
SUMMARY:ТЕАТРАЛЬНАЯ СТУДИЯ (5-9)
DESCRIPTION:
URL:https://www.rosinka.at/event/%d1%82%d0%b5%d0%b0%d1%82%d1%80%d0%b0%d0%bb%d1%8c%d0%bd%d0%b0%d1%8f-%d1%81%d1%82%d1%83%d0%b4%d0%b8%d1%8f-5-9-4/
END:VEVENT
BEGIN:VEVENT
DTSTART;TZID=Europe/Vienna:20211023T090000
DTEND;TZID=Europe/Vienna:20211023T100000
DTSTAMP:20260420T080139
CREATED:20211022T143144Z
LAST-MODIFIED:20211022T143205Z
UID:6845-1634979600-1634983200@www.rosinka.at
SUMMARY:ВОКАЛЬНО-ХОРОВАЯ СТУДИЯ (4-6)
DESCRIPTION:
URL:https://www.rosinka.at/event/%d0%b2%d0%be%d0%ba%d0%b0%d0%bb%d1%8c%d0%bd%d0%be-%d1%85%d0%be%d1%80%d0%be%d0%b2%d0%b0%d1%8f-%d1%81%d1%82%d1%83%d0%b4%d0%b8%d1%8f/
END:VEVENT
BEGIN:VEVENT
DTSTART;VALUE=DATE:20211023
DTEND;VALUE=DATE:20211102
DTSTAMP:20260420T080139
CREATED:20210824T140017Z
LAST-MODIFIED:20210824T140017Z
UID:6351-1634947200-1635811199@www.rosinka.at
SUMMARY:ОСЕННИЕ КАНИКУЛЫ
DESCRIPTION:
URL:https://www.rosinka.at/event/%d0%be%d1%81%d0%b5%d0%bd%d0%bd%d0%b8%d0%b5-%d0%ba%d0%b0%d0%bd%d0%b8%d0%ba%d1%83%d0%bb%d1%8b-2/
END:VEVENT
BEGIN:VEVENT
DTSTART;TZID=Europe/Vienna:20211016T120000
DTEND;TZID=Europe/Vienna:20211016T133000
DTSTAMP:20260420T080139
CREATED:20211013T212254Z
LAST-MODIFIED:20211013T212254Z
UID:6805-1634385600-1634391000@www.rosinka.at
SUMMARY:ТЕАТРАЛЬНАЯ СТУДИЯ (5-9)
DESCRIPTION:
URL:https://www.rosinka.at/event/%d1%82%d0%b5%d0%b0%d1%82%d1%80%d0%b0%d0%bb%d1%8c%d0%bd%d0%b0%d1%8f-%d1%81%d1%82%d1%83%d0%b4%d0%b8%d1%8f-5-9/
END:VEVENT
BEGIN:VEVENT
DTSTART;TZID=Europe/Vienna:20211009T120000
DTEND;TZID=Europe/Vienna:20211009T133000
DTSTAMP:20260420T080139
CREATED:20211013T212517Z
LAST-MODIFIED:20211013T212517Z
UID:6823-1633780800-1633786200@www.rosinka.at
SUMMARY:ТЕАТРАЛЬНАЯ СТУДИЯ (5-9)
DESCRIPTION:
URL:https://www.rosinka.at/event/%d1%82%d0%b5%d0%b0%d1%82%d1%80%d0%b0%d0%bb%d1%8c%d0%bd%d0%b0%d1%8f-%d1%81%d1%82%d1%83%d0%b4%d0%b8%d1%8f-5-9-3/
END:VEVENT
BEGIN:VEVENT
DTSTART;TZID=Europe/Vienna:20210930T164500
DTEND;TZID=Europe/Vienna:20210930T182000
DTSTAMP:20260420T080139
CREATED:20210923T053027Z
LAST-MODIFIED:20210923T053027Z
UID:6532-1633020300-1633026000@www.rosinka.at
SUMMARY:ФАНТАЗЕРЫ (9-10)
DESCRIPTION:
URL:https://www.rosinka.at/event/%d1%84%d0%b0%d0%bd%d1%82%d0%b0%d0%b7%d0%b5%d1%80%d1%8b-9-10/2021-09-30/
END:VEVENT
BEGIN:VEVENT
DTSTART;TZID=Europe/Vienna:20210930T153000
DTEND;TZID=Europe/Vienna:20210930T163000
DTSTAMP:20260420T080139
CREATED:20210929T111851Z
LAST-MODIFIED:20210929T112003Z
UID:6722-1633015800-1633019400@www.rosinka.at
SUMMARY:БУКВОЕЖКИ (6-7)
DESCRIPTION:
URL:https://www.rosinka.at/event/%d0%b1%d1%83%d0%ba%d0%b2%d0%be%d0%b5%d0%b6%d0%ba%d0%b8-6-7/2021-09-30/
END:VEVENT
BEGIN:VEVENT
DTSTART;TZID=Europe/Vienna:20210929T160000
DTEND;TZID=Europe/Vienna:20210929T170000
DTSTAMP:20260420T080139
CREATED:20210923T053456Z
LAST-MODIFIED:20211102T185200Z
UID:6721-1632931200-1632934800@www.rosinka.at
SUMMARY:ЖИВОПИСЬ (6-9)
DESCRIPTION:
URL:https://www.rosinka.at/event/%d0%b6%d0%b8%d0%b2%d0%be%d0%bf%d0%b8%d1%81%d1%8c-6-9-2021-09-29/
END:VEVENT
BEGIN:VEVENT
DTSTART;TZID=Europe/Vienna:20210927T170000
DTEND;TZID=Europe/Vienna:20210927T180000
DTSTAMP:20260420T080139
CREATED:20210923T053334Z
LAST-MODIFIED:20211107T183636Z
UID:6577-1632762000-1632765600@www.rosinka.at
SUMMARY:СОЛНЫШКИ (1\,5-3)
DESCRIPTION:7
URL:https://www.rosinka.at/event/%d1%81%d0%be%d0%bb%d0%bd%d1%8b%d1%88%d0%ba%d0%b8-15-3/2021-09-27/
END:VEVENT
BEGIN:VEVENT
DTSTART;TZID=Europe/Vienna:20210925T094500
DTEND;TZID=Europe/Vienna:20210925T104500
DTSTAMP:20260420T080139
CREATED:20210923T053632Z
LAST-MODIFIED:20211107T183124Z
UID:6622-1632563100-1632566700@www.rosinka.at
SUMMARY:ШАХМАТЫ
DESCRIPTION:
URL:https://www.rosinka.at/event/%d1%88%d0%b0%d1%85%d0%bc%d0%b0%d1%82%d1%8b-4/2021-09-25/
END:VEVENT
BEGIN:VEVENT
DTSTART;TZID=Europe/Vienna:20210925T090000
DTEND;TZID=Europe/Vienna:20210925T100000
DTSTAMP:20260420T080139
CREATED:20210923T053934Z
LAST-MODIFIED:20210923T053934Z
UID:6631-1632560400-1632564000@www.rosinka.at
SUMMARY:ВОКАЛЬНО-ХОРОВАЯ СТУДИЯ (4-6)
DESCRIPTION:
URL:https://www.rosinka.at/event/%d0%b2%d0%be%d0%ba%d0%b0%d0%bb%d1%8c%d0%bd%d0%be-%d1%85%d0%be%d1%80%d0%be%d0%b2%d0%b0%d1%8f-%d1%81%d1%82%d1%83%d0%b4%d0%b8%d1%8f-4-6/2021-09-25/
END:VEVENT
BEGIN:VEVENT
DTSTART;TZID=Europe/Vienna:20210924T160000
DTEND;TZID=Europe/Vienna:20210924T170000
DTSTAMP:20260420T080139
CREATED:20210923T053131Z
LAST-MODIFIED:20211022T161645Z
UID:6550-1632499200-1632502800@www.rosinka.at
SUMMARY:ЛЮБОЗНАЙКИ (3-4)
DESCRIPTION:
URL:https://www.rosinka.at/event/%d0%bb%d1%8e%d0%b1%d0%be%d0%b7%d0%bd%d0%b0%d0%b9%d0%ba%d0%b8-2/2021-09-24/
END:VEVENT
BEGIN:VEVENT
DTSTART;TZID=Europe/Vienna:20210924T153000
DTEND;TZID=Europe/Vienna:20210924T163000
DTSTAMP:20260420T080139
CREATED:20210923T054116Z
LAST-MODIFIED:20210923T054116Z
UID:6653-1632497400-1632501000@www.rosinka.at
SUMMARY:ВОКАЛЬНО-ХОРОВАЯ СТУДИЯ (6-8)
DESCRIPTION:
URL:https://www.rosinka.at/event/%d0%b2%d0%be%d0%ba%d0%b0%d0%bb%d1%8c%d0%bd%d0%be-%d1%85%d0%be%d1%80%d0%be%d0%b2%d0%b0%d1%8f-%d1%81%d1%82%d1%83%d0%b4%d0%b8%d1%8f-6-8/
END:VEVENT
BEGIN:VEVENT
DTSTART;TZID=Europe/Vienna:20210922T164500
DTEND;TZID=Europe/Vienna:20210922T182000
DTSTAMP:20260420T080139
CREATED:20210923T052846Z
LAST-MODIFIED:20210923T052846Z
UID:6509-1632329100-1632334800@www.rosinka.at
SUMMARY:ЯКОРЕК (7-8)
DESCRIPTION:
URL:https://www.rosinka.at/event/%d1%8f%d0%ba%d0%be%d1%80%d0%b5%d0%ba-7-8/2021-09-22/
END:VEVENT
BEGIN:VEVENT
DTSTART;TZID=Europe/Vienna:20210922T164500
DTEND;TZID=Europe/Vienna:20210922T174500
DTSTAMP:20260420T080139
CREATED:20210923T053456Z
LAST-MODIFIED:20210929T111714Z
UID:6599-1632329100-1632332700@www.rosinka.at
SUMMARY:ЖИВОПИСЬ (6-9)
DESCRIPTION:
URL:https://www.rosinka.at/event/%d0%b6%d0%b8%d0%b2%d0%be%d0%bf%d0%b8%d1%81%d1%8c-6-9/2021-09-22/
END:VEVENT
BEGIN:VEVENT
DTSTART;TZID=Europe/Vienna:20210921T164500
DTEND;TZID=Europe/Vienna:20210921T182000
DTSTAMP:20260420T080139
CREATED:20220209T082159Z
LAST-MODIFIED:20220209T082401Z
UID:7170-1632242700-1632248400@www.rosinka.at
SUMMARY:ЗВЕЗДОЧЕТЫ (10-11)
DESCRIPTION:
URL:https://www.rosinka.at/event/%d0%b7%d0%b2%d0%b5%d0%b7%d0%b4%d0%be%d1%87%d0%b5%d1%82%d1%8b-10-11/2021-09-21/
END:VEVENT
BEGIN:VEVENT
DTSTART;TZID=Europe/Vienna:20210921T150000
DTEND;TZID=Europe/Vienna:20210921T163000
DTSTAMP:20260420T080139
CREATED:20210923T052438Z
LAST-MODIFIED:20210923T052438Z
UID:6463-1632236400-1632241800@www.rosinka.at
SUMMARY:ЗОЛОТОЙ КЛЮЧИК (11-13)
DESCRIPTION:
URL:https://www.rosinka.at/event/%d0%b7%d0%be%d0%bb%d0%be%d1%82%d0%be%d0%b9-%d0%ba%d0%bb%d1%8e%d1%87%d0%b8%d0%ba-11-13/2021-09-21/
END:VEVENT
BEGIN:VEVENT
DTSTART;TZID=Europe/Vienna:20210703T100000
DTEND;TZID=Europe/Vienna:20210703T110000
DTSTAMP:20260420T080139
CREATED:20210405T171307Z
LAST-MODIFIED:20210630T142731Z
UID:6091-1625306400-1625310000@www.rosinka.at
SUMMARY:ШАХМАТЫ
DESCRIPTION:
URL:https://www.rosinka.at/event/%d1%88%d0%b0%d1%85%d0%bc%d0%b0%d1%82%d1%8b-3-2021-06-26/
END:VEVENT
BEGIN:VEVENT
DTSTART;VALUE=DATE:20210703
DTEND;VALUE=DATE:20210920
DTSTAMP:20260420T080139
CREATED:20210405T175213Z
LAST-MODIFIED:20210911T082255Z
UID:6149-1625270400-1632095999@www.rosinka.at
SUMMARY:ЛЕТНИЕ КАНИКУЛЫ 😃☀️🎉
DESCRIPTION:
URL:https://www.rosinka.at/event/%d0%bb%d0%b5%d1%82%d0%bd%d0%b8%d0%b5-%d0%ba%d0%b0%d0%bd%d0%b8%d0%ba%d1%83%d0%bb%d1%8b-%f0%9f%98%83%e2%98%80%ef%b8%8f%f0%9f%8e%89-4/
END:VEVENT
END:VCALENDAR