BEGIN:VCALENDAR
VERSION:2.0
PRODID:-//Rosinka - ECPv6.15.20//NONSGML v1.0//EN
CALSCALE:GREGORIAN
METHOD:PUBLISH
X-WR-CALNAME:Rosinka
X-ORIGINAL-URL:https://www.rosinka.at
X-WR-CALDESC:Мероприятия для Rosinka
REFRESH-INTERVAL;VALUE=DURATION:PT1H
X-Robots-Tag:noindex
X-PUBLISHED-TTL:PT1H
BEGIN:VTIMEZONE
TZID:Europe/Vienna
BEGIN:DAYLIGHT
TZOFFSETFROM:+0100
TZOFFSETTO:+0200
TZNAME:CEST
DTSTART:20190331T010000
END:DAYLIGHT
BEGIN:STANDARD
TZOFFSETFROM:+0200
TZOFFSETTO:+0100
TZNAME:CET
DTSTART:20191027T010000
END:STANDARD
BEGIN:DAYLIGHT
TZOFFSETFROM:+0100
TZOFFSETTO:+0200
TZNAME:CEST
DTSTART:20200329T010000
END:DAYLIGHT
BEGIN:STANDARD
TZOFFSETFROM:+0200
TZOFFSETTO:+0100
TZNAME:CET
DTSTART:20201025T010000
END:STANDARD
BEGIN:DAYLIGHT
TZOFFSETFROM:+0100
TZOFFSETTO:+0200
TZNAME:CEST
DTSTART:20210328T010000
END:DAYLIGHT
BEGIN:STANDARD
TZOFFSETFROM:+0200
TZOFFSETTO:+0100
TZNAME:CET
DTSTART:20211031T010000
END:STANDARD
END:VTIMEZONE
BEGIN:VEVENT
DTSTART;TZID=Europe/Vienna:20201214T153000
DTEND;TZID=Europe/Vienna:20201214T170000
DTSTAMP:20260421T064303
CREATED:20200918T210400Z
LAST-MODIFIED:20201206T191659Z
UID:5282-1607959800-1607965200@www.rosinka.at
SUMMARY:ЗОЛОТОЙ КЛЮЧИК (10-12)
DESCRIPTION:
URL:https://www.rosinka.at/event/%d0%b7%d0%be%d0%bb%d0%be%d1%82%d0%be%d0%b9-%d0%ba%d0%bb%d1%8e%d1%87%d0%b8%d0%ba-10-12-2020-12-15/
END:VEVENT
BEGIN:VEVENT
DTSTART;TZID=Europe/Vienna:20201211T163000
DTEND;TZID=Europe/Vienna:20201211T171500
DTSTAMP:20260421T064303
CREATED:20200928T051657Z
LAST-MODIFIED:20201206T191123Z
UID:5545-1607704200-1607706900@www.rosinka.at
SUMMARY:ЗНАЙЧИКИ (4-5)
DESCRIPTION:
URL:https://www.rosinka.at/event/%d0%b7%d0%bd%d0%b0%d0%b9%d1%87%d0%b8%d0%ba%d0%b8-4-5-2020-12-11/
END:VEVENT
BEGIN:VEVENT
DTSTART;TZID=Europe/Vienna:20201210T151500
DTEND;TZID=Europe/Vienna:20201210T161500
DTSTAMP:20260421T064303
CREATED:20200918T212015Z
LAST-MODIFIED:20201206T191002Z
UID:5358-1607613300-1607616900@www.rosinka.at
SUMMARY:БУКВОЕЖКИ (5-6)
DESCRIPTION:
URL:https://www.rosinka.at/event/%d0%b1%d1%83%d0%ba%d0%b2%d0%be%d0%b5%d0%b6%d0%ba%d0%b8-5-6-2020-12-10/
END:VEVENT
BEGIN:VEVENT
DTSTART;TZID=Europe/Vienna:20201209T163000
DTEND;TZID=Europe/Vienna:20201209T173000
DTSTAMP:20260421T064303
CREATED:20200918T211242Z
LAST-MODIFIED:20201206T191926Z
UID:5333-1607531400-1607535000@www.rosinka.at
SUMMARY:ЯКОРЕК (6-7)
DESCRIPTION:
URL:https://www.rosinka.at/event/%d1%8f%d0%ba%d0%be%d1%80%d0%b5%d0%ba-6-7-2020-12-09/
END:VEVENT
BEGIN:VEVENT
DTSTART;TZID=Europe/Vienna:20201208T160000
DTEND;TZID=Europe/Vienna:20201208T173000
DTSTAMP:20260421T064303
CREATED:20201206T191441Z
LAST-MODIFIED:20201206T191515Z
UID:5821-1607443200-1607448600@www.rosinka.at
SUMMARY:ЗВЕЗДОЧЕТЫ (9-10)
DESCRIPTION:
URL:https://www.rosinka.at/event/%d0%b7%d0%b2%d0%b5%d0%b7%d0%b4%d0%be%d1%87%d0%b5%d1%82%d1%8b-8-9-18/
END:VEVENT
BEGIN:VEVENT
DTSTART;TZID=Europe/Vienna:20201207T153000
DTEND;TZID=Europe/Vienna:20201207T170000
DTSTAMP:20260421T064303
CREATED:20200910T212030Z
LAST-MODIFIED:20201206T191344Z
UID:5131-1607355000-1607360400@www.rosinka.at
SUMMARY:ЗОЛОТОЙ КЛЮЧИК (10-12)
DESCRIPTION:
URL:https://www.rosinka.at/event/%d0%bd%d0%b5%d1%83%d1%87%d0%b5%d0%b1%d0%bd%d1%8b%d0%b9-%d0%b4%d0%b5%d0%bd%d1%8c-20/
END:VEVENT
BEGIN:VEVENT
DTSTART;TZID=Europe/Vienna:20201204T153000
DTEND;TZID=Europe/Vienna:20201204T161500
DTSTAMP:20260421T064303
CREATED:20200928T051657Z
LAST-MODIFIED:20201120T205435Z
UID:5544-1607095800-1607098500@www.rosinka.at
SUMMARY:ЗНАЙЧИКИ (4-5)
DESCRIPTION:
URL:https://www.rosinka.at/event/%d0%b7%d0%bd%d0%b0%d0%b9%d1%87%d0%b8%d0%ba%d0%b8-4-5-2020-12-04/
END:VEVENT
BEGIN:VEVENT
DTSTART;TZID=Europe/Vienna:20201203T151500
DTEND;TZID=Europe/Vienna:20201203T161500
DTSTAMP:20260421T064303
CREATED:20200918T212015Z
LAST-MODIFIED:20201116T071252Z
UID:5357-1607008500-1607012100@www.rosinka.at
SUMMARY:БУКВОЕЖКИ (5-6)
DESCRIPTION:
URL:https://www.rosinka.at/event/%d0%b1%d1%83%d0%ba%d0%b2%d0%be%d0%b5%d0%b6%d0%ba%d0%b8-5-6-2020-12-03/
END:VEVENT
BEGIN:VEVENT
DTSTART;TZID=Europe/Vienna:20201203T140000
DTEND;TZID=Europe/Vienna:20201203T153000
DTSTAMP:20260421T064303
CREATED:20200918T210850Z
LAST-MODIFIED:20201120T205324Z
UID:5306-1607004000-1607009400@www.rosinka.at
SUMMARY:ЗВЕЗДОЧЕТЫ (9-10)
DESCRIPTION:
URL:https://www.rosinka.at/event/%d0%b7%d0%b2%d0%b5%d0%b7%d0%b4%d0%be%d1%87%d0%b5%d1%82%d1%8b-9-10-2020-12-01/
END:VEVENT
BEGIN:VEVENT
DTSTART;TZID=Europe/Vienna:20201202T163000
DTEND;TZID=Europe/Vienna:20201202T173000
DTSTAMP:20260421T064303
CREATED:20200918T211242Z
LAST-MODIFIED:20201116T071114Z
UID:5332-1606926600-1606930200@www.rosinka.at
SUMMARY:ЯКОРЕК (6-7)
DESCRIPTION:
URL:https://www.rosinka.at/event/%d1%8f%d0%ba%d0%be%d1%80%d0%b5%d0%ba-6-7-2020-12-02/
END:VEVENT
BEGIN:VEVENT
DTSTART;TZID=Europe/Vienna:20201127T153000
DTEND;TZID=Europe/Vienna:20201127T161500
DTSTAMP:20260421T064303
CREATED:20200928T051657Z
LAST-MODIFIED:20201120T205229Z
UID:5543-1606491000-1606493700@www.rosinka.at
SUMMARY:ЗНАЙЧИКИ (4-5)
DESCRIPTION:
URL:https://www.rosinka.at/event/%d0%b7%d0%bd%d0%b0%d0%b9%d1%87%d0%b8%d0%ba%d0%b8-4-5-2020-11-27/
END:VEVENT
BEGIN:VEVENT
DTSTART;TZID=Europe/Vienna:20201126T151500
DTEND;TZID=Europe/Vienna:20201126T161500
DTSTAMP:20260421T064303
CREATED:20200918T212015Z
LAST-MODIFIED:20201108T194923Z
UID:5356-1606403700-1606407300@www.rosinka.at
SUMMARY:БУКВОЕЖКИ (5-6)
DESCRIPTION:
URL:https://www.rosinka.at/event/%d0%b1%d1%83%d0%ba%d0%b2%d0%be%d0%b5%d0%b6%d0%ba%d0%b8-5-6-2020-11-26/
END:VEVENT
BEGIN:VEVENT
DTSTART;TZID=Europe/Vienna:20201126T140000
DTEND;TZID=Europe/Vienna:20201126T153000
DTSTAMP:20260421T064303
CREATED:20200918T210850Z
LAST-MODIFIED:20201120T205148Z
UID:5305-1606399200-1606404600@www.rosinka.at
SUMMARY:ЗВЕЗДОЧЕТЫ (9-10)
DESCRIPTION:
URL:https://www.rosinka.at/event/%d0%b7%d0%b2%d0%b5%d0%b7%d0%b4%d0%be%d1%87%d0%b5%d1%82%d1%8b-9-10-2020-11-24/
END:VEVENT
BEGIN:VEVENT
DTSTART;TZID=Europe/Vienna:20201125T163000
DTEND;TZID=Europe/Vienna:20201125T173000
DTSTAMP:20260421T064303
CREATED:20200918T211242Z
LAST-MODIFIED:20201108T195012Z
UID:5331-1606321800-1606325400@www.rosinka.at
SUMMARY:ЯКОРЕК (6-7)
DESCRIPTION:
URL:https://www.rosinka.at/event/%d1%8f%d0%ba%d0%be%d1%80%d0%b5%d0%ba-6-7-2020-11-25/
END:VEVENT
BEGIN:VEVENT
DTSTART;TZID=Europe/Vienna:20201124T150000
DTEND;TZID=Europe/Vienna:20201124T163000
DTSTAMP:20260421T064303
CREATED:20200918T210400Z
LAST-MODIFIED:20201116T070900Z
UID:5279-1606230000-1606235400@www.rosinka.at
SUMMARY:ЗОЛОТОЙ КЛЮЧИК (10-12)
DESCRIPTION:
URL:https://www.rosinka.at/event/%d0%b7%d0%be%d0%bb%d0%be%d1%82%d0%be%d0%b9-%d0%ba%d0%bb%d1%8e%d1%87%d0%b8%d0%ba-10-12-2020-11-24/
END:VEVENT
BEGIN:VEVENT
DTSTART;TZID=Europe/Vienna:20201120T153000
DTEND;TZID=Europe/Vienna:20201120T161500
DTSTAMP:20260421T064303
CREATED:20200928T051657Z
LAST-MODIFIED:20201120T205017Z
UID:5542-1605886200-1605888900@www.rosinka.at
SUMMARY:ЗНАЙЧИКИ (4-5)
DESCRIPTION:
URL:https://www.rosinka.at/event/%d0%b7%d0%bd%d0%b0%d0%b9%d1%87%d0%b8%d0%ba%d0%b8-4-5-2020-11-20/
END:VEVENT
BEGIN:VEVENT
DTSTART;TZID=Europe/Vienna:20201119T151500
DTEND;TZID=Europe/Vienna:20201119T161500
DTSTAMP:20260421T064303
CREATED:20200918T212015Z
LAST-MODIFIED:20201108T194537Z
UID:5355-1605798900-1605802500@www.rosinka.at
SUMMARY:БУКВОЕЖКИ (5-6)
DESCRIPTION:
URL:https://www.rosinka.at/event/%d0%b1%d1%83%d0%ba%d0%b2%d0%be%d0%b5%d0%b6%d0%ba%d0%b8-5-6-2020-11-19/
END:VEVENT
BEGIN:VEVENT
DTSTART;TZID=Europe/Vienna:20201119T140000
DTEND;TZID=Europe/Vienna:20201119T153000
DTSTAMP:20260421T064303
CREATED:20200918T210850Z
LAST-MODIFIED:20201120T205107Z
UID:5304-1605794400-1605799800@www.rosinka.at
SUMMARY:ЗВЕЗДОЧЕТЫ (9-10)
DESCRIPTION:
URL:https://www.rosinka.at/event/%d0%b7%d0%b2%d0%b5%d0%b7%d0%b4%d0%be%d1%87%d0%b5%d1%82%d1%8b-9-10-2020-11-17/
END:VEVENT
BEGIN:VEVENT
DTSTART;TZID=Europe/Vienna:20201118T163000
DTEND;TZID=Europe/Vienna:20201118T173000
DTSTAMP:20260421T064303
CREATED:20200918T211242Z
LAST-MODIFIED:20201108T194706Z
UID:5330-1605717000-1605720600@www.rosinka.at
SUMMARY:ЯКОРЕК (6-7)
DESCRIPTION:
URL:https://www.rosinka.at/event/%d1%8f%d0%ba%d0%be%d1%80%d0%b5%d0%ba-6-7-2020-11-18/
END:VEVENT
BEGIN:VEVENT
DTSTART;TZID=Europe/Vienna:20201117T150000
DTEND;TZID=Europe/Vienna:20201117T163000
DTSTAMP:20260421T064303
CREATED:20200918T210400Z
LAST-MODIFIED:20201116T070838Z
UID:5278-1605625200-1605630600@www.rosinka.at
SUMMARY:ЗОЛОТОЙ КЛЮЧИК (10-12)
DESCRIPTION:
URL:https://www.rosinka.at/event/%d0%b7%d0%be%d0%bb%d0%be%d1%82%d0%be%d0%b9-%d0%ba%d0%bb%d1%8e%d1%87%d0%b8%d0%ba-10-12-2020-11-17/
END:VEVENT
BEGIN:VEVENT
DTSTART;TZID=Europe/Vienna:20201113T163000
DTEND;TZID=Europe/Vienna:20201113T172000
DTSTAMP:20260421T064303
CREATED:20201110T114611Z
LAST-MODIFIED:20201110T114611Z
UID:5768-1605285000-1605288000@www.rosinka.at
SUMMARY:ЗНАЙЧИКИ ПОДГРУППА 2
DESCRIPTION:
URL:https://www.rosinka.at/event/%d0%b7%d0%bd%d0%b0%d0%b9%d1%87%d0%b8%d0%ba%d0%b8-%d0%bf%d0%be%d0%b4%d0%b3%d1%80%d1%83%d0%bf%d0%bf%d0%b0-2/
END:VEVENT
BEGIN:VEVENT
DTSTART;TZID=Europe/Vienna:20201113T153000
DTEND;TZID=Europe/Vienna:20201113T162000
DTSTAMP:20260421T064303
CREATED:20200928T051657Z
LAST-MODIFIED:20201110T114535Z
UID:5541-1605281400-1605284400@www.rosinka.at
SUMMARY:ЗНАЙЧИКИ ПОДГРУППА 1
DESCRIPTION:
URL:https://www.rosinka.at/event/%d0%b7%d0%bd%d0%b0%d0%b9%d1%87%d0%b8%d0%ba%d0%b8-4-5-2020-11-13/
END:VEVENT
BEGIN:VEVENT
DTSTART;TZID=Europe/Vienna:20201112T151500
DTEND;TZID=Europe/Vienna:20201112T161500
DTSTAMP:20260421T064303
CREATED:20200918T212015Z
LAST-MODIFIED:20201108T194239Z
UID:5354-1605194100-1605197700@www.rosinka.at
SUMMARY:БУКВОЕЖКИ (5-6)
DESCRIPTION:
URL:https://www.rosinka.at/event/%d0%b1%d1%83%d0%ba%d0%b2%d0%be%d0%b5%d0%b6%d0%ba%d0%b8-5-6-2020-11-12/
END:VEVENT
BEGIN:VEVENT
DTSTART;TZID=Europe/Vienna:20201111T171500
DTEND;TZID=Europe/Vienna:20201111T184500
DTSTAMP:20260421T064303
CREATED:20200918T210850Z
LAST-MODIFIED:20201105T134202Z
UID:5303-1605114900-1605120300@www.rosinka.at
SUMMARY:ЗВЕЗДОЧЕТЫ (9-10)
DESCRIPTION:
URL:https://www.rosinka.at/event/%d0%b7%d0%b2%d0%b5%d0%b7%d0%b4%d0%be%d1%87%d0%b5%d1%82%d1%8b-9-10-2020-11-10/
END:VEVENT
BEGIN:VEVENT
DTSTART;TZID=Europe/Vienna:20201111T163000
DTEND;TZID=Europe/Vienna:20201111T173000
DTSTAMP:20260421T064303
CREATED:20200918T211242Z
LAST-MODIFIED:20201108T194607Z
UID:5329-1605112200-1605115800@www.rosinka.at
SUMMARY:ЯКОРЕК (6-7)
DESCRIPTION:
URL:https://www.rosinka.at/event/%d1%8f%d0%ba%d0%be%d1%80%d0%b5%d0%ba-6-7-2020-11-11/
END:VEVENT
BEGIN:VEVENT
DTSTART;TZID=Europe/Vienna:20201111T152000
DTEND;TZID=Europe/Vienna:20201111T160000
DTSTAMP:20260421T064303
CREATED:20201111T161609Z
LAST-MODIFIED:20201111T161609Z
UID:5772-1605108000-1605110400@www.rosinka.at
SUMMARY:ЖИВОПИСЬ (4-6)
DESCRIPTION:
URL:https://www.rosinka.at/event/%d0%b6%d0%b8%d0%b2%d0%be%d0%bf%d0%b8%d1%81%d1%8c-4-6-28/
END:VEVENT
BEGIN:VEVENT
DTSTART;TZID=Europe/Vienna:20201110T151500
DTEND;TZID=Europe/Vienna:20201110T164500
DTSTAMP:20260421T064303
CREATED:20200918T210400Z
LAST-MODIFIED:20201105T134254Z
UID:5277-1605021300-1605026700@www.rosinka.at
SUMMARY:ЗОЛОТОЙ КЛЮЧИК (10-12)
DESCRIPTION:
URL:https://www.rosinka.at/event/%d0%b7%d0%be%d0%bb%d0%be%d1%82%d0%be%d0%b9-%d0%ba%d0%bb%d1%8e%d1%87%d0%b8%d0%ba-10-12-2020-11-10/
END:VEVENT
BEGIN:VEVENT
DTSTART;TZID=Europe/Vienna:20201107T150000
DTEND;TZID=Europe/Vienna:20201107T160000
DTSTAMP:20260421T064303
CREATED:20201111T161535Z
LAST-MODIFIED:20201111T161535Z
UID:5770-1604761200-1604764800@www.rosinka.at
SUMMARY:ЖИВОПИСЬ (4-6)
DESCRIPTION:
URL:https://www.rosinka.at/event/%d0%b6%d0%b8%d0%b2%d0%be%d0%bf%d0%b8%d1%81%d1%8c-4-6-27/
END:VEVENT
BEGIN:VEVENT
DTSTART;TZID=Europe/Vienna:20201103T164500
DTEND;TZID=Europe/Vienna:20201103T174500
DTSTAMP:20260421T064303
CREATED:20200918T210850Z
LAST-MODIFIED:20201105T131933Z
UID:5302-1604421900-1604425500@www.rosinka.at
SUMMARY:ЗВЕЗДОЧЕТЫ (9-10)
DESCRIPTION:
URL:https://www.rosinka.at/event/%d0%b7%d0%b2%d0%b5%d0%b7%d0%b4%d0%be%d1%87%d0%b5%d1%82%d1%8b-9-10-2020-11-03/
END:VEVENT
BEGIN:VEVENT
DTSTART;TZID=Europe/Vienna:20201103T151500
DTEND;TZID=Europe/Vienna:20201103T161500
DTSTAMP:20260421T064303
CREATED:20200918T210400Z
LAST-MODIFIED:20201105T131330Z
UID:5276-1604416500-1604420100@www.rosinka.at
SUMMARY:ЗОЛОТОЙ КЛЮЧИК (10-12)
DESCRIPTION:
URL:https://www.rosinka.at/event/%d0%b7%d0%be%d0%bb%d0%be%d1%82%d0%be%d0%b9-%d0%ba%d0%bb%d1%8e%d1%87%d0%b8%d0%ba-10-12-2020-11-03/
END:VEVENT
END:VCALENDAR