BEGIN:VCALENDAR
VERSION:2.0
PRODID:-//Rosinka - ECPv6.15.20//NONSGML v1.0//EN
CALSCALE:GREGORIAN
METHOD:PUBLISH
X-WR-CALNAME:Rosinka
X-ORIGINAL-URL:https://www.rosinka.at
X-WR-CALDESC:Мероприятия для Rosinka
REFRESH-INTERVAL;VALUE=DURATION:PT1H
X-Robots-Tag:noindex
X-PUBLISHED-TTL:PT1H
BEGIN:VTIMEZONE
TZID:Europe/Vienna
BEGIN:DAYLIGHT
TZOFFSETFROM:+0100
TZOFFSETTO:+0200
TZNAME:CEST
DTSTART:20210328T010000
END:DAYLIGHT
BEGIN:STANDARD
TZOFFSETFROM:+0200
TZOFFSETTO:+0100
TZNAME:CET
DTSTART:20211031T010000
END:STANDARD
BEGIN:DAYLIGHT
TZOFFSETFROM:+0100
TZOFFSETTO:+0200
TZNAME:CEST
DTSTART:20220327T010000
END:DAYLIGHT
BEGIN:STANDARD
TZOFFSETFROM:+0200
TZOFFSETTO:+0100
TZNAME:CET
DTSTART:20221030T010000
END:STANDARD
BEGIN:DAYLIGHT
TZOFFSETFROM:+0100
TZOFFSETTO:+0200
TZNAME:CEST
DTSTART:20230326T010000
END:DAYLIGHT
BEGIN:STANDARD
TZOFFSETFROM:+0200
TZOFFSETTO:+0100
TZNAME:CET
DTSTART:20231029T010000
END:STANDARD
BEGIN:DAYLIGHT
TZOFFSETFROM:+0100
TZOFFSETTO:+0200
TZNAME:CEST
DTSTART:20240331T010000
END:DAYLIGHT
BEGIN:STANDARD
TZOFFSETFROM:+0200
TZOFFSETTO:+0100
TZNAME:CET
DTSTART:20241027T010000
END:STANDARD
END:VTIMEZONE
BEGIN:VEVENT
DTSTART;TZID=Europe/Vienna:20230302T150000
DTEND;TZID=Europe/Vienna:20230302T163000
DTSTAMP:20260420T082458
CREATED:20230226T111718Z
LAST-MODIFIED:20230226T111718Z
UID:8830-1677769200-1677774600@www.rosinka.at
SUMMARY:ФАНТАЗЕРЫ (10-11)
DESCRIPTION:
URL:https://www.rosinka.at/event/%d1%84%d0%b0%d0%bd%d1%82%d0%b0%d0%b7%d0%b5%d1%80%d1%8b-10-11-3/2023-03-02/
END:VEVENT
BEGIN:VEVENT
DTSTART;TZID=Europe/Vienna:20230228T164500
DTEND;TZID=Europe/Vienna:20230228T181500
DTSTAMP:20260420T082458
CREATED:20230226T111138Z
LAST-MODIFIED:20230226T111138Z
UID:8758-1677602700-1677608100@www.rosinka.at
SUMMARY:ЯКОРЕК (8-9)
DESCRIPTION:
URL:https://www.rosinka.at/event/%d1%8f%d0%ba%d0%be%d1%80%d0%b5%d0%ba-8-9-3/2023-02-28/
END:VEVENT
BEGIN:VEVENT
DTSTART;TZID=Europe/Vienna:20230228T150000
DTEND;TZID=Europe/Vienna:20230228T163000
DTSTAMP:20260420T082458
CREATED:20230226T111049Z
LAST-MODIFIED:20230226T111049Z
UID:8739-1677596400-1677601800@www.rosinka.at
SUMMARY:ЗОЛОТОЙ КЛЮЧИК (12-13)
DESCRIPTION:
URL:https://www.rosinka.at/event/%d0%b7%d0%be%d0%bb%d0%be%d1%82%d0%be%d0%b9-%d0%ba%d0%bb%d1%8e%d1%87%d0%b8%d0%ba-12-13-3/2023-02-28/
END:VEVENT
BEGIN:VEVENT
DTSTART;TZID=Europe/Vienna:20230227T171500
DTEND;TZID=Europe/Vienna:20230227T181500
DTSTAMP:20260420T082458
CREATED:20230226T110942Z
LAST-MODIFIED:20230226T110942Z
UID:8720-1677518100-1677521700@www.rosinka.at
SUMMARY:ЖИВОПИСЬ
DESCRIPTION:
URL:https://www.rosinka.at/event/%d0%b6%d0%b8%d0%b2%d0%be%d0%bf%d0%b8%d1%81%d1%8c-5/2023-02-27/
END:VEVENT
BEGIN:VEVENT
DTSTART;TZID=Europe/Vienna:20230227T171500
DTEND;TZID=Europe/Vienna:20230227T181500
DTSTAMP:20260420T082458
CREATED:20230226T110848Z
LAST-MODIFIED:20230226T110848Z
UID:8701-1677518100-1677521700@www.rosinka.at
SUMMARY:СВЕТЛЯЧКИ (1\,5-3)
DESCRIPTION:
URL:https://www.rosinka.at/event/%d1%81%d0%b2%d0%b5%d1%82%d0%bb%d1%8f%d1%87%d0%ba%d0%b8-15-3-21/2023-02-27/
END:VEVENT
BEGIN:VEVENT
DTSTART;TZID=Europe/Vienna:20230227T153000
DTEND;TZID=Europe/Vienna:20230227T170000
DTSTAMP:20260420T082458
CREATED:20230226T110733Z
LAST-MODIFIED:20230226T110733Z
UID:8682-1677511800-1677517200@www.rosinka.at
SUMMARY:НЕПОСЕДЫ (5-6)
DESCRIPTION:
URL:https://www.rosinka.at/event/%d0%bd%d0%b5%d0%bf%d0%be%d1%81%d0%b5%d0%b4%d1%8b-5-6-3/2023-02-27/
END:VEVENT
BEGIN:VEVENT
DTSTART;TZID=Europe/Vienna:20230225T100000
DTEND;TZID=Europe/Vienna:20230225T120000
DTSTAMP:20260420T082458
CREATED:20230221T195655Z
LAST-MODIFIED:20230221T195655Z
UID:8676-1677319200-1677326400@www.rosinka.at
SUMMARY:РОБОТОТЕХНИКА
DESCRIPTION:
URL:https://www.rosinka.at/event/%d1%80%d0%be%d0%b1%d0%be%d1%82%d0%be%d1%82%d0%b5%d1%85%d0%bd%d0%b8%d0%ba%d0%b0-8/
END:VEVENT
BEGIN:VEVENT
DTSTART;VALUE=DATE:20230218
DTEND;VALUE=DATE:20230227
DTSTAMP:20260420T082458
CREATED:20220831T112204Z
LAST-MODIFIED:20220831T112204Z
UID:7845-1676678400-1677455999@www.rosinka.at
SUMMARY:ЗИМНИЕ КАНИКУЛЫ
DESCRIPTION:
URL:https://www.rosinka.at/event/%d0%b7%d0%b8%d0%bc%d0%bd%d0%b8%d0%b5-%d0%ba%d0%b0%d0%bd%d0%b8%d0%ba%d1%83%d0%bb%d1%8b-6/
END:VEVENT
BEGIN:VEVENT
DTSTART;TZID=Europe/Vienna:20230215T160000
DTEND;TZID=Europe/Vienna:20230215T170000
DTSTAMP:20260420T082458
CREATED:20220918T183911Z
LAST-MODIFIED:20230216T075413Z
UID:8457-1676476800-1676480400@www.rosinka.at
SUMMARY:ЛУЧИКИ (3-4)
DESCRIPTION:
URL:https://www.rosinka.at/event/%d0%b3%d1%80%d1%83%d0%bf%d0%bf%d0%b0-3-4-%d0%b3%d0%be%d0%b4%d0%b0-2-2-2022-10-14-2023-02-17/
END:VEVENT
BEGIN:VEVENT
DTSTART;TZID=Europe/Vienna:20230205T153000
DTEND;TZID=Europe/Vienna:20230205T163000
DTSTAMP:20260420T082458
CREATED:20230129T172713Z
LAST-MODIFIED:20230129T172713Z
UID:8624-1675611000-1675614600@www.rosinka.at
SUMMARY:СОЛНЫШКИ (3-4)
DESCRIPTION:
URL:https://www.rosinka.at/event/%d1%81%d0%be%d0%bb%d0%bd%d1%8b%d1%88%d0%ba%d0%b8-3-4-2/
END:VEVENT
BEGIN:VEVENT
DTSTART;TZID=Europe/Vienna:20230131T164500
DTEND;TZID=Europe/Vienna:20230131T182000
DTSTAMP:20260420T082458
CREATED:20230131T124750Z
LAST-MODIFIED:20230131T124750Z
UID:8629-1675183500-1675189200@www.rosinka.at
SUMMARY:ЯКОРЕК (8-9)
DESCRIPTION:
URL:https://www.rosinka.at/event/%d1%8f%d0%ba%d0%be%d1%80%d0%b5%d0%ba-8-9-2/
END:VEVENT
BEGIN:VEVENT
DTSTART;TZID=Europe/Vienna:20230123T153000
DTEND;TZID=Europe/Vienna:20230123T170000
DTSTAMP:20260420T082458
CREATED:20230119T120639Z
LAST-MODIFIED:20230119T120639Z
UID:8601-1674487800-1674493200@www.rosinka.at
SUMMARY:ЗОЛОТОЙ КЛЮЧИК (12-13)
DESCRIPTION:
URL:https://www.rosinka.at/event/%d0%b7%d0%be%d0%bb%d0%be%d1%82%d0%be%d0%b9-%d0%ba%d0%bb%d1%8e%d1%87%d0%b8%d0%ba-12-13-2/
END:VEVENT
BEGIN:VEVENT
DTSTART;TZID=Europe/Vienna:20230116T153000
DTEND;TZID=Europe/Vienna:20230116T163000
DTSTAMP:20260420T082458
CREATED:20220918T182820Z
LAST-MODIFIED:20230116T063009Z
UID:8483-1673883000-1673886600@www.rosinka.at
SUMMARY:НЕПОСЕДЫ (5-6)
DESCRIPTION:
URL:https://www.rosinka.at/event/%d0%bd%d0%b5%d0%bf%d0%be%d1%81%d0%b5%d0%b4%d1%8b-5-6-2023-01-16/2023-01-16/
END:VEVENT
BEGIN:VEVENT
DTSTART;TZID=Europe/Vienna:20230109T171500
DTEND;TZID=Europe/Vienna:20230109T181500
DTSTAMP:20260420T082458
CREATED:20230104T180920Z
LAST-MODIFIED:20230104T180920Z
UID:8575-1673284500-1673288100@www.rosinka.at
SUMMARY:СВЕТЛЯЧКИ (1\,5-3)
DESCRIPTION:
URL:https://www.rosinka.at/event/%d1%81%d0%b2%d0%b5%d1%82%d0%bb%d1%8f%d1%87%d0%ba%d0%b8-15-3-22/2023-01-09/
END:VEVENT
BEGIN:VEVENT
DTSTART;TZID=Europe/Vienna:20221229T110000
DTEND;TZID=Europe/Vienna:20221229T120000
DTSTAMP:20260420T082458
CREATED:20221226T184953Z
LAST-MODIFIED:20221226T184953Z
UID:8561-1672311600-1672315200@www.rosinka.at
SUMMARY:ТЕАТРАЛЬНАЯ СТУДИЯ (4-6)
DESCRIPTION:
URL:https://www.rosinka.at/event/%d1%82%d0%b5%d0%b0%d1%82%d1%80%d0%b0%d0%bb%d1%8c%d0%bd%d0%b0%d1%8f-%d1%81%d1%82%d1%83%d0%b4%d0%b8%d1%8f-4-6-2/
END:VEVENT
BEGIN:VEVENT
DTSTART;TZID=Europe/Vienna:20221227T160000
DTEND;TZID=Europe/Vienna:20221227T170000
DTSTAMP:20260420T082458
CREATED:20221222T083942Z
LAST-MODIFIED:20221222T083942Z
UID:8556-1672156800-1672160400@www.rosinka.at
SUMMARY:ЛУЧИКИ (3-4)
DESCRIPTION:
URL:https://www.rosinka.at/event/%d0%bb%d1%83%d1%87%d0%b8%d0%ba%d0%b8-3-4-2/
END:VEVENT
BEGIN:VEVENT
DTSTART;TZID=Europe/Vienna:20221227T150000
DTEND;TZID=Europe/Vienna:20221227T163000
DTSTAMP:20260420T082458
CREATED:20230216T124300Z
LAST-MODIFIED:20230216T181050Z
UID:8656-1672153200-1672158600@www.rosinka.at
SUMMARY:ФАНТАЗЕРЫ (10-11)
DESCRIPTION:
URL:https://www.rosinka.at/event/%d1%84%d0%b0%d0%bd%d1%82%d0%b0%d0%b7%d0%b5%d1%80%d1%8b-10-11-2022-12-29/
END:VEVENT
BEGIN:VEVENT
DTSTART;VALUE=DATE:20221224
DTEND;VALUE=DATE:20230109
DTSTAMP:20260420T082458
CREATED:20220831T112125Z
LAST-MODIFIED:20220831T112125Z
UID:7843-1671840000-1673222399@www.rosinka.at
SUMMARY:РОЖДЕСТВЕНСКИЕ КАНИКУЛЫ
DESCRIPTION:
URL:https://www.rosinka.at/event/%d1%80%d0%be%d0%b6%d0%b4%d0%b5%d1%81%d1%82%d0%b2%d0%b5%d0%bd%d1%81%d0%ba%d0%b8%d0%b5-%d0%ba%d0%b0%d0%bd%d0%b8%d0%ba%d1%83%d0%bb%d1%8b-6/
END:VEVENT
BEGIN:VEVENT
DTSTART;TZID=Europe/Vienna:20221221T160000
DTEND;TZID=Europe/Vienna:20221221T170000
DTSTAMP:20260420T082458
CREATED:20221212T073541Z
LAST-MODIFIED:20221212T073541Z
UID:8549-1671638400-1671642000@www.rosinka.at
SUMMARY:ЛУЧИКИ (3-4)
DESCRIPTION:
URL:https://www.rosinka.at/event/%d0%bb%d1%83%d1%87%d0%b8%d0%ba%d0%b8-3-4/
END:VEVENT
BEGIN:VEVENT
DTSTART;TZID=Europe/Vienna:20221208T153000
DTEND;TZID=Europe/Vienna:20221208T163000
DTSTAMP:20260420T082458
CREATED:20221207T061733Z
LAST-MODIFIED:20221207T061733Z
UID:8538-1670513400-1670517000@www.rosinka.at
SUMMARY:СОЛНЫШКИ (3-4)
DESCRIPTION:
URL:https://www.rosinka.at/event/%d1%81%d0%be%d0%bb%d0%bd%d1%8b%d1%88%d0%ba%d0%b8-3-4/
END:VEVENT
BEGIN:VEVENT
DTSTART;VALUE=DATE:20221208
DTEND;VALUE=DATE:20221210
DTSTAMP:20260420T082458
CREATED:20220831T112035Z
LAST-MODIFIED:20220912T124734Z
UID:7841-1670457600-1670630399@www.rosinka.at
SUMMARY:НЕУЧЕБНЫЙ ДЕНЬ
DESCRIPTION:
URL:https://www.rosinka.at/event/%d0%bd%d0%b5%d1%83%d1%87%d0%b5%d0%b1%d0%bd%d1%8b%d0%b9-%d0%b4%d0%b5%d0%bd%d1%8c-32/
END:VEVENT
BEGIN:VEVENT
DTSTART;TZID=Europe/Vienna:20221118T160000
DTEND;TZID=Europe/Vienna:20221118T170000
DTSTAMP:20260420T082458
CREATED:20221117T101440Z
LAST-MODIFIED:20221117T101440Z
UID:8511-1668787200-1668790800@www.rosinka.at
SUMMARY:ВСЕЗНАЙКИ (РКИ)
DESCRIPTION:
URL:https://www.rosinka.at/event/%d0%b2%d1%81%d0%b5%d0%b7%d0%bd%d0%b0%d0%b9%d0%ba%d0%b8-%d1%80%d0%ba%d0%b8-3/2022-11-18/
END:VEVENT
BEGIN:VEVENT
DTSTART;TZID=Europe/Vienna:20221111T160000
DTEND;TZID=Europe/Vienna:20221111T170000
DTSTAMP:20260420T082458
CREATED:20221111T071150Z
LAST-MODIFIED:20221111T071150Z
UID:8506-1668182400-1668186000@www.rosinka.at
SUMMARY:ВСЕЗНАЙКИ (РКИ)
DESCRIPTION:
URL:https://www.rosinka.at/event/%d0%b2%d1%81%d0%b5%d0%b7%d0%bd%d0%b0%d0%b9%d0%ba%d0%b8-%d1%80%d0%ba%d0%b8-2/
END:VEVENT
BEGIN:VEVENT
DTSTART;TZID=Europe/Vienna:20221106T110000
DTEND;TZID=Europe/Vienna:20221106T120000
DTSTAMP:20260420T082458
CREATED:20230217T111850Z
LAST-MODIFIED:20230217T113518Z
UID:8673-1667732400-1667736000@www.rosinka.at
SUMMARY:РОБОТОТЕХНИКА
DESCRIPTION:
URL:https://www.rosinka.at/event/%d1%80%d0%be%d0%b1%d0%be%d1%82%d0%be%d1%82%d0%b5%d1%85%d0%bd%d0%b8%d0%ba%d0%b0-7/
END:VEVENT
BEGIN:VEVENT
DTSTART;TZID=Europe/Vienna:20221102T161500
DTEND;TZID=Europe/Vienna:20221102T174500
DTSTAMP:20260420T082458
CREATED:20221012T154847Z
LAST-MODIFIED:20221025T161825Z
UID:8450-1667405700-1667411100@www.rosinka.at
SUMMARY:НЕПОСЕДЫ (5-6)
DESCRIPTION:
URL:https://www.rosinka.at/event/%d0%bd%d0%b5%d0%bf%d0%be%d1%81%d0%b5%d0%b4%d1%8b-5-6-2/
END:VEVENT
BEGIN:VEVENT
DTSTART;TZID=Europe/Vienna:20221102T160000
DTEND;TZID=Europe/Vienna:20221102T170000
DTSTAMP:20260420T082458
CREATED:20220918T183911Z
LAST-MODIFIED:20221031T134154Z
UID:8418-1667404800-1667408400@www.rosinka.at
SUMMARY:ЛУЧИКИ (3-4)
DESCRIPTION:
URL:https://www.rosinka.at/event/%d0%b3%d1%80%d1%83%d0%bf%d0%bf%d0%b0-3-4-%d0%b3%d0%be%d0%b4%d0%b0-2-2-2022-11-04/
END:VEVENT
BEGIN:VEVENT
DTSTART;TZID=Europe/Vienna:20221026T150000
DTEND;TZID=Europe/Vienna:20221026T163000
DTSTAMP:20260420T082458
CREATED:20221026T102516Z
LAST-MODIFIED:20221026T102516Z
UID:8490-1666796400-1666801800@www.rosinka.at
SUMMARY:ФАНТАЗЕРЫ (10-11)
DESCRIPTION:
URL:https://www.rosinka.at/event/%d1%84%d0%b0%d0%bd%d1%82%d0%b0%d0%b7%d0%b5%d1%80%d1%8b-10-11-2/
END:VEVENT
BEGIN:VEVENT
DTSTART;VALUE=DATE:20221026
DTEND;VALUE=DATE:20221103
DTSTAMP:20260420T082458
CREATED:20220831T111915Z
LAST-MODIFIED:20220831T111915Z
UID:7839-1666742400-1667433599@www.rosinka.at
SUMMARY:ОСЕННИЕ КАНИКУЛЫ
DESCRIPTION:
URL:https://www.rosinka.at/event/%d0%be%d1%81%d0%b5%d0%bd%d0%bd%d0%b8%d0%b5-%d0%ba%d0%b0%d0%bd%d0%b8%d0%ba%d1%83%d0%bb%d1%8b-3/
END:VEVENT
BEGIN:VEVENT
DTSTART;TZID=Europe/Vienna:20221012T160000
DTEND;TZID=Europe/Vienna:20221012T173000
DTSTAMP:20260420T082458
CREATED:20220918T183448Z
LAST-MODIFIED:20221007T090816Z
UID:8088-1665590400-1665595800@www.rosinka.at
SUMMARY:БУКВОЕЖКИ (7-8)
DESCRIPTION:
URL:https://www.rosinka.at/event/%d0%b1%d1%83%d0%ba%d0%b2%d0%be%d0%b5%d0%b6%d0%ba%d0%b8-7-8-2022-10-12/
END:VEVENT
BEGIN:VEVENT
DTSTART;TZID=Europe/Vienna:20221007T170000
DTEND;TZID=Europe/Vienna:20221007T180000
DTSTAMP:20260420T082458
CREATED:20221007T064841Z
LAST-MODIFIED:20221007T064841Z
UID:8427-1665162000-1665165600@www.rosinka.at
SUMMARY:ВСЕЗНАЙКИ (РКИ)
DESCRIPTION:
URL:https://www.rosinka.at/event/%d0%b2%d1%81%d0%b5%d0%b7%d0%bd%d0%b0%d0%b9%d0%ba%d0%b8-%d1%80%d0%ba%d0%b8/
END:VEVENT
END:VCALENDAR