BEGIN:VCALENDAR
VERSION:2.0
PRODID:-//Rosinka - ECPv6.15.20//NONSGML v1.0//EN
CALSCALE:GREGORIAN
METHOD:PUBLISH
X-WR-CALNAME:Rosinka
X-ORIGINAL-URL:https://www.rosinka.at
X-WR-CALDESC:Мероприятия для Rosinka
REFRESH-INTERVAL;VALUE=DURATION:PT1H
X-Robots-Tag:noindex
X-PUBLISHED-TTL:PT1H
BEGIN:VTIMEZONE
TZID:Europe/Vienna
BEGIN:DAYLIGHT
TZOFFSETFROM:+0100
TZOFFSETTO:+0200
TZNAME:CEST
DTSTART:20220327T010000
END:DAYLIGHT
BEGIN:STANDARD
TZOFFSETFROM:+0200
TZOFFSETTO:+0100
TZNAME:CET
DTSTART:20221030T010000
END:STANDARD
BEGIN:DAYLIGHT
TZOFFSETFROM:+0100
TZOFFSETTO:+0200
TZNAME:CEST
DTSTART:20230326T010000
END:DAYLIGHT
BEGIN:STANDARD
TZOFFSETFROM:+0200
TZOFFSETTO:+0100
TZNAME:CET
DTSTART:20231029T010000
END:STANDARD
BEGIN:DAYLIGHT
TZOFFSETFROM:+0100
TZOFFSETTO:+0200
TZNAME:CEST
DTSTART:20240331T010000
END:DAYLIGHT
BEGIN:STANDARD
TZOFFSETFROM:+0200
TZOFFSETTO:+0100
TZNAME:CET
DTSTART:20241027T010000
END:STANDARD
BEGIN:DAYLIGHT
TZOFFSETFROM:+0100
TZOFFSETTO:+0200
TZNAME:CEST
DTSTART:20250330T010000
END:DAYLIGHT
BEGIN:STANDARD
TZOFFSETFROM:+0200
TZOFFSETTO:+0100
TZNAME:CET
DTSTART:20251026T010000
END:STANDARD
END:VTIMEZONE
BEGIN:VEVENT
DTSTART;TZID=Europe/Vienna:20230710T171500
DTEND;TZID=Europe/Vienna:20230710T181500
DTSTAMP:20260419T193842
CREATED:20230621T100032Z
LAST-MODIFIED:20230627T062524Z
UID:9124-1689009300-1689012900@www.rosinka.at
SUMMARY:ЖИВОПИСЬ
DESCRIPTION:
URL:https://www.rosinka.at/event/%d0%b6%d0%b8%d0%b2%d0%be%d0%bf%d0%b8%d1%81%d1%8c-6/
END:VEVENT
BEGIN:VEVENT
DTSTART;TZID=Europe/Vienna:20230714T160000
DTEND;TZID=Europe/Vienna:20230714T170000
DTSTAMP:20260419T193842
CREATED:20230703T191340Z
LAST-MODIFIED:20230703T191340Z
UID:9130-1689350400-1689354000@www.rosinka.at
SUMMARY:ЛУЧИКИ (3-4)
DESCRIPTION:
URL:https://www.rosinka.at/event/%d0%bb%d1%83%d1%87%d0%b8%d0%ba%d0%b8-3-4-5/
END:VEVENT
BEGIN:VEVENT
DTSTART;TZID=Europe/Vienna:20230918T153000
DTEND;TZID=Europe/Vienna:20230918T170000
DTSTAMP:20260419T193842
CREATED:20230915T082957Z
LAST-MODIFIED:20231106T100308Z
UID:9191-1695051000-1695056400@www.rosinka.at
SUMMARY:НЕПОСЕДЫ (6-7)
DESCRIPTION:
URL:https://www.rosinka.at/event/%d0%bd%d0%b5%d0%bf%d0%be%d1%81%d0%b5%d0%b4%d1%8b-6-7/2023-09-18/
END:VEVENT
BEGIN:VEVENT
DTSTART;TZID=Europe/Vienna:20230918T171500
DTEND;TZID=Europe/Vienna:20230918T181500
DTSTAMP:20260419T193842
CREATED:20230915T083054Z
LAST-MODIFIED:20231106T100443Z
UID:9214-1695057300-1695060900@www.rosinka.at
SUMMARY:СВЕТЛЯЧКИ (3-4)
DESCRIPTION:
URL:https://www.rosinka.at/event/%d1%81%d0%b2%d0%b5%d1%82%d0%bb%d1%8f%d1%87%d0%ba%d0%b8-3-4-2/2023-09-18/
END:VEVENT
BEGIN:VEVENT
DTSTART;TZID=Europe/Vienna:20230918T171500
DTEND;TZID=Europe/Vienna:20230918T181500
DTSTAMP:20260419T193842
CREATED:20230925T141432Z
LAST-MODIFIED:20230925T141432Z
UID:9565-1695057300-1695060900@www.rosinka.at
SUMMARY:ЖИВОПИСЬ (4-6)
DESCRIPTION:
URL:https://www.rosinka.at/event/%d0%b6%d0%b8%d0%b2%d0%be%d0%bf%d0%b8%d1%81%d1%8c-4-6-30/
END:VEVENT
BEGIN:VEVENT
DTSTART;TZID=Europe/Vienna:20230919T150000
DTEND;TZID=Europe/Vienna:20230919T163000
DTSTAMP:20260419T193842
CREATED:20230915T083648Z
LAST-MODIFIED:20230915T083648Z
UID:9328-1695135600-1695141000@www.rosinka.at
SUMMARY:ЗОЛОТОЙ КЛЮЧИК (13-14)
DESCRIPTION:
URL:https://www.rosinka.at/event/%d0%b7%d0%be%d0%bb%d0%be%d1%82%d0%be%d0%b9-%d0%ba%d0%bb%d1%8e%d1%87%d0%b8%d0%ba-13-14/2023-09-19/
END:VEVENT
BEGIN:VEVENT
DTSTART;TZID=Europe/Vienna:20230919T164500
DTEND;TZID=Europe/Vienna:20230919T181500
DTSTAMP:20260419T193842
CREATED:20230915T084034Z
LAST-MODIFIED:20230915T084034Z
UID:9340-1695141900-1695147300@www.rosinka.at
SUMMARY:ЯКОРЕК (9-10)
DESCRIPTION:
URL:https://www.rosinka.at/event/%d1%8f%d0%ba%d0%be%d1%80%d0%b5%d0%ba-9-10/2023-09-19/
END:VEVENT
BEGIN:VEVENT
DTSTART;TZID=Europe/Vienna:20230920T150000
DTEND;TZID=Europe/Vienna:20230920T163000
DTSTAMP:20260419T193842
CREATED:20230915T084250Z
LAST-MODIFIED:20230915T084250Z
UID:9363-1695222000-1695227400@www.rosinka.at
SUMMARY:ЗНАЙЧИКИ (7-8)
DESCRIPTION:
URL:https://www.rosinka.at/event/%d0%b7%d0%bd%d0%b0%d0%b9%d1%87%d0%b8%d0%ba%d0%b8-7-8/2023-09-20/
END:VEVENT
BEGIN:VEVENT
DTSTART;TZID=Europe/Vienna:20230920T164500
DTEND;TZID=Europe/Vienna:20230920T181500
DTSTAMP:20260419T193842
CREATED:20230915T084510Z
LAST-MODIFIED:20230915T084510Z
UID:9386-1695228300-1695233700@www.rosinka.at
SUMMARY:БУКВОЕЖКИ (8-9)
DESCRIPTION:
URL:https://www.rosinka.at/event/%d0%b1%d1%83%d0%ba%d0%b2%d0%be%d0%b5%d0%b6%d0%ba%d0%b8-8-9/2023-09-20/
END:VEVENT
BEGIN:VEVENT
DTSTART;TZID=Europe/Vienna:20230920T171500
DTEND;TZID=Europe/Vienna:20230920T184500
DTSTAMP:20260419T193842
CREATED:20230915T084652Z
LAST-MODIFIED:20230915T084652Z
UID:9409-1695230100-1695235500@www.rosinka.at
SUMMARY:ЖИВОПИСЬ (7-10)
DESCRIPTION:
URL:https://www.rosinka.at/event/%d0%b6%d0%b8%d0%b2%d0%be%d0%bf%d0%b8%d1%81%d1%8c-7-10/
END:VEVENT
BEGIN:VEVENT
DTSTART;TZID=Europe/Vienna:20230921T153000
DTEND;TZID=Europe/Vienna:20230921T163000
DTSTAMP:20260419T193842
CREATED:20230915T084738Z
LAST-MODIFIED:20230915T084738Z
UID:9411-1695310200-1695313800@www.rosinka.at
SUMMARY:СОЛНЫШКИ (4-5)
DESCRIPTION:
URL:https://www.rosinka.at/event/%d1%81%d0%be%d0%bb%d0%bd%d1%8b%d1%88%d0%ba%d0%b8-4-5/2023-09-21/
END:VEVENT
BEGIN:VEVENT
DTSTART;TZID=Europe/Vienna:20230921T163000
DTEND;TZID=Europe/Vienna:20230921T180000
DTSTAMP:20260419T193842
CREATED:20230915T085001Z
LAST-MODIFIED:20230915T085001Z
UID:9457-1695313800-1695319200@www.rosinka.at
SUMMARY:ЗВЕЗДОЧЕТЫ (12-13)
DESCRIPTION:
URL:https://www.rosinka.at/event/%d0%b7%d0%b2%d0%b5%d0%b7%d0%b4%d0%be%d1%87%d0%b5%d1%82%d1%8b-12-13/2023-09-21/
END:VEVENT
BEGIN:VEVENT
DTSTART;TZID=Europe/Vienna:20230921T164500
DTEND;TZID=Europe/Vienna:20230921T181500
DTSTAMP:20260419T193842
CREATED:20230915T084834Z
LAST-MODIFIED:20230915T084834Z
UID:9434-1695314700-1695320100@www.rosinka.at
SUMMARY:ПЧЕЛКИ (5-6)
DESCRIPTION:
URL:https://www.rosinka.at/event/%d0%bf%d1%87%d0%b5%d0%bb%d0%ba%d0%b8-5-6/2023-09-21/
END:VEVENT
BEGIN:VEVENT
DTSTART;TZID=Europe/Vienna:20230922T160000
DTEND;TZID=Europe/Vienna:20230922T170000
DTSTAMP:20260419T193842
CREATED:20230915T085046Z
LAST-MODIFIED:20230915T085046Z
UID:9480-1695398400-1695402000@www.rosinka.at
SUMMARY:ЛУЧИКИ (4-5)
DESCRIPTION:
URL:https://www.rosinka.at/event/%d0%bb%d1%83%d1%87%d0%b8%d0%ba%d0%b8-4-5/2023-09-22/
END:VEVENT
BEGIN:VEVENT
DTSTART;TZID=Europe/Vienna:20230925T171500
DTEND;TZID=Europe/Vienna:20230925T184500
DTSTAMP:20260419T193842
CREATED:20230915T083517Z
LAST-MODIFIED:20230925T141323Z
UID:9305-1695662100-1695667500@www.rosinka.at
SUMMARY:ЖИВОПИСЬ (7-10)
DESCRIPTION:
URL:https://www.rosinka.at/event/%d0%b6%d0%b8%d0%b2%d0%be%d0%bf%d0%b8%d1%81%d1%8c-4-6-29/2023-09-25/
END:VEVENT
BEGIN:VEVENT
DTSTART;TZID=Europe/Vienna:20231003T163000
DTEND;TZID=Europe/Vienna:20231003T173000
DTSTAMP:20260419T193842
CREATED:20230925T141648Z
LAST-MODIFIED:20230925T141648Z
UID:9568-1696350600-1696354200@www.rosinka.at
SUMMARY:МАЛЫШИ (1\,5-3)
DESCRIPTION:
URL:https://www.rosinka.at/event/%d0%bc%d0%b0%d0%bb%d1%8b%d1%88%d0%b8-15-3/
END:VEVENT
BEGIN:VEVENT
DTSTART;VALUE=DATE:20231026
DTEND;VALUE=DATE:20231106
DTSTAMP:20260419T193842
CREATED:20230802T200045Z
LAST-MODIFIED:20230802T200045Z
UID:9137-1698278400-1699228799@www.rosinka.at
SUMMARY:ОСЕННИЕ КАНИКУЛЫ
DESCRIPTION:
URL:https://www.rosinka.at/event/%d0%be%d1%81%d0%b5%d0%bd%d0%bd%d0%b8%d0%b5-%d0%ba%d0%b0%d0%bd%d0%b8%d0%ba%d1%83%d0%bb%d1%8b-4/
END:VEVENT
BEGIN:VEVENT
DTSTART;TZID=Europe/Vienna:20231030T171500
DTEND;TZID=Europe/Vienna:20231030T184500
DTSTAMP:20260419T193842
CREATED:20231026T081339Z
LAST-MODIFIED:20231026T081339Z
UID:9591-1698686100-1698691500@www.rosinka.at
SUMMARY:ЖИВОПИСЬ (7-10)
DESCRIPTION:
URL:https://www.rosinka.at/event/%d0%b6%d0%b8%d0%b2%d0%be%d0%bf%d0%b8%d1%81%d1%8c-7-10-2/
END:VEVENT
BEGIN:VEVENT
DTSTART;TZID=Europe/Vienna:20231103T160000
DTEND;TZID=Europe/Vienna:20231103T170000
DTSTAMP:20260419T193842
CREATED:20231026T081428Z
LAST-MODIFIED:20231106T202720Z
UID:9593-1699027200-1699030800@www.rosinka.at
SUMMARY:ЛУЧИКИ (4-5)
DESCRIPTION:
URL:https://www.rosinka.at/event/%d0%bb%d1%83%d1%87%d0%b8%d0%ba%d0%b8-4-5-2/
END:VEVENT
BEGIN:VEVENT
DTSTART;TZID=Europe/Vienna:20231126T150000
DTEND;TZID=Europe/Vienna:20231126T170000
DTSTAMP:20260419T193842
CREATED:20231126T095602Z
LAST-MODIFIED:20231126T095602Z
UID:9730-1701010800-1701018000@www.rosinka.at
SUMMARY:МУЛЬТИПЛИКАЦИЯ
DESCRIPTION:
URL:https://www.rosinka.at/event/%d0%bc%d1%83%d0%bb%d1%8c%d1%82%d0%b8%d0%bf%d0%bb%d0%b8%d0%ba%d0%b0%d1%86%d0%b8%d1%8f/2023-11-26/
END:VEVENT
BEGIN:VEVENT
DTSTART;TZID=Europe/Vienna:20231126T160000
DTEND;TZID=Europe/Vienna:20231126T173000
DTSTAMP:20260419T193842
CREATED:20230915T085001Z
LAST-MODIFIED:20231126T095838Z
UID:9466-1701014400-1701019800@www.rosinka.at
SUMMARY:ЗВЕЗДОЧЕТЫ (12-13)
DESCRIPTION:
URL:https://www.rosinka.at/event/%d0%b7%d0%b2%d0%b5%d0%b7%d0%b4%d0%be%d1%87%d0%b5%d1%82%d1%8b-12-13-2023-11-16/
END:VEVENT
BEGIN:VEVENT
DTSTART;TZID=Europe/Vienna:20231127T153000
DTEND;TZID=Europe/Vienna:20231127T170000
DTSTAMP:20260419T193842
CREATED:20231106T100610Z
LAST-MODIFIED:20231211T135752Z
UID:9679-1701099000-1701104400@www.rosinka.at
SUMMARY:НЕПОСЕДЫ (6-7)
DESCRIPTION:
URL:https://www.rosinka.at/event/%d0%bd%d0%b5%d0%bf%d0%be%d1%81%d0%b5%d0%b4%d1%8b-6-7-2-2023-11-27/
END:VEVENT
BEGIN:VEVENT
DTSTART;TZID=Europe/Vienna:20231207T163000
DTEND;TZID=Europe/Vienna:20231207T180000
DTSTAMP:20260419T193842
CREATED:20230915T085001Z
LAST-MODIFIED:20231129T101259Z
UID:9469-1701966600-1701972000@www.rosinka.at
SUMMARY:ЗВЕЗДОЧЕТЫ\, ЗОЛОТОЙ КЛЮЧИК (12-14)
DESCRIPTION:
URL:https://www.rosinka.at/event/%d0%b7%d0%b2%d0%b5%d0%b7%d0%b4%d0%be%d1%87%d0%b5%d1%82%d1%8b-12-13-2023-12-07/
END:VEVENT
BEGIN:VEVENT
DTSTART;VALUE=DATE:20231208
DTEND;VALUE=DATE:20231211
DTSTAMP:20260419T193842
CREATED:20230802T200154Z
LAST-MODIFIED:20230802T200154Z
UID:9139-1701993600-1702252799@www.rosinka.at
SUMMARY:НЕУЧЕБНЫЙ ДЕНЬ
DESCRIPTION:
URL:https://www.rosinka.at/event/%d0%bd%d0%b5%d1%83%d1%87%d0%b5%d0%b1%d0%bd%d1%8b%d0%b9-%d0%b4%d0%b5%d0%bd%d1%8c-37/
END:VEVENT
BEGIN:VEVENT
DTSTART;TZID=Europe/Vienna:20231212T150000
DTEND;TZID=Europe/Vienna:20231212T163000
DTSTAMP:20260419T193842
CREATED:20230915T085001Z
LAST-MODIFIED:20231129T102041Z
UID:9470-1702393200-1702398600@www.rosinka.at
SUMMARY:ЗВЕЗДОЧЕТЫ\, ЗОЛОТОЙ КЛЮЧИК (12-14)
DESCRIPTION:
URL:https://www.rosinka.at/event/%d0%b7%d0%b2%d0%b5%d0%b7%d0%b4%d0%be%d1%87%d0%b5%d1%82%d1%8b-12-13-2023-12-14/
END:VEVENT
BEGIN:VEVENT
DTSTART;TZID=Europe/Vienna:20231214T163000
DTEND;TZID=Europe/Vienna:20231214T180000
DTSTAMP:20260419T193842
CREATED:20231211T104636Z
LAST-MODIFIED:20231211T104636Z
UID:9779-1702571400-1702576800@www.rosinka.at
SUMMARY:ЖИВОПИСЬ (7-10)
DESCRIPTION:
URL:https://www.rosinka.at/event/%d0%b6%d0%b8%d0%b2%d0%be%d0%bf%d0%b8%d1%81%d1%8c-7-10-3/
END:VEVENT
BEGIN:VEVENT
DTSTART;TZID=Europe/Vienna:20231217T150000
DTEND;TZID=Europe/Vienna:20231217T170000
DTSTAMP:20260419T193842
CREATED:20231206T161300Z
LAST-MODIFIED:20231206T161300Z
UID:9767-1702825200-1702832400@www.rosinka.at
SUMMARY:МУЛЬТИПЛИКАЦИЯ
DESCRIPTION:
URL:https://www.rosinka.at/event/%d0%bc%d1%83%d0%bb%d1%8c%d1%82%d0%b8%d0%bf%d0%bb%d0%b8%d0%ba%d0%b0%d1%86%d0%b8%d1%8f-2/
END:VEVENT
BEGIN:VEVENT
DTSTART;VALUE=DATE:20231223
DTEND;VALUE=DATE:20240108
DTSTAMP:20260419T193842
CREATED:20230802T200225Z
LAST-MODIFIED:20230802T200225Z
UID:9141-1703289600-1704671999@www.rosinka.at
SUMMARY:РОЖДЕСТВЕНСКИЕ КАНИКУЛЫ
DESCRIPTION:
URL:https://www.rosinka.at/event/%d1%80%d0%be%d0%b6%d0%b4%d0%b5%d1%81%d1%82%d0%b2%d0%b5%d0%bd%d1%81%d0%ba%d0%b8%d0%b5-%d0%ba%d0%b0%d0%bd%d0%b8%d0%ba%d1%83%d0%bb%d1%8b-7/
END:VEVENT
BEGIN:VEVENT
DTSTART;TZID=Europe/Vienna:20231227T133000
DTEND;TZID=Europe/Vienna:20231227T150000
DTSTAMP:20260419T193842
CREATED:20231221T113536Z
LAST-MODIFIED:20231221T114437Z
UID:9813-1703683800-1703689200@www.rosinka.at
SUMMARY:ЗВЕЗДОЧЕТЫ\, ЗОЛОТОЙ КЛЮЧИК (12-14)
DESCRIPTION:
URL:https://www.rosinka.at/event/%d0%b7%d0%b2%d0%b5%d0%b7%d0%b4%d0%be%d1%87%d0%b5%d1%82%d1%8b-%d0%b7%d0%be%d0%bb%d0%be%d1%82%d0%be%d0%b9-%d0%ba%d0%bb%d1%8e%d1%87%d0%b8%d0%ba-12-17/
END:VEVENT
BEGIN:VEVENT
DTSTART;TZID=Europe/Vienna:20231228T153000
DTEND;TZID=Europe/Vienna:20231228T163000
DTSTAMP:20260419T193842
CREATED:20240128T183144Z
LAST-MODIFIED:20240128T183144Z
UID:9838-1703777400-1703781000@www.rosinka.at
SUMMARY:СОЛНЫШКИ (4-5)
DESCRIPTION:
URL:https://www.rosinka.at/event/%d1%81%d0%be%d0%bb%d0%bd%d1%8b%d1%88%d0%ba%d0%b8-4-5-2/
END:VEVENT
END:VCALENDAR