BEGIN:VCALENDAR
VERSION:2.0
PRODID:-//Rosinka - ECPv6.15.20//NONSGML v1.0//EN
CALSCALE:GREGORIAN
METHOD:PUBLISH
X-WR-CALNAME:Rosinka
X-ORIGINAL-URL:https://www.rosinka.at
X-WR-CALDESC:Мероприятия для Rosinka
REFRESH-INTERVAL;VALUE=DURATION:PT1H
X-Robots-Tag:noindex
X-PUBLISHED-TTL:PT1H
BEGIN:VTIMEZONE
TZID:Europe/Vienna
BEGIN:DAYLIGHT
TZOFFSETFROM:+0100
TZOFFSETTO:+0200
TZNAME:CEST
DTSTART:20230326T010000
END:DAYLIGHT
BEGIN:STANDARD
TZOFFSETFROM:+0200
TZOFFSETTO:+0100
TZNAME:CET
DTSTART:20231029T010000
END:STANDARD
BEGIN:DAYLIGHT
TZOFFSETFROM:+0100
TZOFFSETTO:+0200
TZNAME:CEST
DTSTART:20240331T010000
END:DAYLIGHT
BEGIN:STANDARD
TZOFFSETFROM:+0200
TZOFFSETTO:+0100
TZNAME:CET
DTSTART:20241027T010000
END:STANDARD
BEGIN:DAYLIGHT
TZOFFSETFROM:+0100
TZOFFSETTO:+0200
TZNAME:CEST
DTSTART:20250330T010000
END:DAYLIGHT
BEGIN:STANDARD
TZOFFSETFROM:+0200
TZOFFSETTO:+0100
TZNAME:CET
DTSTART:20251026T010000
END:STANDARD
END:VTIMEZONE
BEGIN:VEVENT
DTSTART;TZID=Europe/Vienna:20240529T164500
DTEND;TZID=Europe/Vienna:20240529T181500
DTSTAMP:20260420T085830
CREATED:20240216T151448Z
LAST-MODIFIED:20240216T151448Z
UID:9972-1717001100-1717006500@www.rosinka.at
SUMMARY:БУКВОЕЖКИ (8-9)
DESCRIPTION:
URL:https://www.rosinka.at/event/%d0%b1%d1%83%d0%ba%d0%b2%d0%be%d0%b5%d0%b6%d0%ba%d0%b8-8-9-2/2024-05-29/
END:VEVENT
BEGIN:VEVENT
DTSTART;TZID=Europe/Vienna:20240529T150000
DTEND;TZID=Europe/Vienna:20240529T163000
DTSTAMP:20260420T085830
CREATED:20240216T151334Z
LAST-MODIFIED:20240216T151334Z
UID:9955-1716994800-1717000200@www.rosinka.at
SUMMARY:ЗНАЙЧИКИ (7-8)
DESCRIPTION:
URL:https://www.rosinka.at/event/%d0%b7%d0%bd%d0%b0%d0%b9%d1%87%d0%b8%d0%ba%d0%b8-7-8-2/2024-05-29/
END:VEVENT
BEGIN:VEVENT
DTSTART;TZID=Europe/Vienna:20240527T171500
DTEND;TZID=Europe/Vienna:20240527T181500
DTSTAMP:20260420T085830
CREATED:20240216T150734Z
LAST-MODIFIED:20240216T150734Z
UID:9905-1716830100-1716833700@www.rosinka.at
SUMMARY:СВЕТЛЯЧКИ (3-4)
DESCRIPTION:
URL:https://www.rosinka.at/event/%d1%81%d0%b2%d0%b5%d1%82%d0%bb%d1%8f%d1%87%d0%ba%d0%b8-3-4-4/2024-05-27/
END:VEVENT
BEGIN:VEVENT
DTSTART;TZID=Europe/Vienna:20240527T153000
DTEND;TZID=Europe/Vienna:20240527T170000
DTSTAMP:20260420T085830
CREATED:20240216T150540Z
LAST-MODIFIED:20240304T101635Z
UID:9889-1716823800-1716829200@www.rosinka.at
SUMMARY:НЕПОСЕДЫ (6-7)
DESCRIPTION:
URL:https://www.rosinka.at/event/%d0%bd%d0%b5%d0%bf%d0%be%d1%81%d0%b5%d0%b4%d1%8b-6-7-2-2024-03-11/2024-05-27/
END:VEVENT
BEGIN:VEVENT
DTSTART;TZID=Europe/Vienna:20240524T160000
DTEND;TZID=Europe/Vienna:20240524T170000
DTSTAMP:20260420T085830
CREATED:20240216T152048Z
LAST-MODIFIED:20240216T152048Z
UID:10035-1716566400-1716570000@www.rosinka.at
SUMMARY:ЛУЧИКИ (4-5)
DESCRIPTION:
URL:https://www.rosinka.at/event/%d0%bb%d1%83%d1%87%d0%b8%d0%ba%d0%b8-4-5-3/2024-05-24/
END:VEVENT
BEGIN:VEVENT
DTSTART;TZID=Europe/Vienna:20240523T164500
DTEND;TZID=Europe/Vienna:20240523T181500
DTSTAMP:20260420T085830
CREATED:20240613T144851Z
LAST-MODIFIED:20240613T144851Z
UID:10193-1716482700-1716488100@www.rosinka.at
SUMMARY:ПЧЕЛКИ (5-6)
DESCRIPTION:
URL:https://www.rosinka.at/event/%d0%bf%d1%87%d0%b5%d0%bb%d0%ba%d0%b8-5-6-2/2024-05-23/
END:VEVENT
BEGIN:VEVENT
DTSTART;TZID=Europe/Vienna:20240523T163000
DTEND;TZID=Europe/Vienna:20240523T180000
DTSTAMP:20260420T085830
CREATED:20240216T151907Z
LAST-MODIFIED:20240216T151907Z
UID:10019-1716481800-1716487200@www.rosinka.at
SUMMARY:ПОДРОСТКИ 2.0 (12-14)
DESCRIPTION:
URL:https://www.rosinka.at/event/%d0%bf%d0%be%d0%b4%d1%80%d0%be%d1%81%d1%82%d0%ba%d0%b8-2-0-12-14-2/2024-05-23/
END:VEVENT
BEGIN:VEVENT
DTSTART;TZID=Europe/Vienna:20240522T164500
DTEND;TZID=Europe/Vienna:20240522T181500
DTSTAMP:20260420T085830
CREATED:20240216T151448Z
LAST-MODIFIED:20240216T151448Z
UID:9970-1716396300-1716401700@www.rosinka.at
SUMMARY:БУКВОЕЖКИ (8-9)
DESCRIPTION:
URL:https://www.rosinka.at/event/%d0%b1%d1%83%d0%ba%d0%b2%d0%be%d0%b5%d0%b6%d0%ba%d0%b8-8-9-2/2024-05-22/
END:VEVENT
BEGIN:VEVENT
DTSTART;TZID=Europe/Vienna:20240522T150000
DTEND;TZID=Europe/Vienna:20240522T163000
DTSTAMP:20260420T085830
CREATED:20240216T151334Z
LAST-MODIFIED:20240216T151334Z
UID:9953-1716390000-1716395400@www.rosinka.at
SUMMARY:ЗНАЙЧИКИ (7-8)
DESCRIPTION:
URL:https://www.rosinka.at/event/%d0%b7%d0%bd%d0%b0%d0%b9%d1%87%d0%b8%d0%ba%d0%b8-7-8-2/2024-05-22/
END:VEVENT
BEGIN:VEVENT
DTSTART;VALUE=DATE:20240518
DTEND;VALUE=DATE:20240522
DTSTAMP:20260420T085830
CREATED:20230802T200731Z
LAST-MODIFIED:20230802T200731Z
UID:9153-1715990400-1716335999@www.rosinka.at
SUMMARY:НЕУЧЕБНЫЙ ДЕНЬ
DESCRIPTION:
URL:https://www.rosinka.at/event/%d0%bd%d0%b5%d1%83%d1%87%d0%b5%d0%b1%d0%bd%d1%8b%d0%b9-%d0%b4%d0%b5%d0%bd%d1%8c-41/
END:VEVENT
BEGIN:VEVENT
DTSTART;TZID=Europe/Vienna:20240516T164500
DTEND;TZID=Europe/Vienna:20240516T181500
DTSTAMP:20260420T085830
CREATED:20240613T144851Z
LAST-MODIFIED:20240613T144851Z
UID:10192-1715877900-1715883300@www.rosinka.at
SUMMARY:ПЧЕЛКИ (5-6)
DESCRIPTION:
URL:https://www.rosinka.at/event/%d0%bf%d1%87%d0%b5%d0%bb%d0%ba%d0%b8-5-6-2/2024-05-16/
END:VEVENT
BEGIN:VEVENT
DTSTART;TZID=Europe/Vienna:20240516T163000
DTEND;TZID=Europe/Vienna:20240516T180000
DTSTAMP:20260420T085830
CREATED:20240216T151907Z
LAST-MODIFIED:20240216T151907Z
UID:10018-1715877000-1715882400@www.rosinka.at
SUMMARY:ПОДРОСТКИ 2.0 (12-14)
DESCRIPTION:
URL:https://www.rosinka.at/event/%d0%bf%d0%be%d0%b4%d1%80%d0%be%d1%81%d1%82%d0%ba%d0%b8-2-0-12-14-2/2024-05-16/
END:VEVENT
BEGIN:VEVENT
DTSTART;TZID=Europe/Vienna:20240516T153000
DTEND;TZID=Europe/Vienna:20240516T163000
DTSTAMP:20260420T085830
CREATED:20240216T151648Z
LAST-MODIFIED:20240216T151648Z
UID:9986-1715873400-1715877000@www.rosinka.at
SUMMARY:СОЛНЫШКИ (4-5)
DESCRIPTION:
URL:https://www.rosinka.at/event/%d1%81%d0%be%d0%bb%d0%bd%d1%8b%d1%88%d0%ba%d0%b8-4-5-4/2024-05-16/
END:VEVENT
BEGIN:VEVENT
DTSTART;TZID=Europe/Vienna:20240515T164500
DTEND;TZID=Europe/Vienna:20240515T181500
DTSTAMP:20260420T085830
CREATED:20240216T151448Z
LAST-MODIFIED:20240216T151448Z
UID:9969-1715791500-1715796900@www.rosinka.at
SUMMARY:БУКВОЕЖКИ (8-9)
DESCRIPTION:
URL:https://www.rosinka.at/event/%d0%b1%d1%83%d0%ba%d0%b2%d0%be%d0%b5%d0%b6%d0%ba%d0%b8-8-9-2/2024-05-15/
END:VEVENT
BEGIN:VEVENT
DTSTART;TZID=Europe/Vienna:20240515T150000
DTEND;TZID=Europe/Vienna:20240515T163000
DTSTAMP:20260420T085830
CREATED:20240216T151334Z
LAST-MODIFIED:20240216T151334Z
UID:9952-1715785200-1715790600@www.rosinka.at
SUMMARY:ЗНАЙЧИКИ (7-8)
DESCRIPTION:
URL:https://www.rosinka.at/event/%d0%b7%d0%bd%d0%b0%d0%b9%d1%87%d0%b8%d0%ba%d0%b8-7-8-2/2024-05-15/
END:VEVENT
BEGIN:VEVENT
DTSTART;TZID=Europe/Vienna:20240514T164500
DTEND;TZID=Europe/Vienna:20240514T181500
DTSTAMP:20260420T085830
CREATED:20240216T151126Z
LAST-MODIFIED:20240613T145321Z
UID:9936-1715705100-1715710500@www.rosinka.at
SUMMARY:ЯКОРЕК (9-10)
DESCRIPTION:
URL:https://www.rosinka.at/event/%d1%8f%d0%ba%d0%be%d1%80%d0%b5%d0%ba-9-10-3/2024-05-14/
END:VEVENT
BEGIN:VEVENT
DTSTART;TZID=Europe/Vienna:20240513T171500
DTEND;TZID=Europe/Vienna:20240513T184500
DTSTAMP:20260420T085830
CREATED:20240216T150907Z
LAST-MODIFIED:20240216T150907Z
UID:9920-1715620500-1715625900@www.rosinka.at
SUMMARY:ЖИВОПИСЬ (7-10)
DESCRIPTION:
URL:https://www.rosinka.at/event/%d0%b6%d0%b8%d0%b2%d0%be%d0%bf%d0%b8%d1%81%d1%8c-7-10-4/2024-05-13/
END:VEVENT
BEGIN:VEVENT
DTSTART;TZID=Europe/Vienna:20240513T171500
DTEND;TZID=Europe/Vienna:20240513T181500
DTSTAMP:20260420T085830
CREATED:20240216T150734Z
LAST-MODIFIED:20240216T150734Z
UID:9904-1715620500-1715624100@www.rosinka.at
SUMMARY:СВЕТЛЯЧКИ (3-4)
DESCRIPTION:
URL:https://www.rosinka.at/event/%d1%81%d0%b2%d0%b5%d1%82%d0%bb%d1%8f%d1%87%d0%ba%d0%b8-3-4-4/2024-05-13/
END:VEVENT
BEGIN:VEVENT
DTSTART;TZID=Europe/Vienna:20240513T153000
DTEND;TZID=Europe/Vienna:20240513T170000
DTSTAMP:20260420T085830
CREATED:20240216T150540Z
LAST-MODIFIED:20240304T101635Z
UID:9888-1715614200-1715619600@www.rosinka.at
SUMMARY:НЕПОСЕДЫ (6-7)
DESCRIPTION:
URL:https://www.rosinka.at/event/%d0%bd%d0%b5%d0%bf%d0%be%d1%81%d0%b5%d0%b4%d1%8b-6-7-2-2024-03-11/2024-05-13/
END:VEVENT
BEGIN:VEVENT
DTSTART;TZID=Europe/Vienna:20240512T100000
DTEND;TZID=Europe/Vienna:20240512T120000
DTSTAMP:20260420T085830
CREATED:20240428T093046Z
LAST-MODIFIED:20240428T093046Z
UID:10142-1715508000-1715515200@www.rosinka.at
SUMMARY:КУКОЛЬНЫЙ ТЕАТР
DESCRIPTION:
URL:https://www.rosinka.at/event/%d0%ba%d1%83%d0%ba%d0%be%d0%bb%d1%8c%d0%bd%d1%8b%d0%b9-%d1%82%d0%b5%d0%b0%d1%82%d1%80/2024-05-12/
END:VEVENT
BEGIN:VEVENT
DTSTART;TZID=Europe/Vienna:20240510T163000
DTEND;TZID=Europe/Vienna:20240510T173000
DTSTAMP:20260420T085830
CREATED:20240509T120632Z
LAST-MODIFIED:20240509T120632Z
UID:10149-1715358600-1715362200@www.rosinka.at
SUMMARY:МАЛЫШАРИКИ (1\,5-3)
DESCRIPTION:
URL:https://www.rosinka.at/event/%d0%bc%d0%b0%d0%bb%d1%8b%d1%88%d0%b0%d1%80%d0%b8%d0%ba%d0%b8-15-3/
END:VEVENT
BEGIN:VEVENT
DTSTART;VALUE=DATE:20240509
DTEND;VALUE=DATE:20240513
DTSTAMP:20260420T085830
CREATED:20230802T200641Z
LAST-MODIFIED:20240210T174628Z
UID:9151-1715212800-1715558399@www.rosinka.at
SUMMARY:НЕУЧЕБНЫЙ ДЕНЬ
DESCRIPTION:
URL:https://www.rosinka.at/event/%d0%bd%d0%b5%d1%83%d1%87%d0%b5%d0%b1%d0%bd%d1%8b%d0%b9-%d0%b4%d0%b5%d0%bd%d1%8c-40/
END:VEVENT
BEGIN:VEVENT
DTSTART;TZID=Europe/Vienna:20240508T164500
DTEND;TZID=Europe/Vienna:20240508T181500
DTSTAMP:20260420T085830
CREATED:20240216T151448Z
LAST-MODIFIED:20240216T151448Z
UID:9968-1715186700-1715192100@www.rosinka.at
SUMMARY:БУКВОЕЖКИ (8-9)
DESCRIPTION:
URL:https://www.rosinka.at/event/%d0%b1%d1%83%d0%ba%d0%b2%d0%be%d0%b5%d0%b6%d0%ba%d0%b8-8-9-2/2024-05-08/
END:VEVENT
BEGIN:VEVENT
DTSTART;TZID=Europe/Vienna:20240508T150000
DTEND;TZID=Europe/Vienna:20240508T163000
DTSTAMP:20260420T085830
CREATED:20240216T151334Z
LAST-MODIFIED:20240216T151334Z
UID:9951-1715180400-1715185800@www.rosinka.at
SUMMARY:ЗНАЙЧИКИ (7-8)
DESCRIPTION:
URL:https://www.rosinka.at/event/%d0%b7%d0%bd%d0%b0%d0%b9%d1%87%d0%b8%d0%ba%d0%b8-7-8-2/2024-05-08/
END:VEVENT
BEGIN:VEVENT
DTSTART;TZID=Europe/Vienna:20240507T164500
DTEND;TZID=Europe/Vienna:20240507T181500
DTSTAMP:20260420T085830
CREATED:20240216T151126Z
LAST-MODIFIED:20240613T145321Z
UID:9935-1715100300-1715105700@www.rosinka.at
SUMMARY:ЯКОРЕК (9-10)
DESCRIPTION:
URL:https://www.rosinka.at/event/%d1%8f%d0%ba%d0%be%d1%80%d0%b5%d0%ba-9-10-3/2024-05-07/
END:VEVENT
BEGIN:VEVENT
DTSTART;TZID=Europe/Vienna:20240506T171500
DTEND;TZID=Europe/Vienna:20240506T184500
DTSTAMP:20260420T085830
CREATED:20240216T150907Z
LAST-MODIFIED:20240216T150907Z
UID:9919-1715015700-1715021100@www.rosinka.at
SUMMARY:ЖИВОПИСЬ (7-10)
DESCRIPTION:
URL:https://www.rosinka.at/event/%d0%b6%d0%b8%d0%b2%d0%be%d0%bf%d0%b8%d1%81%d1%8c-7-10-4/2024-05-06/
END:VEVENT
BEGIN:VEVENT
DTSTART;TZID=Europe/Vienna:20240506T171500
DTEND;TZID=Europe/Vienna:20240506T181500
DTSTAMP:20260420T085830
CREATED:20240216T150734Z
LAST-MODIFIED:20240216T150734Z
UID:9903-1715015700-1715019300@www.rosinka.at
SUMMARY:СВЕТЛЯЧКИ (3-4)
DESCRIPTION:
URL:https://www.rosinka.at/event/%d1%81%d0%b2%d0%b5%d1%82%d0%bb%d1%8f%d1%87%d0%ba%d0%b8-3-4-4/2024-05-06/
END:VEVENT
BEGIN:VEVENT
DTSTART;TZID=Europe/Vienna:20240506T153000
DTEND;TZID=Europe/Vienna:20240506T170000
DTSTAMP:20260420T085830
CREATED:20240216T150540Z
LAST-MODIFIED:20240304T101635Z
UID:9887-1715009400-1715014800@www.rosinka.at
SUMMARY:НЕПОСЕДЫ (6-7)
DESCRIPTION:
URL:https://www.rosinka.at/event/%d0%bd%d0%b5%d0%bf%d0%be%d1%81%d0%b5%d0%b4%d1%8b-6-7-2-2024-03-11/2024-05-06/
END:VEVENT
BEGIN:VEVENT
DTSTART;TZID=Europe/Vienna:20240505T100000
DTEND;TZID=Europe/Vienna:20240505T120000
DTSTAMP:20260420T085830
CREATED:20240428T093046Z
LAST-MODIFIED:20240428T093046Z
UID:10141-1714903200-1714910400@www.rosinka.at
SUMMARY:КУКОЛЬНЫЙ ТЕАТР
DESCRIPTION:
URL:https://www.rosinka.at/event/%d0%ba%d1%83%d0%ba%d0%be%d0%bb%d1%8c%d0%bd%d1%8b%d0%b9-%d1%82%d0%b5%d0%b0%d1%82%d1%80/2024-05-05/
END:VEVENT
BEGIN:VEVENT
DTSTART;TZID=Europe/Vienna:20240503T163000
DTEND;TZID=Europe/Vienna:20240503T173000
DTSTAMP:20260420T085830
CREATED:20240412T062458Z
LAST-MODIFIED:20240423T151450Z
UID:10111-1714753800-1714757400@www.rosinka.at
SUMMARY:МАЛЫШАРИКИ (1\,5-3)
DESCRIPTION:
URL:https://www.rosinka.at/event/%d0%bc%d0%b0%d0%bb%d1%8b%d1%88%d0%b8-15-3-3/2024-05-03/
END:VEVENT
END:VCALENDAR