BEGIN:VCALENDAR
VERSION:2.0
PRODID:-//Rosinka - ECPv6.15.20//NONSGML v1.0//EN
CALSCALE:GREGORIAN
METHOD:PUBLISH
X-ORIGINAL-URL:https://www.rosinka.at
X-WR-CALDESC:Мероприятия для Rosinka
REFRESH-INTERVAL;VALUE=DURATION:PT1H
X-Robots-Tag:noindex
X-PUBLISHED-TTL:PT1H
BEGIN:VTIMEZONE
TZID:Europe/Vienna
BEGIN:DAYLIGHT
TZOFFSETFROM:+0100
TZOFFSETTO:+0200
TZNAME:CEST
DTSTART:20230326T010000
END:DAYLIGHT
BEGIN:STANDARD
TZOFFSETFROM:+0200
TZOFFSETTO:+0100
TZNAME:CET
DTSTART:20231029T010000
END:STANDARD
BEGIN:DAYLIGHT
TZOFFSETFROM:+0100
TZOFFSETTO:+0200
TZNAME:CEST
DTSTART:20240331T010000
END:DAYLIGHT
BEGIN:STANDARD
TZOFFSETFROM:+0200
TZOFFSETTO:+0100
TZNAME:CET
DTSTART:20241027T010000
END:STANDARD
BEGIN:DAYLIGHT
TZOFFSETFROM:+0100
TZOFFSETTO:+0200
TZNAME:CEST
DTSTART:20250330T010000
END:DAYLIGHT
BEGIN:STANDARD
TZOFFSETFROM:+0200
TZOFFSETTO:+0100
TZNAME:CET
DTSTART:20251026T010000
END:STANDARD
END:VTIMEZONE
BEGIN:VEVENT
DTSTART;TZID=Europe/Vienna:20240925T164500
DTEND;TZID=Europe/Vienna:20240925T181500
DTSTAMP:20260420T074651
CREATED:20240909T122217Z
LAST-MODIFIED:20240909T122217Z
UID:10408-1727282700-1727288100@www.rosinka.at
SUMMARY:БУКВОЕЖКИ (9-10)
DESCRIPTION:
URL:https://www.rosinka.at/event/%d0%b1%d1%83%d0%ba%d0%b2%d0%be%d0%b5%d0%b6%d0%ba%d0%b8-9-10/2024-09-25/
END:VEVENT
BEGIN:VEVENT
DTSTART;TZID=Europe/Vienna:20240926T163000
DTEND;TZID=Europe/Vienna:20240926T180000
DTSTAMP:20260420T074651
CREATED:20240909T122505Z
LAST-MODIFIED:20241004T074638Z
UID:10426-1727368200-1727373600@www.rosinka.at
SUMMARY:УМНИКИ (13-15)
DESCRIPTION:
URL:https://www.rosinka.at/event/%d0%bf%d0%be%d0%b4%d1%80%d0%be%d1%81%d1%82%d0%ba%d0%b8-2-0-13-15/2024-09-26/
END:VEVENT
BEGIN:VEVENT
DTSTART;TZID=Europe/Vienna:20240926T164500
DTEND;TZID=Europe/Vienna:20240926T181500
DTSTAMP:20260420T074651
CREATED:20240909T122618Z
LAST-MODIFIED:20240909T122618Z
UID:10444-1727369100-1727374500@www.rosinka.at
SUMMARY:СОЛНЫШКИ (5-6)
DESCRIPTION:
URL:https://www.rosinka.at/event/%d1%81%d0%be%d0%bb%d0%bd%d1%8b%d1%88%d0%ba%d0%b8-5-6/2024-09-26/
END:VEVENT
BEGIN:VEVENT
DTSTART;TZID=Europe/Vienna:20240927T144500
DTEND;TZID=Europe/Vienna:20240927T161500
DTSTAMP:20260420T074651
CREATED:20240914T205405Z
LAST-MODIFIED:20241019T141756Z
UID:10502-1727448300-1727453700@www.rosinka.at
SUMMARY:ФИКСИКИ (6-7)
DESCRIPTION:
URL:https://www.rosinka.at/event/%d0%bf%d1%87%d0%b5%d0%bb%d0%ba%d0%b8-6-7/2024-09-27/
END:VEVENT
BEGIN:VEVENT
DTSTART;TZID=Europe/Vienna:20240927T160000
DTEND;TZID=Europe/Vienna:20240927T173000
DTSTAMP:20260420T074651
CREATED:20240916T195330Z
LAST-MODIFIED:20240916T195330Z
UID:10547-1727452800-1727458200@www.rosinka.at
SUMMARY:ЛУЧИКИ (5-6)
DESCRIPTION:
URL:https://www.rosinka.at/event/%d0%bb%d1%83%d1%87%d0%b8%d0%ba%d0%b8-5-6/2024-09-27/
END:VEVENT
BEGIN:VEVENT
DTSTART;TZID=Europe/Vienna:20240927T170000
DTEND;TZID=Europe/Vienna:20240927T180000
DTSTAMP:20260420T074651
CREATED:20240909T122733Z
LAST-MODIFIED:20240909T122733Z
UID:10723-1727456400-1727460000@www.rosinka.at
SUMMARY:МАЛЫШАРИКИ (1\,5-3)
DESCRIPTION:
URL:https://www.rosinka.at/event/%d0%bc%d0%b0%d0%bb%d1%8b%d1%88%d0%b0%d1%80%d0%b8%d0%ba%d0%b8-15-3-3/2024-09-27/
END:VEVENT
BEGIN:VEVENT
DTSTART;TZID=Europe/Vienna:20240930T171500
DTEND;TZID=Europe/Vienna:20240930T181500
DTSTAMP:20260420T074651
CREATED:20240909T121718Z
LAST-MODIFIED:20240909T121718Z
UID:10339-1727716500-1727720100@www.rosinka.at
SUMMARY:СВЕТЛЯЧКИ (4-5)
DESCRIPTION:
URL:https://www.rosinka.at/event/%d1%81%d0%b2%d0%b5%d1%82%d0%bb%d1%8f%d1%87%d0%ba%d0%b8-4-5/2024-09-30/
END:VEVENT
BEGIN:VEVENT
DTSTART;TZID=Europe/Vienna:20240930T171500
DTEND;TZID=Europe/Vienna:20240930T184500
DTSTAMP:20260420T074651
CREATED:20240909T121917Z
LAST-MODIFIED:20240909T121917Z
UID:10356-1727716500-1727721900@www.rosinka.at
SUMMARY:ЖИВОПИСЬ (7-10+)
DESCRIPTION:
URL:https://www.rosinka.at/event/%d0%b6%d0%b8%d0%b2%d0%be%d0%bf%d0%b8%d1%81%d1%8c-7-10-5/2024-09-30/
END:VEVENT
BEGIN:VEVENT
DTSTART;TZID=Europe/Vienna:20241001T150000
DTEND;TZID=Europe/Vienna:20241001T163000
DTSTAMP:20260420T074651
CREATED:20240914T205228Z
LAST-MODIFIED:20241112T153753Z
UID:10483-1727794800-1727800200@www.rosinka.at
SUMMARY:СТАРШЕКЛАССНИКИ (12-13)
DESCRIPTION:
URL:https://www.rosinka.at/event/%d0%b3%d1%80%d1%83%d0%bf%d0%bf%d0%b0-3-4-%d0%ba%d0%bb%d0%b0%d1%81%d1%81/2024-10-01/
END:VEVENT
BEGIN:VEVENT
DTSTART;TZID=Europe/Vienna:20241001T164500
DTEND;TZID=Europe/Vienna:20241001T181500
DTSTAMP:20260420T074651
CREATED:20240909T122100Z
LAST-MODIFIED:20240909T122100Z
UID:10373-1727801100-1727806500@www.rosinka.at
SUMMARY:ЯКОРЕК (10-11)
DESCRIPTION:
URL:https://www.rosinka.at/event/%d1%8f%d0%ba%d0%be%d1%80%d0%b5%d0%ba-10-11/2024-10-01/
END:VEVENT
BEGIN:VEVENT
DTSTART;TZID=Europe/Vienna:20241002T150000
DTEND;TZID=Europe/Vienna:20241002T163000
DTSTAMP:20260420T074651
CREATED:20240909T122331Z
LAST-MODIFIED:20240909T122331Z
UID:10391-1727881200-1727886600@www.rosinka.at
SUMMARY:ЗНАЙЧИКИ (8-9)
DESCRIPTION:
URL:https://www.rosinka.at/event/%d0%b7%d0%bd%d0%b0%d0%b9%d1%87%d0%b8%d0%ba%d0%b8-8-9/2024-10-02/
END:VEVENT
BEGIN:VEVENT
DTSTART;TZID=Europe/Vienna:20241002T163500
DTEND;TZID=Europe/Vienna:20241002T173500
DTSTAMP:20260420T074651
CREATED:20240914T205542Z
LAST-MODIFIED:20240914T205542Z
UID:10807-1727886900-1727890500@www.rosinka.at
SUMMARY:ФАНТАЗЕРЫ (4-5)
DESCRIPTION:
URL:https://www.rosinka.at/event/%d0%b3%d1%80%d1%83%d0%bf%d0%bf%d0%b0-4-5-%d0%bb%d0%b5%d1%82-7/2024-10-02/
END:VEVENT
BEGIN:VEVENT
DTSTART;TZID=Europe/Vienna:20241002T164500
DTEND;TZID=Europe/Vienna:20241002T181500
DTSTAMP:20260420T074651
CREATED:20240909T122217Z
LAST-MODIFIED:20240909T122217Z
UID:10409-1727887500-1727892900@www.rosinka.at
SUMMARY:БУКВОЕЖКИ (9-10)
DESCRIPTION:
URL:https://www.rosinka.at/event/%d0%b1%d1%83%d0%ba%d0%b2%d0%be%d0%b5%d0%b6%d0%ba%d0%b8-9-10/2024-10-02/
END:VEVENT
BEGIN:VEVENT
DTSTART;TZID=Europe/Vienna:20241003T163000
DTEND;TZID=Europe/Vienna:20241003T180000
DTSTAMP:20260420T074651
CREATED:20240909T122505Z
LAST-MODIFIED:20241004T074638Z
UID:10427-1727973000-1727978400@www.rosinka.at
SUMMARY:УМНИКИ (13-15)
DESCRIPTION:
URL:https://www.rosinka.at/event/%d0%bf%d0%be%d0%b4%d1%80%d0%be%d1%81%d1%82%d0%ba%d0%b8-2-0-13-15/2024-10-03/
END:VEVENT
BEGIN:VEVENT
DTSTART;TZID=Europe/Vienna:20241003T164500
DTEND;TZID=Europe/Vienna:20241003T181500
DTSTAMP:20260420T074651
CREATED:20240909T122618Z
LAST-MODIFIED:20240909T122618Z
UID:10445-1727973900-1727979300@www.rosinka.at
SUMMARY:СОЛНЫШКИ (5-6)
DESCRIPTION:
URL:https://www.rosinka.at/event/%d1%81%d0%be%d0%bb%d0%bd%d1%8b%d1%88%d0%ba%d0%b8-5-6/2024-10-03/
END:VEVENT
BEGIN:VEVENT
DTSTART;TZID=Europe/Vienna:20241004T160000
DTEND;TZID=Europe/Vienna:20241004T173000
DTSTAMP:20260420T074651
CREATED:20240916T195330Z
LAST-MODIFIED:20240916T195330Z
UID:10548-1728057600-1728063000@www.rosinka.at
SUMMARY:ЛУЧИКИ (5-6)
DESCRIPTION:
URL:https://www.rosinka.at/event/%d0%bb%d1%83%d1%87%d0%b8%d0%ba%d0%b8-5-6/2024-10-04/
END:VEVENT
BEGIN:VEVENT
DTSTART;TZID=Europe/Vienna:20241004T170000
DTEND;TZID=Europe/Vienna:20241004T180000
DTSTAMP:20260420T074651
CREATED:20240909T122733Z
LAST-MODIFIED:20240909T122733Z
UID:10724-1728061200-1728064800@www.rosinka.at
SUMMARY:МАЛЫШАРИКИ (1\,5-3)
DESCRIPTION:
URL:https://www.rosinka.at/event/%d0%bc%d0%b0%d0%bb%d1%8b%d1%88%d0%b0%d1%80%d0%b8%d0%ba%d0%b8-15-3-3/2024-10-04/
END:VEVENT
BEGIN:VEVENT
DTSTART;TZID=Europe/Vienna:20241005T110000
DTEND;TZID=Europe/Vienna:20241005T120000
DTSTAMP:20260420T074651
CREATED:20240925T091230Z
LAST-MODIFIED:20241009T190513Z
UID:10597-1728126000-1728129600@www.rosinka.at
SUMMARY:РОБОТОТЕХНИКА
DESCRIPTION:
URL:https://www.rosinka.at/event/%d1%80%d0%be%d0%b1%d0%be%d1%82%d0%be%d1%82%d0%b5%d1%85%d0%bd%d0%b8%d0%ba%d0%b0-13/2024-10-05/
END:VEVENT
BEGIN:VEVENT
DTSTART;TZID=Europe/Vienna:20241007T171500
DTEND;TZID=Europe/Vienna:20241007T184500
DTSTAMP:20260420T074651
CREATED:20240909T121917Z
LAST-MODIFIED:20240909T121917Z
UID:10357-1728321300-1728326700@www.rosinka.at
SUMMARY:ЖИВОПИСЬ (7-10+)
DESCRIPTION:
URL:https://www.rosinka.at/event/%d0%b6%d0%b8%d0%b2%d0%be%d0%bf%d0%b8%d1%81%d1%8c-7-10-5/2024-10-07/
END:VEVENT
BEGIN:VEVENT
DTSTART;TZID=Europe/Vienna:20241008T150000
DTEND;TZID=Europe/Vienna:20241008T163000
DTSTAMP:20260420T074651
CREATED:20240914T205228Z
LAST-MODIFIED:20241112T153753Z
UID:10484-1728399600-1728405000@www.rosinka.at
SUMMARY:СТАРШЕКЛАССНИКИ (12-13)
DESCRIPTION:
URL:https://www.rosinka.at/event/%d0%b3%d1%80%d1%83%d0%bf%d0%bf%d0%b0-3-4-%d0%ba%d0%bb%d0%b0%d1%81%d1%81/2024-10-08/
END:VEVENT
BEGIN:VEVENT
DTSTART;TZID=Europe/Vienna:20241008T164500
DTEND;TZID=Europe/Vienna:20241008T181500
DTSTAMP:20260420T074651
CREATED:20240909T122100Z
LAST-MODIFIED:20240909T122100Z
UID:10374-1728405900-1728411300@www.rosinka.at
SUMMARY:ЯКОРЕК (10-11)
DESCRIPTION:
URL:https://www.rosinka.at/event/%d1%8f%d0%ba%d0%be%d1%80%d0%b5%d0%ba-10-11/2024-10-08/
END:VEVENT
BEGIN:VEVENT
DTSTART;TZID=Europe/Vienna:20241009T150000
DTEND;TZID=Europe/Vienna:20241009T163000
DTSTAMP:20260420T074651
CREATED:20240909T122331Z
LAST-MODIFIED:20240909T122331Z
UID:10392-1728486000-1728491400@www.rosinka.at
SUMMARY:ЗНАЙЧИКИ (8-9)
DESCRIPTION:
URL:https://www.rosinka.at/event/%d0%b7%d0%bd%d0%b0%d0%b9%d1%87%d0%b8%d0%ba%d0%b8-8-9/2024-10-09/
END:VEVENT
BEGIN:VEVENT
DTSTART;TZID=Europe/Vienna:20241009T163500
DTEND;TZID=Europe/Vienna:20241009T173500
DTSTAMP:20260420T074651
CREATED:20240914T205542Z
LAST-MODIFIED:20240914T205542Z
UID:10808-1728491700-1728495300@www.rosinka.at
SUMMARY:ФАНТАЗЕРЫ (4-5)
DESCRIPTION:
URL:https://www.rosinka.at/event/%d0%b3%d1%80%d1%83%d0%bf%d0%bf%d0%b0-4-5-%d0%bb%d0%b5%d1%82-7/2024-10-09/
END:VEVENT
BEGIN:VEVENT
DTSTART;TZID=Europe/Vienna:20241009T164500
DTEND;TZID=Europe/Vienna:20241009T181500
DTSTAMP:20260420T074651
CREATED:20240909T122217Z
LAST-MODIFIED:20240909T122217Z
UID:10410-1728492300-1728497700@www.rosinka.at
SUMMARY:БУКВОЕЖКИ (9-10)
DESCRIPTION:
URL:https://www.rosinka.at/event/%d0%b1%d1%83%d0%ba%d0%b2%d0%be%d0%b5%d0%b6%d0%ba%d0%b8-9-10/2024-10-09/
END:VEVENT
BEGIN:VEVENT
DTSTART;TZID=Europe/Vienna:20241010T164500
DTEND;TZID=Europe/Vienna:20241010T181500
DTSTAMP:20260420T074651
CREATED:20240909T122618Z
LAST-MODIFIED:20240909T122618Z
UID:10446-1728578700-1728584100@www.rosinka.at
SUMMARY:СОЛНЫШКИ (5-6)
DESCRIPTION:
URL:https://www.rosinka.at/event/%d1%81%d0%be%d0%bb%d0%bd%d1%8b%d1%88%d0%ba%d0%b8-5-6/2024-10-10/
END:VEVENT
BEGIN:VEVENT
DTSTART;TZID=Europe/Vienna:20241011T144500
DTEND;TZID=Europe/Vienna:20241011T161500
DTSTAMP:20260420T074651
CREATED:20240914T205405Z
LAST-MODIFIED:20241019T141756Z
UID:10504-1728657900-1728663300@www.rosinka.at
SUMMARY:ФИКСИКИ (6-7)
DESCRIPTION:
URL:https://www.rosinka.at/event/%d0%bf%d1%87%d0%b5%d0%bb%d0%ba%d0%b8-6-7/2024-10-11/
END:VEVENT
BEGIN:VEVENT
DTSTART;TZID=Europe/Vienna:20241011T160000
DTEND;TZID=Europe/Vienna:20241011T173000
DTSTAMP:20260420T074651
CREATED:20240916T195330Z
LAST-MODIFIED:20240916T195330Z
UID:10549-1728662400-1728667800@www.rosinka.at
SUMMARY:ЛУЧИКИ (5-6)
DESCRIPTION:
URL:https://www.rosinka.at/event/%d0%bb%d1%83%d1%87%d0%b8%d0%ba%d0%b8-5-6/2024-10-11/
END:VEVENT
BEGIN:VEVENT
DTSTART;TZID=Europe/Vienna:20241011T170000
DTEND;TZID=Europe/Vienna:20241011T180000
DTSTAMP:20260420T074651
CREATED:20240909T122733Z
LAST-MODIFIED:20240909T122733Z
UID:10725-1728666000-1728669600@www.rosinka.at
SUMMARY:МАЛЫШАРИКИ (1\,5-3)
DESCRIPTION:
URL:https://www.rosinka.at/event/%d0%bc%d0%b0%d0%bb%d1%8b%d1%88%d0%b0%d1%80%d0%b8%d0%ba%d0%b8-15-3-3/2024-10-11/
END:VEVENT
BEGIN:VEVENT
DTSTART;TZID=Europe/Vienna:20241012T110000
DTEND;TZID=Europe/Vienna:20241012T120000
DTSTAMP:20260420T074651
CREATED:20240925T091230Z
LAST-MODIFIED:20241009T190514Z
UID:10675-1728730800-1728734400@www.rosinka.at
SUMMARY:РОБОТОТЕХНИКА
DESCRIPTION:
URL:https://www.rosinka.at/event/%d1%80%d0%be%d0%b1%d0%be%d1%82%d0%be%d1%82%d0%b5%d1%85%d0%bd%d0%b8%d0%ba%d0%b0-13/2024-10-12/
END:VEVENT
BEGIN:VEVENT
DTSTART;TZID=Europe/Vienna:20241014T171500
DTEND;TZID=Europe/Vienna:20241014T181500
DTSTAMP:20260420T074651
CREATED:20240909T121718Z
LAST-MODIFIED:20240909T121718Z
UID:10341-1728926100-1728929700@www.rosinka.at
SUMMARY:СВЕТЛЯЧКИ (4-5)
DESCRIPTION:
URL:https://www.rosinka.at/event/%d1%81%d0%b2%d0%b5%d1%82%d0%bb%d1%8f%d1%87%d0%ba%d0%b8-4-5/2024-10-14/
END:VEVENT
END:VCALENDAR