BEGIN:VCALENDAR
VERSION:2.0
PRODID:-//Rosinka - ECPv6.15.20//NONSGML v1.0//EN
CALSCALE:GREGORIAN
METHOD:PUBLISH
X-WR-CALNAME:Rosinka
X-ORIGINAL-URL:https://www.rosinka.at
X-WR-CALDESC:Мероприятия для Rosinka
REFRESH-INTERVAL;VALUE=DURATION:PT1H
X-Robots-Tag:noindex
X-PUBLISHED-TTL:PT1H
BEGIN:VTIMEZONE
TZID:Europe/Vienna
BEGIN:DAYLIGHT
TZOFFSETFROM:+0100
TZOFFSETTO:+0200
TZNAME:CEST
DTSTART:20230326T010000
END:DAYLIGHT
BEGIN:STANDARD
TZOFFSETFROM:+0200
TZOFFSETTO:+0100
TZNAME:CET
DTSTART:20231029T010000
END:STANDARD
BEGIN:DAYLIGHT
TZOFFSETFROM:+0100
TZOFFSETTO:+0200
TZNAME:CEST
DTSTART:20240331T010000
END:DAYLIGHT
BEGIN:STANDARD
TZOFFSETFROM:+0200
TZOFFSETTO:+0100
TZNAME:CET
DTSTART:20241027T010000
END:STANDARD
BEGIN:DAYLIGHT
TZOFFSETFROM:+0100
TZOFFSETTO:+0200
TZNAME:CEST
DTSTART:20250330T010000
END:DAYLIGHT
BEGIN:STANDARD
TZOFFSETFROM:+0200
TZOFFSETTO:+0100
TZNAME:CET
DTSTART:20251026T010000
END:STANDARD
END:VTIMEZONE
BEGIN:VEVENT
DTSTART;TZID=Europe/Vienna:20240620T153000
DTEND;TZID=Europe/Vienna:20240620T163000
DTSTAMP:20260420T072520
CREATED:20240216T151648Z
LAST-MODIFIED:20240216T151648Z
UID:9991-1718897400-1718901000@www.rosinka.at
SUMMARY:СОЛНЫШКИ (4-5)
DESCRIPTION:
URL:https://www.rosinka.at/event/%d1%81%d0%be%d0%bb%d0%bd%d1%8b%d1%88%d0%ba%d0%b8-4-5-4/2024-06-20/
END:VEVENT
BEGIN:VEVENT
DTSTART;TZID=Europe/Vienna:20240619T164500
DTEND;TZID=Europe/Vienna:20240619T181500
DTSTAMP:20260420T072520
CREATED:20240216T151448Z
LAST-MODIFIED:20240216T151448Z
UID:9975-1718815500-1718820900@www.rosinka.at
SUMMARY:БУКВОЕЖКИ (8-9)
DESCRIPTION:
URL:https://www.rosinka.at/event/%d0%b1%d1%83%d0%ba%d0%b2%d0%be%d0%b5%d0%b6%d0%ba%d0%b8-8-9-2/2024-06-19/
END:VEVENT
BEGIN:VEVENT
DTSTART;TZID=Europe/Vienna:20240619T150000
DTEND;TZID=Europe/Vienna:20240619T163000
DTSTAMP:20260420T072520
CREATED:20240216T151334Z
LAST-MODIFIED:20240216T151334Z
UID:9958-1718809200-1718814600@www.rosinka.at
SUMMARY:ЗНАЙЧИКИ (7-8)
DESCRIPTION:
URL:https://www.rosinka.at/event/%d0%b7%d0%bd%d0%b0%d0%b9%d1%87%d0%b8%d0%ba%d0%b8-7-8-2/2024-06-19/
END:VEVENT
BEGIN:VEVENT
DTSTART;TZID=Europe/Vienna:20240618T164500
DTEND;TZID=Europe/Vienna:20240618T181500
DTSTAMP:20260420T072520
CREATED:20240216T151126Z
LAST-MODIFIED:20240613T145325Z
UID:9941-1718729100-1718734500@www.rosinka.at
SUMMARY:ЯКОРЕК (9-10)
DESCRIPTION:
URL:https://www.rosinka.at/event/%d1%8f%d0%ba%d0%be%d1%80%d0%b5%d0%ba-9-10-3/2024-06-18/
END:VEVENT
BEGIN:VEVENT
DTSTART;TZID=Europe/Vienna:20240617T171500
DTEND;TZID=Europe/Vienna:20240617T181500
DTSTAMP:20260420T072520
CREATED:20240216T150734Z
LAST-MODIFIED:20240216T150734Z
UID:9909-1718644500-1718648100@www.rosinka.at
SUMMARY:СВЕТЛЯЧКИ (3-4)
DESCRIPTION:
URL:https://www.rosinka.at/event/%d1%81%d0%b2%d0%b5%d1%82%d0%bb%d1%8f%d1%87%d0%ba%d0%b8-3-4-4/2024-06-17/
END:VEVENT
BEGIN:VEVENT
DTSTART;TZID=Europe/Vienna:20240617T153000
DTEND;TZID=Europe/Vienna:20240617T170000
DTSTAMP:20260420T072520
CREATED:20240216T150540Z
LAST-MODIFIED:20240304T101635Z
UID:9893-1718638200-1718643600@www.rosinka.at
SUMMARY:НЕПОСЕДЫ (6-7)
DESCRIPTION:
URL:https://www.rosinka.at/event/%d0%bd%d0%b5%d0%bf%d0%be%d1%81%d0%b5%d0%b4%d1%8b-6-7-2-2024-03-11/2024-06-17/
END:VEVENT
BEGIN:VEVENT
DTSTART;TZID=Europe/Vienna:20240614T163000
DTEND;TZID=Europe/Vienna:20240614T173000
DTSTAMP:20260420T072520
CREATED:20240412T062458Z
LAST-MODIFIED:20240423T151450Z
UID:10105-1718382600-1718386200@www.rosinka.at
SUMMARY:МАЛЫШАРИКИ (1\,5-3)
DESCRIPTION:
URL:https://www.rosinka.at/event/%d0%bc%d0%b0%d0%bb%d1%8b%d1%88%d0%b8-15-3-3/2024-06-14/
END:VEVENT
BEGIN:VEVENT
DTSTART;TZID=Europe/Vienna:20240614T160000
DTEND;TZID=Europe/Vienna:20240614T170000
DTSTAMP:20260420T072520
CREATED:20240216T152048Z
LAST-MODIFIED:20240216T152048Z
UID:10038-1718380800-1718384400@www.rosinka.at
SUMMARY:ЛУЧИКИ (4-5)
DESCRIPTION:
URL:https://www.rosinka.at/event/%d0%bb%d1%83%d1%87%d0%b8%d0%ba%d0%b8-4-5-3/2024-06-14/
END:VEVENT
BEGIN:VEVENT
DTSTART;TZID=Europe/Vienna:20240613T164500
DTEND;TZID=Europe/Vienna:20240613T181500
DTSTAMP:20260420T072520
CREATED:20240613T144851Z
LAST-MODIFIED:20240613T144851Z
UID:10196-1718297100-1718302500@www.rosinka.at
SUMMARY:ПЧЕЛКИ (5-6)
DESCRIPTION:
URL:https://www.rosinka.at/event/%d0%bf%d1%87%d0%b5%d0%bb%d0%ba%d0%b8-5-6-2/2024-06-13/
END:VEVENT
BEGIN:VEVENT
DTSTART;TZID=Europe/Vienna:20240613T153000
DTEND;TZID=Europe/Vienna:20240613T163000
DTSTAMP:20260420T072520
CREATED:20240216T151648Z
LAST-MODIFIED:20240216T151648Z
UID:9990-1718292600-1718296200@www.rosinka.at
SUMMARY:СОЛНЫШКИ (4-5)
DESCRIPTION:
URL:https://www.rosinka.at/event/%d1%81%d0%be%d0%bb%d0%bd%d1%8b%d1%88%d0%ba%d0%b8-4-5-4/2024-06-13/
END:VEVENT
BEGIN:VEVENT
DTSTART;TZID=Europe/Vienna:20240612T164500
DTEND;TZID=Europe/Vienna:20240612T181500
DTSTAMP:20260420T072520
CREATED:20240216T151448Z
LAST-MODIFIED:20240216T151448Z
UID:9974-1718210700-1718216100@www.rosinka.at
SUMMARY:БУКВОЕЖКИ (8-9)
DESCRIPTION:
URL:https://www.rosinka.at/event/%d0%b1%d1%83%d0%ba%d0%b2%d0%be%d0%b5%d0%b6%d0%ba%d0%b8-8-9-2/2024-06-12/
END:VEVENT
BEGIN:VEVENT
DTSTART;TZID=Europe/Vienna:20240612T150000
DTEND;TZID=Europe/Vienna:20240612T163000
DTSTAMP:20260420T072520
CREATED:20240216T151334Z
LAST-MODIFIED:20240216T151334Z
UID:9957-1718204400-1718209800@www.rosinka.at
SUMMARY:ЗНАЙЧИКИ (7-8)
DESCRIPTION:
URL:https://www.rosinka.at/event/%d0%b7%d0%bd%d0%b0%d0%b9%d1%87%d0%b8%d0%ba%d0%b8-7-8-2/2024-06-12/
END:VEVENT
BEGIN:VEVENT
DTSTART;TZID=Europe/Vienna:20240611T164500
DTEND;TZID=Europe/Vienna:20240611T181500
DTSTAMP:20260420T072520
CREATED:20240216T151126Z
LAST-MODIFIED:20240613T145324Z
UID:9940-1718124300-1718129700@www.rosinka.at
SUMMARY:ЯКОРЕК (9-10)
DESCRIPTION:
URL:https://www.rosinka.at/event/%d1%8f%d0%ba%d0%be%d1%80%d0%b5%d0%ba-9-10-3/2024-06-11/
END:VEVENT
BEGIN:VEVENT
DTSTART;TZID=Europe/Vienna:20240610T171500
DTEND;TZID=Europe/Vienna:20240610T184500
DTSTAMP:20260420T072520
CREATED:20240216T150907Z
LAST-MODIFIED:20240216T150907Z
UID:9924-1718039700-1718045100@www.rosinka.at
SUMMARY:ЖИВОПИСЬ (7-10)
DESCRIPTION:
URL:https://www.rosinka.at/event/%d0%b6%d0%b8%d0%b2%d0%be%d0%bf%d0%b8%d1%81%d1%8c-7-10-4/2024-06-10/
END:VEVENT
BEGIN:VEVENT
DTSTART;TZID=Europe/Vienna:20240610T171500
DTEND;TZID=Europe/Vienna:20240610T181500
DTSTAMP:20260420T072520
CREATED:20240216T150734Z
LAST-MODIFIED:20240216T150734Z
UID:9908-1718039700-1718043300@www.rosinka.at
SUMMARY:СВЕТЛЯЧКИ (3-4)
DESCRIPTION:
URL:https://www.rosinka.at/event/%d1%81%d0%b2%d0%b5%d1%82%d0%bb%d1%8f%d1%87%d0%ba%d0%b8-3-4-4/2024-06-10/
END:VEVENT
BEGIN:VEVENT
DTSTART;TZID=Europe/Vienna:20240610T153000
DTEND;TZID=Europe/Vienna:20240610T170000
DTSTAMP:20260420T072520
CREATED:20240216T150540Z
LAST-MODIFIED:20240304T101635Z
UID:9892-1718033400-1718038800@www.rosinka.at
SUMMARY:НЕПОСЕДЫ (6-7)
DESCRIPTION:
URL:https://www.rosinka.at/event/%d0%bd%d0%b5%d0%bf%d0%be%d1%81%d0%b5%d0%b4%d1%8b-6-7-2-2024-03-11/2024-06-10/
END:VEVENT
BEGIN:VEVENT
DTSTART;TZID=Europe/Vienna:20240608T120000
DTEND;TZID=Europe/Vienna:20240608T133000
DTSTAMP:20260420T072520
CREATED:20240213T075040Z
LAST-MODIFIED:20240522T192556Z
UID:9873-1717848000-1717853400@www.rosinka.at
SUMMARY:ИСТОРИЯ ИСКУССТВ
DESCRIPTION:
URL:https://www.rosinka.at/event/%d0%b8%d1%81%d1%82%d0%be%d1%80%d0%b8%d1%8f-%d0%b8%d1%81%d0%ba%d1%83%d1%81%d1%81%d1%82%d0%b2-3/
END:VEVENT
BEGIN:VEVENT
DTSTART;TZID=Europe/Vienna:20240607T163000
DTEND;TZID=Europe/Vienna:20240607T173000
DTSTAMP:20260420T072520
CREATED:20240412T062458Z
LAST-MODIFIED:20240423T151450Z
UID:10104-1717777800-1717781400@www.rosinka.at
SUMMARY:МАЛЫШАРИКИ (1\,5-3)
DESCRIPTION:
URL:https://www.rosinka.at/event/%d0%bc%d0%b0%d0%bb%d1%8b%d1%88%d0%b8-15-3-3/2024-06-07/
END:VEVENT
BEGIN:VEVENT
DTSTART;TZID=Europe/Vienna:20240607T160000
DTEND;TZID=Europe/Vienna:20240607T170000
DTSTAMP:20260420T072520
CREATED:20240216T152048Z
LAST-MODIFIED:20240216T152048Z
UID:10037-1717776000-1717779600@www.rosinka.at
SUMMARY:ЛУЧИКИ (4-5)
DESCRIPTION:
URL:https://www.rosinka.at/event/%d0%bb%d1%83%d1%87%d0%b8%d0%ba%d0%b8-4-5-3/2024-06-07/
END:VEVENT
BEGIN:VEVENT
DTSTART;TZID=Europe/Vienna:20240607T140000
DTEND;TZID=Europe/Vienna:20240607T153000
DTSTAMP:20260420T072520
CREATED:20240508T141325Z
LAST-MODIFIED:20240508T141325Z
UID:10147-1717768800-1717774200@www.rosinka.at
SUMMARY:НЕПОСЕДЫ (6-7)
DESCRIPTION:
URL:https://www.rosinka.at/event/%d0%bd%d0%b5%d0%bf%d0%be%d1%81%d0%b5%d0%b4%d1%8b-6-7-2/
END:VEVENT
BEGIN:VEVENT
DTSTART;TZID=Europe/Vienna:20240606T164500
DTEND;TZID=Europe/Vienna:20240606T181500
DTSTAMP:20260420T072520
CREATED:20240613T144851Z
LAST-MODIFIED:20240613T144851Z
UID:10195-1717692300-1717697700@www.rosinka.at
SUMMARY:ПЧЕЛКИ (5-6)
DESCRIPTION:
URL:https://www.rosinka.at/event/%d0%bf%d1%87%d0%b5%d0%bb%d0%ba%d0%b8-5-6-2/2024-06-06/
END:VEVENT
BEGIN:VEVENT
DTSTART;TZID=Europe/Vienna:20240606T163000
DTEND;TZID=Europe/Vienna:20240606T180000
DTSTAMP:20260420T072520
CREATED:20240216T151907Z
LAST-MODIFIED:20240216T151907Z
UID:10021-1717691400-1717696800@www.rosinka.at
SUMMARY:ПОДРОСТКИ 2.0 (12-14)
DESCRIPTION:
URL:https://www.rosinka.at/event/%d0%bf%d0%be%d0%b4%d1%80%d0%be%d1%81%d1%82%d0%ba%d0%b8-2-0-12-14-2/2024-06-06/
END:VEVENT
BEGIN:VEVENT
DTSTART;TZID=Europe/Vienna:20240606T153000
DTEND;TZID=Europe/Vienna:20240606T163000
DTSTAMP:20260420T072520
CREATED:20240216T151648Z
LAST-MODIFIED:20240216T151648Z
UID:9989-1717687800-1717691400@www.rosinka.at
SUMMARY:СОЛНЫШКИ (4-5)
DESCRIPTION:
URL:https://www.rosinka.at/event/%d1%81%d0%be%d0%bb%d0%bd%d1%8b%d1%88%d0%ba%d0%b8-4-5-4/2024-06-06/
END:VEVENT
BEGIN:VEVENT
DTSTART;TZID=Europe/Vienna:20240605T164500
DTEND;TZID=Europe/Vienna:20240605T181500
DTSTAMP:20260420T072520
CREATED:20240216T151448Z
LAST-MODIFIED:20240216T151448Z
UID:9973-1717605900-1717611300@www.rosinka.at
SUMMARY:БУКВОЕЖКИ (8-9)
DESCRIPTION:
URL:https://www.rosinka.at/event/%d0%b1%d1%83%d0%ba%d0%b2%d0%be%d0%b5%d0%b6%d0%ba%d0%b8-8-9-2/2024-06-05/
END:VEVENT
BEGIN:VEVENT
DTSTART;TZID=Europe/Vienna:20240605T150000
DTEND;TZID=Europe/Vienna:20240605T163000
DTSTAMP:20260420T072520
CREATED:20240216T151334Z
LAST-MODIFIED:20240216T151334Z
UID:9956-1717599600-1717605000@www.rosinka.at
SUMMARY:ЗНАЙЧИКИ (7-8)
DESCRIPTION:
URL:https://www.rosinka.at/event/%d0%b7%d0%bd%d0%b0%d0%b9%d1%87%d0%b8%d0%ba%d0%b8-7-8-2/2024-06-05/
END:VEVENT
BEGIN:VEVENT
DTSTART;TZID=Europe/Vienna:20240604T164500
DTEND;TZID=Europe/Vienna:20240604T181500
DTSTAMP:20260420T072520
CREATED:20240216T151126Z
LAST-MODIFIED:20240613T145324Z
UID:9939-1717519500-1717524900@www.rosinka.at
SUMMARY:ЯКОРЕК (9-10)
DESCRIPTION:
URL:https://www.rosinka.at/event/%d1%8f%d0%ba%d0%be%d1%80%d0%b5%d0%ba-9-10-3/2024-06-04/
END:VEVENT
BEGIN:VEVENT
DTSTART;TZID=Europe/Vienna:20240603T171500
DTEND;TZID=Europe/Vienna:20240603T184500
DTSTAMP:20260420T072520
CREATED:20240216T150907Z
LAST-MODIFIED:20240216T150907Z
UID:9923-1717434900-1717440300@www.rosinka.at
SUMMARY:ЖИВОПИСЬ (7-10)
DESCRIPTION:
URL:https://www.rosinka.at/event/%d0%b6%d0%b8%d0%b2%d0%be%d0%bf%d0%b8%d1%81%d1%8c-7-10-4/2024-06-03/
END:VEVENT
BEGIN:VEVENT
DTSTART;TZID=Europe/Vienna:20240603T171500
DTEND;TZID=Europe/Vienna:20240603T181500
DTSTAMP:20260420T072520
CREATED:20240216T150734Z
LAST-MODIFIED:20240216T150734Z
UID:9907-1717434900-1717438500@www.rosinka.at
SUMMARY:СВЕТЛЯЧКИ (3-4)
DESCRIPTION:
URL:https://www.rosinka.at/event/%d1%81%d0%b2%d0%b5%d1%82%d0%bb%d1%8f%d1%87%d0%ba%d0%b8-3-4-4/2024-06-03/
END:VEVENT
BEGIN:VEVENT
DTSTART;TZID=Europe/Vienna:20240603T153000
DTEND;TZID=Europe/Vienna:20240603T170000
DTSTAMP:20260420T072520
CREATED:20240216T150540Z
LAST-MODIFIED:20240304T101635Z
UID:9891-1717428600-1717434000@www.rosinka.at
SUMMARY:НЕПОСЕДЫ (6-7)
DESCRIPTION:
URL:https://www.rosinka.at/event/%d0%bd%d0%b5%d0%bf%d0%be%d1%81%d0%b5%d0%b4%d1%8b-6-7-2-2024-03-11/2024-06-03/
END:VEVENT
BEGIN:VEVENT
DTSTART;VALUE=DATE:20240530
DTEND;VALUE=DATE:20240603
DTSTAMP:20260420T072520
CREATED:20230802T200754Z
LAST-MODIFIED:20240210T175454Z
UID:9155-1717027200-1717372799@www.rosinka.at
SUMMARY:НЕУЧЕБНЫЙ ДЕНЬ
DESCRIPTION:
URL:https://www.rosinka.at/event/%d0%bd%d0%b5%d1%83%d1%87%d0%b5%d0%b1%d0%bd%d1%8b%d0%b9-%d0%b4%d0%b5%d0%bd%d1%8c-42/
END:VEVENT
END:VCALENDAR