BEGIN:VCALENDAR
VERSION:2.0
PRODID:-//Rosinka - ECPv6.15.20//NONSGML v1.0//EN
CALSCALE:GREGORIAN
METHOD:PUBLISH
X-ORIGINAL-URL:https://www.rosinka.at
X-WR-CALDESC:Мероприятия для Rosinka
REFRESH-INTERVAL;VALUE=DURATION:PT1H
X-Robots-Tag:noindex
X-PUBLISHED-TTL:PT1H
BEGIN:VTIMEZONE
TZID:Europe/Vienna
BEGIN:DAYLIGHT
TZOFFSETFROM:+0100
TZOFFSETTO:+0200
TZNAME:CEST
DTSTART:20230326T010000
END:DAYLIGHT
BEGIN:STANDARD
TZOFFSETFROM:+0200
TZOFFSETTO:+0100
TZNAME:CET
DTSTART:20231029T010000
END:STANDARD
BEGIN:DAYLIGHT
TZOFFSETFROM:+0100
TZOFFSETTO:+0200
TZNAME:CEST
DTSTART:20240331T010000
END:DAYLIGHT
BEGIN:STANDARD
TZOFFSETFROM:+0200
TZOFFSETTO:+0100
TZNAME:CET
DTSTART:20241027T010000
END:STANDARD
BEGIN:DAYLIGHT
TZOFFSETFROM:+0100
TZOFFSETTO:+0200
TZNAME:CEST
DTSTART:20250330T010000
END:DAYLIGHT
BEGIN:STANDARD
TZOFFSETFROM:+0200
TZOFFSETTO:+0100
TZNAME:CET
DTSTART:20251026T010000
END:STANDARD
END:VTIMEZONE
BEGIN:VEVENT
DTSTART;TZID=Europe/Vienna:20240917T164500
DTEND;TZID=Europe/Vienna:20240917T174500
DTSTAMP:20260420T090611
CREATED:20240916T140234Z
LAST-MODIFIED:20240916T140234Z
UID:10543-1726591500-1726595100@www.rosinka.at
SUMMARY:ЖИВОПИСЬ (4-6)
DESCRIPTION:
URL:https://www.rosinka.at/event/%d0%b6%d0%b8%d0%b2%d0%be%d0%bf%d0%b8%d1%81%d1%8c-4-6-31/
END:VEVENT
BEGIN:VEVENT
DTSTART;TZID=Europe/Vienna:20240917T150000
DTEND;TZID=Europe/Vienna:20240917T163000
DTSTAMP:20260420T090611
CREATED:20240914T205228Z
LAST-MODIFIED:20241112T153752Z
UID:10481-1726585200-1726590600@www.rosinka.at
SUMMARY:СТАРШЕКЛАССНИКИ (12-13)
DESCRIPTION:
URL:https://www.rosinka.at/event/%d0%b3%d1%80%d1%83%d0%bf%d0%bf%d0%b0-3-4-%d0%ba%d0%bb%d0%b0%d1%81%d1%81/2024-09-17/
END:VEVENT
BEGIN:VEVENT
DTSTART;TZID=Europe/Vienna:20240916T171500
DTEND;TZID=Europe/Vienna:20240916T184500
DTSTAMP:20260420T090611
CREATED:20240909T121917Z
LAST-MODIFIED:20240909T123432Z
UID:10273-1726506900-1726512300@www.rosinka.at
SUMMARY:ЖИВОПИСЬ (7-10+)
DESCRIPTION:
URL:https://www.rosinka.at/event/%d0%b6%d0%b8%d0%b2%d0%be%d0%bf%d0%b8%d1%81%d1%8c-7-10-5/2024-09-16/
END:VEVENT
BEGIN:VEVENT
DTSTART;TZID=Europe/Vienna:20240916T171500
DTEND;TZID=Europe/Vienna:20240916T181500
DTSTAMP:20260420T090611
CREATED:20240909T121718Z
LAST-MODIFIED:20240909T123339Z
UID:10266-1726506900-1726510500@www.rosinka.at
SUMMARY:СВЕТЛЯЧКИ (4-5)
DESCRIPTION:
URL:https://www.rosinka.at/event/%d1%81%d0%b2%d0%b5%d1%82%d0%bb%d1%8f%d1%87%d0%ba%d0%b8-4-5/2024-09-16/
END:VEVENT
BEGIN:VEVENT
DTSTART;TZID=Europe/Vienna:20240708T171500
DTEND;TZID=Europe/Vienna:20240708T184500
DTSTAMP:20260420T090611
CREATED:20240216T150907Z
LAST-MODIFIED:20240522T200707Z
UID:9926-1720458900-1720464300@www.rosinka.at
SUMMARY:ЖИВОПИСЬ (7-10)
DESCRIPTION:
URL:https://www.rosinka.at/event/%d0%b6%d0%b8%d0%b2%d0%be%d0%bf%d0%b8%d1%81%d1%8c-7-10-4-2024-06-24/
END:VEVENT
BEGIN:VEVENT
DTSTART;TZID=Europe/Vienna:20240705T163000
DTEND;TZID=Europe/Vienna:20240705T173000
DTSTAMP:20260420T090611
CREATED:20240603T171022Z
LAST-MODIFIED:20240603T171022Z
UID:10165-1720197000-1720200600@www.rosinka.at
SUMMARY:МАЛЫШАРИКИ (1\,5-3)
DESCRIPTION:
URL:https://www.rosinka.at/event/%d0%bc%d0%b0%d0%bb%d1%8b%d1%88%d0%b0%d1%80%d0%b8%d0%ba%d0%b8-15-3-2/
END:VEVENT
BEGIN:VEVENT
DTSTART;TZID=Europe/Vienna:20240702T164500
DTEND;TZID=Europe/Vienna:20240702T181500
DTSTAMP:20260420T090611
CREATED:20240216T151126Z
LAST-MODIFIED:20240216T151126Z
UID:10198-1719938700-1719944100@www.rosinka.at
SUMMARY:ЯКОРЕК (9-10)
DESCRIPTION:
URL:https://www.rosinka.at/event/%d1%8f%d0%ba%d0%be%d1%80%d0%b5%d0%ba-9-10-3/2024-07-02/
END:VEVENT
BEGIN:VEVENT
DTSTART;TZID=Europe/Vienna:20240701T171500
DTEND;TZID=Europe/Vienna:20240701T184500
DTSTAMP:20260420T090611
CREATED:20240216T150907Z
LAST-MODIFIED:20240522T200623Z
UID:9925-1719854100-1719859500@www.rosinka.at
SUMMARY:ЖИВОПИСЬ (7-10)
DESCRIPTION:
URL:https://www.rosinka.at/event/%d0%b6%d0%b8%d0%b2%d0%be%d0%bf%d0%b8%d1%81%d1%8c-7-10-4-2024-06-17/
END:VEVENT
BEGIN:VEVENT
DTSTART;VALUE=DATE:20240701
DTEND;VALUE=DATE:20240916
DTSTAMP:20260420T090611
CREATED:20240701T162334Z
LAST-MODIFIED:20240701T162334Z
UID:10220-1719792000-1726444799@www.rosinka.at
SUMMARY:ЛЕТНИЕ КАНИКУЛЫ 😃☀️🥳
DESCRIPTION:
URL:https://www.rosinka.at/event/%d0%bb%d0%b5%d1%82%d0%bd%d0%b8%d0%b5-%d0%ba%d0%b0%d0%bd%d0%b8%d0%ba%d1%83%d0%bb%d1%8b-%f0%9f%98%83%e2%98%80%ef%b8%8f%f0%9f%a5%b3/
END:VEVENT
BEGIN:VEVENT
DTSTART;TZID=Europe/Vienna:20240630T120000
DTEND;TZID=Europe/Vienna:20240630T140000
DTSTAMP:20260420T090611
CREATED:20240614T105047Z
LAST-MODIFIED:20240614T105047Z
UID:10213-1719748800-1719756000@www.rosinka.at
SUMMARY:МУЛЬТИПЛИКАЦИЯ
DESCRIPTION:
URL:https://www.rosinka.at/event/%d0%bc%d1%83%d0%bb%d1%8c%d1%82%d0%b8%d0%bf%d0%bb%d0%b8%d0%ba%d0%b0%d1%86%d0%b8%d1%8f-3/2024-06-30/
END:VEVENT
BEGIN:VEVENT
DTSTART;TZID=Europe/Vienna:20240629T150000
DTEND;TZID=Europe/Vienna:20240629T170000
DTSTAMP:20260420T090611
CREATED:20240614T105111Z
LAST-MODIFIED:20240614T105111Z
UID:10215-1719673200-1719680400@www.rosinka.at
SUMMARY:МУЛЬТИПЛИКАЦИЯ
DESCRIPTION:
URL:https://www.rosinka.at/event/%d0%bc%d1%83%d0%bb%d1%8c%d1%82%d0%b8%d0%bf%d0%bb%d0%b8%d0%ba%d0%b0%d1%86%d0%b8%d1%8f-4/
END:VEVENT
BEGIN:VEVENT
DTSTART;TZID=Europe/Vienna:20240628T163000
DTEND;TZID=Europe/Vienna:20240628T173000
DTSTAMP:20260420T090611
CREATED:20240412T062458Z
LAST-MODIFIED:20240423T151451Z
UID:10107-1719592200-1719595800@www.rosinka.at
SUMMARY:МАЛЫШАРИКИ (1\,5-3)
DESCRIPTION:
URL:https://www.rosinka.at/event/%d0%bc%d0%b0%d0%bb%d1%8b%d1%88%d0%b8-15-3-3/2024-06-28/
END:VEVENT
BEGIN:VEVENT
DTSTART;TZID=Europe/Vienna:20240628T160000
DTEND;TZID=Europe/Vienna:20240628T170000
DTSTAMP:20260420T090611
CREATED:20240216T152048Z
LAST-MODIFIED:20240216T152048Z
UID:10040-1719590400-1719594000@www.rosinka.at
SUMMARY:ЛУЧИКИ (4-5)
DESCRIPTION:
URL:https://www.rosinka.at/event/%d0%bb%d1%83%d1%87%d0%b8%d0%ba%d0%b8-4-5-3/2024-06-28/
END:VEVENT
BEGIN:VEVENT
DTSTART;TZID=Europe/Vienna:20240627T163000
DTEND;TZID=Europe/Vienna:20240627T180000
DTSTAMP:20260420T090611
CREATED:20240216T151907Z
LAST-MODIFIED:20240216T151907Z
UID:10024-1719505800-1719511200@www.rosinka.at
SUMMARY:ПОДРОСТКИ 2.0 (12-14)
DESCRIPTION:
URL:https://www.rosinka.at/event/%d0%bf%d0%be%d0%b4%d1%80%d0%be%d1%81%d1%82%d0%ba%d0%b8-2-0-12-14-2/2024-06-27/
END:VEVENT
BEGIN:VEVENT
DTSTART;TZID=Europe/Vienna:20240627T153000
DTEND;TZID=Europe/Vienna:20240627T163000
DTSTAMP:20260420T090611
CREATED:20240216T151648Z
LAST-MODIFIED:20240216T151648Z
UID:9992-1719502200-1719505800@www.rosinka.at
SUMMARY:СОЛНЫШКИ (4-5)
DESCRIPTION:
URL:https://www.rosinka.at/event/%d1%81%d0%be%d0%bb%d0%bd%d1%8b%d1%88%d0%ba%d0%b8-4-5-4/2024-06-27/
END:VEVENT
BEGIN:VEVENT
DTSTART;TZID=Europe/Vienna:20240626T164500
DTEND;TZID=Europe/Vienna:20240626T181500
DTSTAMP:20260420T090611
CREATED:20240216T151448Z
LAST-MODIFIED:20240216T151448Z
UID:9976-1719420300-1719425700@www.rosinka.at
SUMMARY:БУКВОЕЖКИ (8-9)
DESCRIPTION:
URL:https://www.rosinka.at/event/%d0%b1%d1%83%d0%ba%d0%b2%d0%be%d0%b5%d0%b6%d0%ba%d0%b8-8-9-2/2024-06-26/
END:VEVENT
BEGIN:VEVENT
DTSTART;TZID=Europe/Vienna:20240626T150000
DTEND;TZID=Europe/Vienna:20240626T163000
DTSTAMP:20260420T090611
CREATED:20240216T151334Z
LAST-MODIFIED:20240216T151334Z
UID:9959-1719414000-1719419400@www.rosinka.at
SUMMARY:ЗНАЙЧИКИ (7-8)
DESCRIPTION:
URL:https://www.rosinka.at/event/%d0%b7%d0%bd%d0%b0%d0%b9%d1%87%d0%b8%d0%ba%d0%b8-7-8-2/2024-06-26/
END:VEVENT
BEGIN:VEVENT
DTSTART;TZID=Europe/Vienna:20240625T164500
DTEND;TZID=Europe/Vienna:20240625T181500
DTSTAMP:20260420T090611
CREATED:20240216T151126Z
LAST-MODIFIED:20240613T145325Z
UID:9942-1719333900-1719339300@www.rosinka.at
SUMMARY:ЯКОРЕК (9-10)
DESCRIPTION:
URL:https://www.rosinka.at/event/%d1%8f%d0%ba%d0%be%d1%80%d0%b5%d0%ba-9-10-3/2024-06-25/
END:VEVENT
BEGIN:VEVENT
DTSTART;TZID=Europe/Vienna:20240624T171500
DTEND;TZID=Europe/Vienna:20240624T181500
DTSTAMP:20260420T090611
CREATED:20240216T150734Z
LAST-MODIFIED:20240216T150734Z
UID:9910-1719249300-1719252900@www.rosinka.at
SUMMARY:СВЕТЛЯЧКИ (3-4)
DESCRIPTION:
URL:https://www.rosinka.at/event/%d1%81%d0%b2%d0%b5%d1%82%d0%bb%d1%8f%d1%87%d0%ba%d0%b8-3-4-4/2024-06-24/
END:VEVENT
BEGIN:VEVENT
DTSTART;TZID=Europe/Vienna:20240624T153000
DTEND;TZID=Europe/Vienna:20240624T170000
DTSTAMP:20260420T090611
CREATED:20240216T150540Z
LAST-MODIFIED:20240304T101635Z
UID:9894-1719243000-1719248400@www.rosinka.at
SUMMARY:НЕПОСЕДЫ (6-7)
DESCRIPTION:
URL:https://www.rosinka.at/event/%d0%bd%d0%b5%d0%bf%d0%be%d1%81%d0%b5%d0%b4%d1%8b-6-7-2-2024-03-11/2024-06-24/
END:VEVENT
BEGIN:VEVENT
DTSTART;TZID=Europe/Vienna:20240623T120000
DTEND;TZID=Europe/Vienna:20240623T140000
DTSTAMP:20260420T090611
CREATED:20240614T105047Z
LAST-MODIFIED:20240614T105047Z
UID:10212-1719144000-1719151200@www.rosinka.at
SUMMARY:МУЛЬТИПЛИКАЦИЯ
DESCRIPTION:
URL:https://www.rosinka.at/event/%d0%bc%d1%83%d0%bb%d1%8c%d1%82%d0%b8%d0%bf%d0%bb%d0%b8%d0%ba%d0%b0%d1%86%d0%b8%d1%8f-3/2024-06-23/
END:VEVENT
BEGIN:VEVENT
DTSTART;TZID=Europe/Vienna:20240621T163000
DTEND;TZID=Europe/Vienna:20240621T173000
DTSTAMP:20260420T090611
CREATED:20240412T062458Z
LAST-MODIFIED:20240423T151451Z
UID:10106-1718987400-1718991000@www.rosinka.at
SUMMARY:МАЛЫШАРИКИ (1\,5-3)
DESCRIPTION:
URL:https://www.rosinka.at/event/%d0%bc%d0%b0%d0%bb%d1%8b%d1%88%d0%b8-15-3-3/2024-06-21/
END:VEVENT
BEGIN:VEVENT
DTSTART;TZID=Europe/Vienna:20240621T160000
DTEND;TZID=Europe/Vienna:20240621T170000
DTSTAMP:20260420T090611
CREATED:20240216T152048Z
LAST-MODIFIED:20240216T152048Z
UID:10039-1718985600-1718989200@www.rosinka.at
SUMMARY:ЛУЧИКИ (4-5)
DESCRIPTION:
URL:https://www.rosinka.at/event/%d0%bb%d1%83%d1%87%d0%b8%d0%ba%d0%b8-4-5-3/2024-06-21/
END:VEVENT
BEGIN:VEVENT
DTSTART;TZID=Europe/Vienna:20240620T164500
DTEND;TZID=Europe/Vienna:20240620T181500
DTSTAMP:20260420T090611
CREATED:20240613T144851Z
LAST-MODIFIED:20240613T144851Z
UID:10197-1718901900-1718907300@www.rosinka.at
SUMMARY:ПЧЕЛКИ (5-6)
DESCRIPTION:
URL:https://www.rosinka.at/event/%d0%bf%d1%87%d0%b5%d0%bb%d0%ba%d0%b8-5-6-2/2024-06-20/
END:VEVENT
BEGIN:VEVENT
DTSTART;TZID=Europe/Vienna:20240620T163000
DTEND;TZID=Europe/Vienna:20240620T180000
DTSTAMP:20260420T090611
CREATED:20240216T151907Z
LAST-MODIFIED:20240216T151907Z
UID:10023-1718901000-1718906400@www.rosinka.at
SUMMARY:ПОДРОСТКИ 2.0 (12-14)
DESCRIPTION:
URL:https://www.rosinka.at/event/%d0%bf%d0%be%d0%b4%d1%80%d0%be%d1%81%d1%82%d0%ba%d0%b8-2-0-12-14-2/2024-06-20/
END:VEVENT
BEGIN:VEVENT
DTSTART;TZID=Europe/Vienna:20240620T153000
DTEND;TZID=Europe/Vienna:20240620T163000
DTSTAMP:20260420T090611
CREATED:20240216T151648Z
LAST-MODIFIED:20240216T151648Z
UID:9991-1718897400-1718901000@www.rosinka.at
SUMMARY:СОЛНЫШКИ (4-5)
DESCRIPTION:
URL:https://www.rosinka.at/event/%d1%81%d0%be%d0%bb%d0%bd%d1%8b%d1%88%d0%ba%d0%b8-4-5-4/2024-06-20/
END:VEVENT
BEGIN:VEVENT
DTSTART;TZID=Europe/Vienna:20240619T164500
DTEND;TZID=Europe/Vienna:20240619T181500
DTSTAMP:20260420T090611
CREATED:20240216T151448Z
LAST-MODIFIED:20240216T151448Z
UID:9975-1718815500-1718820900@www.rosinka.at
SUMMARY:БУКВОЕЖКИ (8-9)
DESCRIPTION:
URL:https://www.rosinka.at/event/%d0%b1%d1%83%d0%ba%d0%b2%d0%be%d0%b5%d0%b6%d0%ba%d0%b8-8-9-2/2024-06-19/
END:VEVENT
BEGIN:VEVENT
DTSTART;TZID=Europe/Vienna:20240619T150000
DTEND;TZID=Europe/Vienna:20240619T163000
DTSTAMP:20260420T090611
CREATED:20240216T151334Z
LAST-MODIFIED:20240216T151334Z
UID:9958-1718809200-1718814600@www.rosinka.at
SUMMARY:ЗНАЙЧИКИ (7-8)
DESCRIPTION:
URL:https://www.rosinka.at/event/%d0%b7%d0%bd%d0%b0%d0%b9%d1%87%d0%b8%d0%ba%d0%b8-7-8-2/2024-06-19/
END:VEVENT
BEGIN:VEVENT
DTSTART;TZID=Europe/Vienna:20240618T164500
DTEND;TZID=Europe/Vienna:20240618T181500
DTSTAMP:20260420T090611
CREATED:20240216T151126Z
LAST-MODIFIED:20240613T145325Z
UID:9941-1718729100-1718734500@www.rosinka.at
SUMMARY:ЯКОРЕК (9-10)
DESCRIPTION:
URL:https://www.rosinka.at/event/%d1%8f%d0%ba%d0%be%d1%80%d0%b5%d0%ba-9-10-3/2024-06-18/
END:VEVENT
BEGIN:VEVENT
DTSTART;TZID=Europe/Vienna:20240617T171500
DTEND;TZID=Europe/Vienna:20240617T181500
DTSTAMP:20260420T090611
CREATED:20240216T150734Z
LAST-MODIFIED:20240216T150734Z
UID:9909-1718644500-1718648100@www.rosinka.at
SUMMARY:СВЕТЛЯЧКИ (3-4)
DESCRIPTION:
URL:https://www.rosinka.at/event/%d1%81%d0%b2%d0%b5%d1%82%d0%bb%d1%8f%d1%87%d0%ba%d0%b8-3-4-4/2024-06-17/
END:VEVENT
END:VCALENDAR