BEGIN:VCALENDAR
VERSION:2.0
PRODID:-//Rosinka - ECPv6.15.20//NONSGML v1.0//EN
CALSCALE:GREGORIAN
METHOD:PUBLISH
X-WR-CALNAME:Rosinka
X-ORIGINAL-URL:https://www.rosinka.at
X-WR-CALDESC:Мероприятия для Rosinka
REFRESH-INTERVAL;VALUE=DURATION:PT1H
X-Robots-Tag:noindex
X-PUBLISHED-TTL:PT1H
BEGIN:VTIMEZONE
TZID:Europe/Vienna
BEGIN:DAYLIGHT
TZOFFSETFROM:+0100
TZOFFSETTO:+0200
TZNAME:CEST
DTSTART:20230326T010000
END:DAYLIGHT
BEGIN:STANDARD
TZOFFSETFROM:+0200
TZOFFSETTO:+0100
TZNAME:CET
DTSTART:20231029T010000
END:STANDARD
BEGIN:DAYLIGHT
TZOFFSETFROM:+0100
TZOFFSETTO:+0200
TZNAME:CEST
DTSTART:20240331T010000
END:DAYLIGHT
BEGIN:STANDARD
TZOFFSETFROM:+0200
TZOFFSETTO:+0100
TZNAME:CET
DTSTART:20241027T010000
END:STANDARD
BEGIN:DAYLIGHT
TZOFFSETFROM:+0100
TZOFFSETTO:+0200
TZNAME:CEST
DTSTART:20250330T010000
END:DAYLIGHT
BEGIN:STANDARD
TZOFFSETFROM:+0200
TZOFFSETTO:+0100
TZNAME:CET
DTSTART:20251026T010000
END:STANDARD
END:VTIMEZONE
BEGIN:VEVENT
DTSTART;TZID=Europe/Vienna:20241119T150000
DTEND;TZID=Europe/Vienna:20241119T163000
DTSTAMP:20260420T000622
CREATED:20240914T205228Z
LAST-MODIFIED:20241112T153754Z
UID:10489-1732028400-1732033800@www.rosinka.at
SUMMARY:СТАРШЕКЛАССНИКИ (12-13)
DESCRIPTION:
URL:https://www.rosinka.at/event/%d0%b3%d1%80%d1%83%d0%bf%d0%bf%d0%b0-3-4-%d0%ba%d0%bb%d0%b0%d1%81%d1%81/2024-11-19/
END:VEVENT
BEGIN:VEVENT
DTSTART;TZID=Europe/Vienna:20241119T164500
DTEND;TZID=Europe/Vienna:20241119T181500
DTSTAMP:20260420T000622
CREATED:20240909T122100Z
LAST-MODIFIED:20240909T122100Z
UID:10379-1732034700-1732040100@www.rosinka.at
SUMMARY:ЯКОРЕК (10-11)
DESCRIPTION:
URL:https://www.rosinka.at/event/%d1%8f%d0%ba%d0%be%d1%80%d0%b5%d0%ba-10-11/2024-11-19/
END:VEVENT
BEGIN:VEVENT
DTSTART;TZID=Europe/Vienna:20241120T150000
DTEND;TZID=Europe/Vienna:20241120T163000
DTSTAMP:20260420T000622
CREATED:20240909T122331Z
LAST-MODIFIED:20240909T122331Z
UID:10397-1732114800-1732120200@www.rosinka.at
SUMMARY:ЗНАЙЧИКИ (8-9)
DESCRIPTION:
URL:https://www.rosinka.at/event/%d0%b7%d0%bd%d0%b0%d0%b9%d1%87%d0%b8%d0%ba%d0%b8-8-9/2024-11-20/
END:VEVENT
BEGIN:VEVENT
DTSTART;TZID=Europe/Vienna:20241120T163500
DTEND;TZID=Europe/Vienna:20241120T173500
DTSTAMP:20260420T000622
CREATED:20240914T205542Z
LAST-MODIFIED:20240914T205542Z
UID:10812-1732120500-1732124100@www.rosinka.at
SUMMARY:ФАНТАЗЕРЫ (4-5)
DESCRIPTION:
URL:https://www.rosinka.at/event/%d0%b3%d1%80%d1%83%d0%bf%d0%bf%d0%b0-4-5-%d0%bb%d0%b5%d1%82-7/2024-11-20/
END:VEVENT
BEGIN:VEVENT
DTSTART;TZID=Europe/Vienna:20241120T164500
DTEND;TZID=Europe/Vienna:20241120T181500
DTSTAMP:20260420T000622
CREATED:20240909T122217Z
LAST-MODIFIED:20240909T122217Z
UID:10415-1732121100-1732126500@www.rosinka.at
SUMMARY:БУКВОЕЖКИ (9-10)
DESCRIPTION:
URL:https://www.rosinka.at/event/%d0%b1%d1%83%d0%ba%d0%b2%d0%be%d0%b5%d0%b6%d0%ba%d0%b8-9-10/2024-11-20/
END:VEVENT
BEGIN:VEVENT
DTSTART;TZID=Europe/Vienna:20241121T163000
DTEND;TZID=Europe/Vienna:20241121T180000
DTSTAMP:20260420T000622
CREATED:20240909T122505Z
LAST-MODIFIED:20241004T074640Z
UID:10433-1732206600-1732212000@www.rosinka.at
SUMMARY:УМНИКИ (13-15)
DESCRIPTION:
URL:https://www.rosinka.at/event/%d0%bf%d0%be%d0%b4%d1%80%d0%be%d1%81%d1%82%d0%ba%d0%b8-2-0-13-15/2024-11-21/
END:VEVENT
BEGIN:VEVENT
DTSTART;TZID=Europe/Vienna:20241121T164500
DTEND;TZID=Europe/Vienna:20241121T181500
DTSTAMP:20260420T000622
CREATED:20240909T122618Z
LAST-MODIFIED:20240909T122618Z
UID:10451-1732207500-1732212900@www.rosinka.at
SUMMARY:СОЛНЫШКИ (5-6)
DESCRIPTION:
URL:https://www.rosinka.at/event/%d1%81%d0%be%d0%bb%d0%bd%d1%8b%d1%88%d0%ba%d0%b8-5-6/2024-11-21/
END:VEVENT
BEGIN:VEVENT
DTSTART;TZID=Europe/Vienna:20241122T144500
DTEND;TZID=Europe/Vienna:20241122T161500
DTSTAMP:20260420T000622
CREATED:20240914T205405Z
LAST-MODIFIED:20241019T141757Z
UID:10509-1732286700-1732292100@www.rosinka.at
SUMMARY:ФИКСИКИ (6-7)
DESCRIPTION:
URL:https://www.rosinka.at/event/%d0%bf%d1%87%d0%b5%d0%bb%d0%ba%d0%b8-6-7/2024-11-22/
END:VEVENT
BEGIN:VEVENT
DTSTART;TZID=Europe/Vienna:20241122T160000
DTEND;TZID=Europe/Vienna:20241122T173000
DTSTAMP:20260420T000622
CREATED:20240916T195330Z
LAST-MODIFIED:20240916T195330Z
UID:10554-1732291200-1732296600@www.rosinka.at
SUMMARY:ЛУЧИКИ (5-6)
DESCRIPTION:
URL:https://www.rosinka.at/event/%d0%bb%d1%83%d1%87%d0%b8%d0%ba%d0%b8-5-6/2024-11-22/
END:VEVENT
BEGIN:VEVENT
DTSTART;TZID=Europe/Vienna:20241122T170000
DTEND;TZID=Europe/Vienna:20241122T180000
DTSTAMP:20260420T000622
CREATED:20240909T122733Z
LAST-MODIFIED:20240909T122733Z
UID:10730-1732294800-1732298400@www.rosinka.at
SUMMARY:МАЛЫШАРИКИ (1\,5-3)
DESCRIPTION:
URL:https://www.rosinka.at/event/%d0%bc%d0%b0%d0%bb%d1%8b%d1%88%d0%b0%d1%80%d0%b8%d0%ba%d0%b8-15-3-3/2024-11-22/
END:VEVENT
BEGIN:VEVENT
DTSTART;TZID=Europe/Vienna:20241123T110000
DTEND;TZID=Europe/Vienna:20241123T120000
DTSTAMP:20260420T000622
CREATED:20240925T091230Z
LAST-MODIFIED:20241009T190515Z
UID:10679-1732359600-1732363200@www.rosinka.at
SUMMARY:РОБОТОТЕХНИКА
DESCRIPTION:
URL:https://www.rosinka.at/event/%d1%80%d0%be%d0%b1%d0%be%d1%82%d0%be%d1%82%d0%b5%d1%85%d0%bd%d0%b8%d0%ba%d0%b0-13/2024-11-23/
END:VEVENT
BEGIN:VEVENT
DTSTART;TZID=Europe/Vienna:20241125T171500
DTEND;TZID=Europe/Vienna:20241125T181500
DTSTAMP:20260420T000622
CREATED:20240909T121718Z
LAST-MODIFIED:20240909T121718Z
UID:10346-1732554900-1732558500@www.rosinka.at
SUMMARY:СВЕТЛЯЧКИ (4-5)
DESCRIPTION:
URL:https://www.rosinka.at/event/%d1%81%d0%b2%d0%b5%d1%82%d0%bb%d1%8f%d1%87%d0%ba%d0%b8-4-5/2024-11-25/
END:VEVENT
BEGIN:VEVENT
DTSTART;TZID=Europe/Vienna:20241125T171500
DTEND;TZID=Europe/Vienna:20241125T184500
DTSTAMP:20260420T000622
CREATED:20240909T121917Z
LAST-MODIFIED:20240909T121917Z
UID:10363-1732554900-1732560300@www.rosinka.at
SUMMARY:ЖИВОПИСЬ (7-10+)
DESCRIPTION:
URL:https://www.rosinka.at/event/%d0%b6%d0%b8%d0%b2%d0%be%d0%bf%d0%b8%d1%81%d1%8c-7-10-5/2024-11-25/
END:VEVENT
BEGIN:VEVENT
DTSTART;TZID=Europe/Vienna:20241126T150000
DTEND;TZID=Europe/Vienna:20241126T163000
DTSTAMP:20260420T000622
CREATED:20240914T205228Z
LAST-MODIFIED:20241112T153754Z
UID:10490-1732633200-1732638600@www.rosinka.at
SUMMARY:СТАРШЕКЛАССНИКИ (12-13)
DESCRIPTION:
URL:https://www.rosinka.at/event/%d0%b3%d1%80%d1%83%d0%bf%d0%bf%d0%b0-3-4-%d0%ba%d0%bb%d0%b0%d1%81%d1%81/2024-11-26/
END:VEVENT
BEGIN:VEVENT
DTSTART;TZID=Europe/Vienna:20241126T164500
DTEND;TZID=Europe/Vienna:20241126T181500
DTSTAMP:20260420T000622
CREATED:20240909T122100Z
LAST-MODIFIED:20240909T122100Z
UID:10380-1732639500-1732644900@www.rosinka.at
SUMMARY:ЯКОРЕК (10-11)
DESCRIPTION:
URL:https://www.rosinka.at/event/%d1%8f%d0%ba%d0%be%d1%80%d0%b5%d0%ba-10-11/2024-11-26/
END:VEVENT
BEGIN:VEVENT
DTSTART;TZID=Europe/Vienna:20241127T150000
DTEND;TZID=Europe/Vienna:20241127T163000
DTSTAMP:20260420T000622
CREATED:20240909T122331Z
LAST-MODIFIED:20240909T122331Z
UID:10398-1732719600-1732725000@www.rosinka.at
SUMMARY:ЗНАЙЧИКИ (8-9)
DESCRIPTION:
URL:https://www.rosinka.at/event/%d0%b7%d0%bd%d0%b0%d0%b9%d1%87%d0%b8%d0%ba%d0%b8-8-9/2024-11-27/
END:VEVENT
BEGIN:VEVENT
DTSTART;TZID=Europe/Vienna:20241127T163500
DTEND;TZID=Europe/Vienna:20241127T173500
DTSTAMP:20260420T000622
CREATED:20240914T205542Z
LAST-MODIFIED:20240914T205542Z
UID:10813-1732725300-1732728900@www.rosinka.at
SUMMARY:ФАНТАЗЕРЫ (4-5)
DESCRIPTION:
URL:https://www.rosinka.at/event/%d0%b3%d1%80%d1%83%d0%bf%d0%bf%d0%b0-4-5-%d0%bb%d0%b5%d1%82-7/2024-11-27/
END:VEVENT
BEGIN:VEVENT
DTSTART;TZID=Europe/Vienna:20241127T164500
DTEND;TZID=Europe/Vienna:20241127T181500
DTSTAMP:20260420T000622
CREATED:20240909T122217Z
LAST-MODIFIED:20240909T122217Z
UID:10416-1732725900-1732731300@www.rosinka.at
SUMMARY:БУКВОЕЖКИ (9-10)
DESCRIPTION:
URL:https://www.rosinka.at/event/%d0%b1%d1%83%d0%ba%d0%b2%d0%be%d0%b5%d0%b6%d0%ba%d0%b8-9-10/2024-11-27/
END:VEVENT
BEGIN:VEVENT
DTSTART;TZID=Europe/Vienna:20241128T163000
DTEND;TZID=Europe/Vienna:20241128T180000
DTSTAMP:20260420T000622
CREATED:20240909T122505Z
LAST-MODIFIED:20241004T074640Z
UID:10434-1732811400-1732816800@www.rosinka.at
SUMMARY:УМНИКИ (13-15)
DESCRIPTION:
URL:https://www.rosinka.at/event/%d0%bf%d0%be%d0%b4%d1%80%d0%be%d1%81%d1%82%d0%ba%d0%b8-2-0-13-15/2024-11-28/
END:VEVENT
BEGIN:VEVENT
DTSTART;TZID=Europe/Vienna:20241128T164500
DTEND;TZID=Europe/Vienna:20241128T181500
DTSTAMP:20260420T000622
CREATED:20240909T122618Z
LAST-MODIFIED:20240909T122618Z
UID:10452-1732812300-1732817700@www.rosinka.at
SUMMARY:СОЛНЫШКИ (5-6)
DESCRIPTION:
URL:https://www.rosinka.at/event/%d1%81%d0%be%d0%bb%d0%bd%d1%8b%d1%88%d0%ba%d0%b8-5-6/2024-11-28/
END:VEVENT
BEGIN:VEVENT
DTSTART;TZID=Europe/Vienna:20241129T144500
DTEND;TZID=Europe/Vienna:20241129T161500
DTSTAMP:20260420T000622
CREATED:20240914T205405Z
LAST-MODIFIED:20241019T141758Z
UID:10510-1732891500-1732896900@www.rosinka.at
SUMMARY:ФИКСИКИ (6-7)
DESCRIPTION:
URL:https://www.rosinka.at/event/%d0%bf%d1%87%d0%b5%d0%bb%d0%ba%d0%b8-6-7/2024-11-29/
END:VEVENT
BEGIN:VEVENT
DTSTART;TZID=Europe/Vienna:20241129T170000
DTEND;TZID=Europe/Vienna:20241129T180000
DTSTAMP:20260420T000622
CREATED:20240909T122733Z
LAST-MODIFIED:20240909T122733Z
UID:10731-1732899600-1732903200@www.rosinka.at
SUMMARY:МАЛЫШАРИКИ (1\,5-3)
DESCRIPTION:
URL:https://www.rosinka.at/event/%d0%bc%d0%b0%d0%bb%d1%8b%d1%88%d0%b0%d1%80%d0%b8%d0%ba%d0%b8-15-3-3/2024-11-29/
END:VEVENT
BEGIN:VEVENT
DTSTART;TZID=Europe/Vienna:20241130T110000
DTEND;TZID=Europe/Vienna:20241130T120000
DTSTAMP:20260420T000622
CREATED:20240925T091230Z
LAST-MODIFIED:20241009T190515Z
UID:10680-1732964400-1732968000@www.rosinka.at
SUMMARY:РОБОТОТЕХНИКА
DESCRIPTION:
URL:https://www.rosinka.at/event/%d1%80%d0%be%d0%b1%d0%be%d1%82%d0%be%d1%82%d0%b5%d1%85%d0%bd%d0%b8%d0%ba%d0%b0-13/2024-11-30/
END:VEVENT
BEGIN:VEVENT
DTSTART;TZID=Europe/Vienna:20241202T171500
DTEND;TZID=Europe/Vienna:20241202T181500
DTSTAMP:20260420T000622
CREATED:20240909T121718Z
LAST-MODIFIED:20240909T121718Z
UID:10347-1733159700-1733163300@www.rosinka.at
SUMMARY:СВЕТЛЯЧКИ (4-5)
DESCRIPTION:
URL:https://www.rosinka.at/event/%d1%81%d0%b2%d0%b5%d1%82%d0%bb%d1%8f%d1%87%d0%ba%d0%b8-4-5/2024-12-02/
END:VEVENT
BEGIN:VEVENT
DTSTART;TZID=Europe/Vienna:20241202T171500
DTEND;TZID=Europe/Vienna:20241202T184500
DTSTAMP:20260420T000622
CREATED:20240909T121917Z
LAST-MODIFIED:20240909T121917Z
UID:10364-1733159700-1733165100@www.rosinka.at
SUMMARY:ЖИВОПИСЬ (7-10+)
DESCRIPTION:
URL:https://www.rosinka.at/event/%d0%b6%d0%b8%d0%b2%d0%be%d0%bf%d0%b8%d1%81%d1%8c-7-10-5/2024-12-02/
END:VEVENT
BEGIN:VEVENT
DTSTART;TZID=Europe/Vienna:20241203T150000
DTEND;TZID=Europe/Vienna:20241203T163000
DTSTAMP:20260420T000622
CREATED:20240914T205228Z
LAST-MODIFIED:20241112T153754Z
UID:10491-1733238000-1733243400@www.rosinka.at
SUMMARY:СТАРШЕКЛАССНИКИ (12-13)
DESCRIPTION:
URL:https://www.rosinka.at/event/%d0%b3%d1%80%d1%83%d0%bf%d0%bf%d0%b0-3-4-%d0%ba%d0%bb%d0%b0%d1%81%d1%81/2024-12-03/
END:VEVENT
BEGIN:VEVENT
DTSTART;TZID=Europe/Vienna:20241203T164500
DTEND;TZID=Europe/Vienna:20241203T181500
DTSTAMP:20260420T000622
CREATED:20240909T122100Z
LAST-MODIFIED:20240909T122100Z
UID:10381-1733244300-1733249700@www.rosinka.at
SUMMARY:ЯКОРЕК (10-11)
DESCRIPTION:
URL:https://www.rosinka.at/event/%d1%8f%d0%ba%d0%be%d1%80%d0%b5%d0%ba-10-11/2024-12-03/
END:VEVENT
BEGIN:VEVENT
DTSTART;TZID=Europe/Vienna:20241204T150000
DTEND;TZID=Europe/Vienna:20241204T163000
DTSTAMP:20260420T000622
CREATED:20240909T122331Z
LAST-MODIFIED:20240909T122331Z
UID:10399-1733324400-1733329800@www.rosinka.at
SUMMARY:ЗНАЙЧИКИ (8-9)
DESCRIPTION:
URL:https://www.rosinka.at/event/%d0%b7%d0%bd%d0%b0%d0%b9%d1%87%d0%b8%d0%ba%d0%b8-8-9/2024-12-04/
END:VEVENT
BEGIN:VEVENT
DTSTART;TZID=Europe/Vienna:20241204T163500
DTEND;TZID=Europe/Vienna:20241204T173500
DTSTAMP:20260420T000622
CREATED:20240914T205542Z
LAST-MODIFIED:20240914T205542Z
UID:10814-1733330100-1733333700@www.rosinka.at
SUMMARY:ФАНТАЗЕРЫ (4-5)
DESCRIPTION:
URL:https://www.rosinka.at/event/%d0%b3%d1%80%d1%83%d0%bf%d0%bf%d0%b0-4-5-%d0%bb%d0%b5%d1%82-7/2024-12-04/
END:VEVENT
BEGIN:VEVENT
DTSTART;TZID=Europe/Vienna:20241204T164500
DTEND;TZID=Europe/Vienna:20241204T181500
DTSTAMP:20260420T000622
CREATED:20240909T122217Z
LAST-MODIFIED:20240909T122217Z
UID:10417-1733330700-1733336100@www.rosinka.at
SUMMARY:БУКВОЕЖКИ (9-10)
DESCRIPTION:
URL:https://www.rosinka.at/event/%d0%b1%d1%83%d0%ba%d0%b2%d0%be%d0%b5%d0%b6%d0%ba%d0%b8-9-10/2024-12-04/
END:VEVENT
END:VCALENDAR