BEGIN:VCALENDAR
VERSION:2.0
PRODID:-//Rosinka - ECPv6.15.20//NONSGML v1.0//EN
CALSCALE:GREGORIAN
METHOD:PUBLISH
X-WR-CALNAME:Rosinka
X-ORIGINAL-URL:https://www.rosinka.at
X-WR-CALDESC:Мероприятия для Rosinka
REFRESH-INTERVAL;VALUE=DURATION:PT1H
X-Robots-Tag:noindex
X-PUBLISHED-TTL:PT1H
BEGIN:VTIMEZONE
TZID:Europe/Vienna
BEGIN:DAYLIGHT
TZOFFSETFROM:+0100
TZOFFSETTO:+0200
TZNAME:CEST
DTSTART:20230326T010000
END:DAYLIGHT
BEGIN:STANDARD
TZOFFSETFROM:+0200
TZOFFSETTO:+0100
TZNAME:CET
DTSTART:20231029T010000
END:STANDARD
BEGIN:DAYLIGHT
TZOFFSETFROM:+0100
TZOFFSETTO:+0200
TZNAME:CEST
DTSTART:20240331T010000
END:DAYLIGHT
BEGIN:STANDARD
TZOFFSETFROM:+0200
TZOFFSETTO:+0100
TZNAME:CET
DTSTART:20241027T010000
END:STANDARD
BEGIN:DAYLIGHT
TZOFFSETFROM:+0100
TZOFFSETTO:+0200
TZNAME:CEST
DTSTART:20250330T010000
END:DAYLIGHT
BEGIN:STANDARD
TZOFFSETFROM:+0200
TZOFFSETTO:+0100
TZNAME:CET
DTSTART:20251026T010000
END:STANDARD
END:VTIMEZONE
BEGIN:VEVENT
DTSTART;TZID=Europe/Vienna:20241122T170000
DTEND;TZID=Europe/Vienna:20241122T180000
DTSTAMP:20260420T084619
CREATED:20240909T122733Z
LAST-MODIFIED:20240909T122733Z
UID:10730-1732294800-1732298400@www.rosinka.at
SUMMARY:МАЛЫШАРИКИ (1\,5-3)
DESCRIPTION:
URL:https://www.rosinka.at/event/%d0%bc%d0%b0%d0%bb%d1%8b%d1%88%d0%b0%d1%80%d0%b8%d0%ba%d0%b8-15-3-3/2024-11-22/
END:VEVENT
BEGIN:VEVENT
DTSTART;TZID=Europe/Vienna:20241122T160000
DTEND;TZID=Europe/Vienna:20241122T173000
DTSTAMP:20260420T084619
CREATED:20240916T195330Z
LAST-MODIFIED:20240916T195330Z
UID:10554-1732291200-1732296600@www.rosinka.at
SUMMARY:ЛУЧИКИ (5-6)
DESCRIPTION:
URL:https://www.rosinka.at/event/%d0%bb%d1%83%d1%87%d0%b8%d0%ba%d0%b8-5-6/2024-11-22/
END:VEVENT
BEGIN:VEVENT
DTSTART;TZID=Europe/Vienna:20241122T144500
DTEND;TZID=Europe/Vienna:20241122T161500
DTSTAMP:20260420T084619
CREATED:20240914T205405Z
LAST-MODIFIED:20241019T141757Z
UID:10509-1732286700-1732292100@www.rosinka.at
SUMMARY:ФИКСИКИ (6-7)
DESCRIPTION:
URL:https://www.rosinka.at/event/%d0%bf%d1%87%d0%b5%d0%bb%d0%ba%d0%b8-6-7/2024-11-22/
END:VEVENT
BEGIN:VEVENT
DTSTART;TZID=Europe/Vienna:20241121T164500
DTEND;TZID=Europe/Vienna:20241121T181500
DTSTAMP:20260420T084619
CREATED:20240909T122618Z
LAST-MODIFIED:20240909T122618Z
UID:10451-1732207500-1732212900@www.rosinka.at
SUMMARY:СОЛНЫШКИ (5-6)
DESCRIPTION:
URL:https://www.rosinka.at/event/%d1%81%d0%be%d0%bb%d0%bd%d1%8b%d1%88%d0%ba%d0%b8-5-6/2024-11-21/
END:VEVENT
BEGIN:VEVENT
DTSTART;TZID=Europe/Vienna:20241121T163000
DTEND;TZID=Europe/Vienna:20241121T180000
DTSTAMP:20260420T084619
CREATED:20240909T122505Z
LAST-MODIFIED:20241004T074640Z
UID:10433-1732206600-1732212000@www.rosinka.at
SUMMARY:УМНИКИ (13-15)
DESCRIPTION:
URL:https://www.rosinka.at/event/%d0%bf%d0%be%d0%b4%d1%80%d0%be%d1%81%d1%82%d0%ba%d0%b8-2-0-13-15/2024-11-21/
END:VEVENT
BEGIN:VEVENT
DTSTART;TZID=Europe/Vienna:20241120T164500
DTEND;TZID=Europe/Vienna:20241120T181500
DTSTAMP:20260420T084619
CREATED:20240909T122217Z
LAST-MODIFIED:20240909T122217Z
UID:10415-1732121100-1732126500@www.rosinka.at
SUMMARY:БУКВОЕЖКИ (9-10)
DESCRIPTION:
URL:https://www.rosinka.at/event/%d0%b1%d1%83%d0%ba%d0%b2%d0%be%d0%b5%d0%b6%d0%ba%d0%b8-9-10/2024-11-20/
END:VEVENT
BEGIN:VEVENT
DTSTART;TZID=Europe/Vienna:20241120T163500
DTEND;TZID=Europe/Vienna:20241120T173500
DTSTAMP:20260420T084619
CREATED:20240914T205542Z
LAST-MODIFIED:20240914T205542Z
UID:10812-1732120500-1732124100@www.rosinka.at
SUMMARY:ФАНТАЗЕРЫ (4-5)
DESCRIPTION:
URL:https://www.rosinka.at/event/%d0%b3%d1%80%d1%83%d0%bf%d0%bf%d0%b0-4-5-%d0%bb%d0%b5%d1%82-7/2024-11-20/
END:VEVENT
BEGIN:VEVENT
DTSTART;TZID=Europe/Vienna:20241120T150000
DTEND;TZID=Europe/Vienna:20241120T163000
DTSTAMP:20260420T084619
CREATED:20240909T122331Z
LAST-MODIFIED:20240909T122331Z
UID:10397-1732114800-1732120200@www.rosinka.at
SUMMARY:ЗНАЙЧИКИ (8-9)
DESCRIPTION:
URL:https://www.rosinka.at/event/%d0%b7%d0%bd%d0%b0%d0%b9%d1%87%d0%b8%d0%ba%d0%b8-8-9/2024-11-20/
END:VEVENT
BEGIN:VEVENT
DTSTART;TZID=Europe/Vienna:20241119T164500
DTEND;TZID=Europe/Vienna:20241119T181500
DTSTAMP:20260420T084619
CREATED:20240909T122100Z
LAST-MODIFIED:20240909T122100Z
UID:10379-1732034700-1732040100@www.rosinka.at
SUMMARY:ЯКОРЕК (10-11)
DESCRIPTION:
URL:https://www.rosinka.at/event/%d1%8f%d0%ba%d0%be%d1%80%d0%b5%d0%ba-10-11/2024-11-19/
END:VEVENT
BEGIN:VEVENT
DTSTART;TZID=Europe/Vienna:20241119T150000
DTEND;TZID=Europe/Vienna:20241119T163000
DTSTAMP:20260420T084619
CREATED:20240914T205228Z
LAST-MODIFIED:20241112T153754Z
UID:10489-1732028400-1732033800@www.rosinka.at
SUMMARY:СТАРШЕКЛАССНИКИ (12-13)
DESCRIPTION:
URL:https://www.rosinka.at/event/%d0%b3%d1%80%d1%83%d0%bf%d0%bf%d0%b0-3-4-%d0%ba%d0%bb%d0%b0%d1%81%d1%81/2024-11-19/
END:VEVENT
BEGIN:VEVENT
DTSTART;TZID=Europe/Vienna:20241118T171500
DTEND;TZID=Europe/Vienna:20241118T181500
DTSTAMP:20260420T084619
CREATED:20240909T121718Z
LAST-MODIFIED:20240909T121718Z
UID:10345-1731950100-1731953700@www.rosinka.at
SUMMARY:СВЕТЛЯЧКИ (4-5)
DESCRIPTION:
URL:https://www.rosinka.at/event/%d1%81%d0%b2%d0%b5%d1%82%d0%bb%d1%8f%d1%87%d0%ba%d0%b8-4-5/2024-11-18/
END:VEVENT
BEGIN:VEVENT
DTSTART;TZID=Europe/Vienna:20241116T110000
DTEND;TZID=Europe/Vienna:20241116T120000
DTSTAMP:20260420T084619
CREATED:20240925T091230Z
LAST-MODIFIED:20241009T190515Z
UID:10678-1731754800-1731758400@www.rosinka.at
SUMMARY:РОБОТОТЕХНИКА
DESCRIPTION:
URL:https://www.rosinka.at/event/%d1%80%d0%be%d0%b1%d0%be%d1%82%d0%be%d1%82%d0%b5%d1%85%d0%bd%d0%b8%d0%ba%d0%b0-13/2024-11-16/
END:VEVENT
BEGIN:VEVENT
DTSTART;TZID=Europe/Vienna:20241115T170000
DTEND;TZID=Europe/Vienna:20241115T180000
DTSTAMP:20260420T084619
CREATED:20240909T122733Z
LAST-MODIFIED:20240909T122733Z
UID:10729-1731690000-1731693600@www.rosinka.at
SUMMARY:МАЛЫШАРИКИ (1\,5-3)
DESCRIPTION:
URL:https://www.rosinka.at/event/%d0%bc%d0%b0%d0%bb%d1%8b%d1%88%d0%b0%d1%80%d0%b8%d0%ba%d0%b8-15-3-3/2024-11-15/
END:VEVENT
BEGIN:VEVENT
DTSTART;TZID=Europe/Vienna:20241115T160000
DTEND;TZID=Europe/Vienna:20241115T173000
DTSTAMP:20260420T084619
CREATED:20240916T195330Z
LAST-MODIFIED:20240916T195330Z
UID:10553-1731686400-1731691800@www.rosinka.at
SUMMARY:ЛУЧИКИ (5-6)
DESCRIPTION:
URL:https://www.rosinka.at/event/%d0%bb%d1%83%d1%87%d0%b8%d0%ba%d0%b8-5-6/2024-11-15/
END:VEVENT
BEGIN:VEVENT
DTSTART;TZID=Europe/Vienna:20241115T144500
DTEND;TZID=Europe/Vienna:20241115T161500
DTSTAMP:20260420T084619
CREATED:20240914T205405Z
LAST-MODIFIED:20241019T141757Z
UID:10508-1731681900-1731687300@www.rosinka.at
SUMMARY:ФИКСИКИ (6-7)
DESCRIPTION:
URL:https://www.rosinka.at/event/%d0%bf%d1%87%d0%b5%d0%bb%d0%ba%d0%b8-6-7/2024-11-15/
END:VEVENT
BEGIN:VEVENT
DTSTART;TZID=Europe/Vienna:20241114T164500
DTEND;TZID=Europe/Vienna:20241114T181500
DTSTAMP:20260420T084619
CREATED:20240909T122618Z
LAST-MODIFIED:20240909T122618Z
UID:10450-1731602700-1731608100@www.rosinka.at
SUMMARY:СОЛНЫШКИ (5-6)
DESCRIPTION:
URL:https://www.rosinka.at/event/%d1%81%d0%be%d0%bb%d0%bd%d1%8b%d1%88%d0%ba%d0%b8-5-6/2024-11-14/
END:VEVENT
BEGIN:VEVENT
DTSTART;TZID=Europe/Vienna:20241114T163000
DTEND;TZID=Europe/Vienna:20241114T180000
DTSTAMP:20260420T084619
CREATED:20240909T122505Z
LAST-MODIFIED:20241004T074639Z
UID:10432-1731601800-1731607200@www.rosinka.at
SUMMARY:УМНИКИ (13-15)
DESCRIPTION:
URL:https://www.rosinka.at/event/%d0%bf%d0%be%d0%b4%d1%80%d0%be%d1%81%d1%82%d0%ba%d0%b8-2-0-13-15/2024-11-14/
END:VEVENT
BEGIN:VEVENT
DTSTART;TZID=Europe/Vienna:20241113T164500
DTEND;TZID=Europe/Vienna:20241113T181500
DTSTAMP:20260420T084619
CREATED:20240909T122217Z
LAST-MODIFIED:20240909T122217Z
UID:10414-1731516300-1731521700@www.rosinka.at
SUMMARY:БУКВОЕЖКИ (9-10)
DESCRIPTION:
URL:https://www.rosinka.at/event/%d0%b1%d1%83%d0%ba%d0%b2%d0%be%d0%b5%d0%b6%d0%ba%d0%b8-9-10/2024-11-13/
END:VEVENT
BEGIN:VEVENT
DTSTART;TZID=Europe/Vienna:20241113T163500
DTEND;TZID=Europe/Vienna:20241113T173500
DTSTAMP:20260420T084619
CREATED:20240914T205542Z
LAST-MODIFIED:20240914T205542Z
UID:10811-1731515700-1731519300@www.rosinka.at
SUMMARY:ФАНТАЗЕРЫ (4-5)
DESCRIPTION:
URL:https://www.rosinka.at/event/%d0%b3%d1%80%d1%83%d0%bf%d0%bf%d0%b0-4-5-%d0%bb%d0%b5%d1%82-7/2024-11-13/
END:VEVENT
BEGIN:VEVENT
DTSTART;TZID=Europe/Vienna:20241113T150000
DTEND;TZID=Europe/Vienna:20241113T163000
DTSTAMP:20260420T084619
CREATED:20240909T122331Z
LAST-MODIFIED:20240909T122331Z
UID:10396-1731510000-1731515400@www.rosinka.at
SUMMARY:ЗНАЙЧИКИ (8-9)
DESCRIPTION:
URL:https://www.rosinka.at/event/%d0%b7%d0%bd%d0%b0%d0%b9%d1%87%d0%b8%d0%ba%d0%b8-8-9/2024-11-13/
END:VEVENT
BEGIN:VEVENT
DTSTART;TZID=Europe/Vienna:20241112T164500
DTEND;TZID=Europe/Vienna:20241112T181500
DTSTAMP:20260420T084619
CREATED:20240909T122100Z
LAST-MODIFIED:20240909T122100Z
UID:10378-1731429900-1731435300@www.rosinka.at
SUMMARY:ЯКОРЕК (10-11)
DESCRIPTION:
URL:https://www.rosinka.at/event/%d1%8f%d0%ba%d0%be%d1%80%d0%b5%d0%ba-10-11/2024-11-12/
END:VEVENT
BEGIN:VEVENT
DTSTART;TZID=Europe/Vienna:20241112T150000
DTEND;TZID=Europe/Vienna:20241112T163000
DTSTAMP:20260420T084619
CREATED:20240914T205228Z
LAST-MODIFIED:20241112T153754Z
UID:10488-1731423600-1731429000@www.rosinka.at
SUMMARY:СТАРШЕКЛАССНИКИ (12-13)
DESCRIPTION:
URL:https://www.rosinka.at/event/%d0%b3%d1%80%d1%83%d0%bf%d0%bf%d0%b0-3-4-%d0%ba%d0%bb%d0%b0%d1%81%d1%81/2024-11-12/
END:VEVENT
BEGIN:VEVENT
DTSTART;TZID=Europe/Vienna:20241111T171500
DTEND;TZID=Europe/Vienna:20241111T184500
DTSTAMP:20260420T084619
CREATED:20240909T121917Z
LAST-MODIFIED:20240909T121917Z
UID:10361-1731345300-1731350700@www.rosinka.at
SUMMARY:ЖИВОПИСЬ (7-10+)
DESCRIPTION:
URL:https://www.rosinka.at/event/%d0%b6%d0%b8%d0%b2%d0%be%d0%bf%d0%b8%d1%81%d1%8c-7-10-5/2024-11-11/
END:VEVENT
BEGIN:VEVENT
DTSTART;TZID=Europe/Vienna:20241111T171500
DTEND;TZID=Europe/Vienna:20241111T181500
DTSTAMP:20260420T084619
CREATED:20240909T121718Z
LAST-MODIFIED:20240909T121718Z
UID:10344-1731345300-1731348900@www.rosinka.at
SUMMARY:СВЕТЛЯЧКИ (4-5)
DESCRIPTION:
URL:https://www.rosinka.at/event/%d1%81%d0%b2%d0%b5%d1%82%d0%bb%d1%8f%d1%87%d0%ba%d0%b8-4-5/2024-11-11/
END:VEVENT
BEGIN:VEVENT
DTSTART;TZID=Europe/Vienna:20241109T110000
DTEND;TZID=Europe/Vienna:20241109T120000
DTSTAMP:20260420T084619
CREATED:20240925T091230Z
LAST-MODIFIED:20241009T190514Z
UID:10677-1731150000-1731153600@www.rosinka.at
SUMMARY:РОБОТОТЕХНИКА
DESCRIPTION:
URL:https://www.rosinka.at/event/%d1%80%d0%be%d0%b1%d0%be%d1%82%d0%be%d1%82%d0%b5%d1%85%d0%bd%d0%b8%d0%ba%d0%b0-13/2024-11-09/
END:VEVENT
BEGIN:VEVENT
DTSTART;TZID=Europe/Vienna:20241108T180000
DTEND;TZID=Europe/Vienna:20241108T203000
DTSTAMP:20260420T084619
CREATED:20241107T152429Z
LAST-MODIFIED:20241107T152429Z
UID:10760-1731088800-1731097800@www.rosinka.at
SUMMARY:СЕМИНАР ПО РОДИТЕЛЬСТВУ
DESCRIPTION:
URL:https://www.rosinka.at/event/%d1%81%d0%b5%d0%bc%d0%b8%d0%bd%d0%b0%d1%80-%d0%bf%d0%be-%d1%80%d0%be%d0%b4%d0%b8%d1%82%d0%b5%d0%bb%d1%8c%d1%81%d1%82%d0%b2%d1%83/
END:VEVENT
BEGIN:VEVENT
DTSTART;TZID=Europe/Vienna:20241108T160000
DTEND;TZID=Europe/Vienna:20241108T173000
DTSTAMP:20260420T084619
CREATED:20240916T195330Z
LAST-MODIFIED:20240916T195330Z
UID:10552-1731081600-1731087000@www.rosinka.at
SUMMARY:ЛУЧИКИ (5-6)
DESCRIPTION:
URL:https://www.rosinka.at/event/%d0%bb%d1%83%d1%87%d0%b8%d0%ba%d0%b8-5-6/2024-11-08/
END:VEVENT
BEGIN:VEVENT
DTSTART;TZID=Europe/Vienna:20241108T144500
DTEND;TZID=Europe/Vienna:20241108T161500
DTSTAMP:20260420T084619
CREATED:20240914T205405Z
LAST-MODIFIED:20241019T141757Z
UID:10507-1731077100-1731082500@www.rosinka.at
SUMMARY:ФИКСИКИ (6-7)
DESCRIPTION:
URL:https://www.rosinka.at/event/%d0%bf%d1%87%d0%b5%d0%bb%d0%ba%d0%b8-6-7/2024-11-08/
END:VEVENT
BEGIN:VEVENT
DTSTART;TZID=Europe/Vienna:20241107T164500
DTEND;TZID=Europe/Vienna:20241107T181500
DTSTAMP:20260420T084619
CREATED:20240909T122618Z
LAST-MODIFIED:20240909T122618Z
UID:10449-1730997900-1731003300@www.rosinka.at
SUMMARY:СОЛНЫШКИ (5-6)
DESCRIPTION:
URL:https://www.rosinka.at/event/%d1%81%d0%be%d0%bb%d0%bd%d1%8b%d1%88%d0%ba%d0%b8-5-6/2024-11-07/
END:VEVENT
BEGIN:VEVENT
DTSTART;TZID=Europe/Vienna:20241106T164500
DTEND;TZID=Europe/Vienna:20241106T181500
DTSTAMP:20260420T084619
CREATED:20240909T122217Z
LAST-MODIFIED:20240909T122217Z
UID:10413-1730911500-1730916900@www.rosinka.at
SUMMARY:БУКВОЕЖКИ (9-10)
DESCRIPTION:
URL:https://www.rosinka.at/event/%d0%b1%d1%83%d0%ba%d0%b2%d0%be%d0%b5%d0%b6%d0%ba%d0%b8-9-10/2024-11-06/
END:VEVENT
END:VCALENDAR