BEGIN:VCALENDAR
VERSION:2.0
PRODID:-//Rosinka - ECPv6.15.20//NONSGML v1.0//EN
CALSCALE:GREGORIAN
METHOD:PUBLISH
X-WR-CALNAME:Rosinka
X-ORIGINAL-URL:https://www.rosinka.at
X-WR-CALDESC:Мероприятия для Rosinka
REFRESH-INTERVAL;VALUE=DURATION:PT1H
X-Robots-Tag:noindex
X-PUBLISHED-TTL:PT1H
BEGIN:VTIMEZONE
TZID:Europe/Vienna
BEGIN:DAYLIGHT
TZOFFSETFROM:+0100
TZOFFSETTO:+0200
TZNAME:CEST
DTSTART:20240331T010000
END:DAYLIGHT
BEGIN:STANDARD
TZOFFSETFROM:+0200
TZOFFSETTO:+0100
TZNAME:CET
DTSTART:20241027T010000
END:STANDARD
BEGIN:DAYLIGHT
TZOFFSETFROM:+0100
TZOFFSETTO:+0200
TZNAME:CEST
DTSTART:20250330T010000
END:DAYLIGHT
BEGIN:STANDARD
TZOFFSETFROM:+0200
TZOFFSETTO:+0100
TZNAME:CET
DTSTART:20251026T010000
END:STANDARD
BEGIN:DAYLIGHT
TZOFFSETFROM:+0100
TZOFFSETTO:+0200
TZNAME:CEST
DTSTART:20260329T010000
END:DAYLIGHT
BEGIN:STANDARD
TZOFFSETFROM:+0200
TZOFFSETTO:+0100
TZNAME:CET
DTSTART:20261025T010000
END:STANDARD
END:VTIMEZONE
BEGIN:VEVENT
DTSTART;TZID=Europe/Vienna:20250201T110000
DTEND;TZID=Europe/Vienna:20250201T120000
DTSTAMP:20260420T005448
CREATED:20240925T091230Z
LAST-MODIFIED:20241009T190519Z
UID:10687-1738407600-1738411200@www.rosinka.at
SUMMARY:РОБОТОТЕХНИКА
DESCRIPTION:
URL:https://www.rosinka.at/event/%d1%80%d0%be%d0%b1%d0%be%d1%82%d0%be%d1%82%d0%b5%d1%85%d0%bd%d0%b8%d0%ba%d0%b0-13/2025-02-01/
END:VEVENT
BEGIN:VEVENT
DTSTART;TZID=Europe/Vienna:20250202T110000
DTEND;TZID=Europe/Vienna:20250202T123000
DTSTAMP:20260420T005448
CREATED:20250131T195150Z
LAST-MODIFIED:20250131T195150Z
UID:10843-1738494000-1738499400@www.rosinka.at
SUMMARY:УМНИКИ (13-15)
DESCRIPTION:
URL:https://www.rosinka.at/event/%d1%83%d0%bc%d0%bd%d0%b8%d0%ba%d0%b8-13-15-2/
END:VEVENT
BEGIN:VEVENT
DTSTART;TZID=Europe/Vienna:20250203T171500
DTEND;TZID=Europe/Vienna:20250203T181500
DTSTAMP:20260420T005448
CREATED:20240909T121718Z
LAST-MODIFIED:20240909T123344Z
UID:10336-1738602900-1738606500@www.rosinka.at
SUMMARY:СВЕТЛЯЧКИ (4-5)
DESCRIPTION:
URL:https://www.rosinka.at/event/%d1%81%d0%b2%d0%b5%d1%82%d0%bb%d1%8f%d1%87%d0%ba%d0%b8-4-5/2025-02-03/
END:VEVENT
BEGIN:VEVENT
DTSTART;TZID=Europe/Vienna:20250203T171500
DTEND;TZID=Europe/Vienna:20250203T184500
DTSTAMP:20260420T005448
CREATED:20240909T121917Z
LAST-MODIFIED:20240909T123438Z
UID:10277-1738602900-1738608300@www.rosinka.at
SUMMARY:ЖИВОПИСЬ (7-10+)
DESCRIPTION:
URL:https://www.rosinka.at/event/%d0%b6%d0%b8%d0%b2%d0%be%d0%bf%d0%b8%d1%81%d1%8c-7-10-5/2025-02-03/
END:VEVENT
BEGIN:VEVENT
DTSTART;TZID=Europe/Vienna:20250204T150000
DTEND;TZID=Europe/Vienna:20250204T163000
DTSTAMP:20260420T005448
CREATED:20240914T205228Z
LAST-MODIFIED:20241112T153759Z
UID:10499-1738681200-1738686600@www.rosinka.at
SUMMARY:СТАРШЕКЛАССНИКИ (12-13)
DESCRIPTION:
URL:https://www.rosinka.at/event/%d0%b3%d1%80%d1%83%d0%bf%d0%bf%d0%b0-3-4-%d0%ba%d0%bb%d0%b0%d1%81%d1%81/2025-02-04/
END:VEVENT
BEGIN:VEVENT
DTSTART;TZID=Europe/Vienna:20250204T164500
DTEND;TZID=Europe/Vienna:20250204T181500
DTSTAMP:20260420T005448
CREATED:20240909T122100Z
LAST-MODIFIED:20240909T123526Z
UID:10285-1738687500-1738692900@www.rosinka.at
SUMMARY:ЯКОРЕК (10-11)
DESCRIPTION:
URL:https://www.rosinka.at/event/%d1%8f%d0%ba%d0%be%d1%80%d0%b5%d0%ba-10-11/2025-02-04/
END:VEVENT
BEGIN:VEVENT
DTSTART;TZID=Europe/Vienna:20250205T150000
DTEND;TZID=Europe/Vienna:20250205T163000
DTSTAMP:20260420T005448
CREATED:20240909T122331Z
LAST-MODIFIED:20240909T123613Z
UID:10301-1738767600-1738773000@www.rosinka.at
SUMMARY:ЗНАЙЧИКИ (8-9)
DESCRIPTION:
URL:https://www.rosinka.at/event/%d0%b7%d0%bd%d0%b0%d0%b9%d1%87%d0%b8%d0%ba%d0%b8-8-9/2025-02-05/
END:VEVENT
BEGIN:VEVENT
DTSTART;TZID=Europe/Vienna:20250205T163500
DTEND;TZID=Europe/Vienna:20250205T173500
DTSTAMP:20260420T005448
CREATED:20240914T205542Z
LAST-MODIFIED:20240914T205542Z
UID:10821-1738773300-1738776900@www.rosinka.at
SUMMARY:ФАНТАЗЕРЫ (4-5)
DESCRIPTION:
URL:https://www.rosinka.at/event/%d0%b3%d1%80%d1%83%d0%bf%d0%bf%d0%b0-4-5-%d0%bb%d0%b5%d1%82-7/2025-02-05/
END:VEVENT
BEGIN:VEVENT
DTSTART;TZID=Europe/Vienna:20250205T164500
DTEND;TZID=Europe/Vienna:20250205T181500
DTSTAMP:20260420T005448
CREATED:20240909T122217Z
LAST-MODIFIED:20240909T123655Z
UID:10293-1738773900-1738779300@www.rosinka.at
SUMMARY:БУКВОЕЖКИ (9-10)
DESCRIPTION:
URL:https://www.rosinka.at/event/%d0%b1%d1%83%d0%ba%d0%b2%d0%be%d0%b5%d0%b6%d0%ba%d0%b8-9-10/2025-02-05/
END:VEVENT
BEGIN:VEVENT
DTSTART;TZID=Europe/Vienna:20250206T163000
DTEND;TZID=Europe/Vienna:20250206T180000
DTSTAMP:20260420T005448
CREATED:20240909T122505Z
LAST-MODIFIED:20241004T074644Z
UID:10309-1738859400-1738864800@www.rosinka.at
SUMMARY:УМНИКИ (13-15)
DESCRIPTION:
URL:https://www.rosinka.at/event/%d0%bf%d0%be%d0%b4%d1%80%d0%be%d1%81%d1%82%d0%ba%d0%b8-2-0-13-15/2025-02-06/
END:VEVENT
BEGIN:VEVENT
DTSTART;TZID=Europe/Vienna:20250206T164500
DTEND;TZID=Europe/Vienna:20250206T181500
DTSTAMP:20260420T005448
CREATED:20240909T122618Z
LAST-MODIFIED:20240909T123838Z
UID:10317-1738860300-1738865700@www.rosinka.at
SUMMARY:СОЛНЫШКИ (5-6)
DESCRIPTION:
URL:https://www.rosinka.at/event/%d1%81%d0%be%d0%bb%d0%bd%d1%8b%d1%88%d0%ba%d0%b8-5-6/2025-02-06/
END:VEVENT
BEGIN:VEVENT
DTSTART;TZID=Europe/Vienna:20250207T144500
DTEND;TZID=Europe/Vienna:20250207T161500
DTSTAMP:20260420T005448
CREATED:20240914T205405Z
LAST-MODIFIED:20241019T141802Z
UID:10519-1738939500-1738944900@www.rosinka.at
SUMMARY:ФИКСИКИ (6-7)
DESCRIPTION:
URL:https://www.rosinka.at/event/%d0%bf%d1%87%d0%b5%d0%bb%d0%ba%d0%b8-6-7/2025-02-07/
END:VEVENT
BEGIN:VEVENT
DTSTART;TZID=Europe/Vienna:20250207T160000
DTEND;TZID=Europe/Vienna:20250207T173000
DTSTAMP:20260420T005448
CREATED:20240916T195330Z
LAST-MODIFIED:20240916T195330Z
UID:10564-1738944000-1738949400@www.rosinka.at
SUMMARY:ЛУЧИКИ (5-6)
DESCRIPTION:
URL:https://www.rosinka.at/event/%d0%bb%d1%83%d1%87%d0%b8%d0%ba%d0%b8-5-6/2025-02-07/
END:VEVENT
BEGIN:VEVENT
DTSTART;TZID=Europe/Vienna:20250207T170000
DTEND;TZID=Europe/Vienna:20250207T180000
DTSTAMP:20260420T005448
CREATED:20240909T122733Z
LAST-MODIFIED:20240909T122733Z
UID:10739-1738947600-1738951200@www.rosinka.at
SUMMARY:МАЛЫШАРИКИ (1\,5-3)
DESCRIPTION:
URL:https://www.rosinka.at/event/%d0%bc%d0%b0%d0%bb%d1%8b%d1%88%d0%b0%d1%80%d0%b8%d0%ba%d0%b8-15-3-3/2025-02-07/
END:VEVENT
BEGIN:VEVENT
DTSTART;TZID=Europe/Vienna:20250208T110000
DTEND;TZID=Europe/Vienna:20250208T120000
DTSTAMP:20260420T005448
CREATED:20240925T091230Z
LAST-MODIFIED:20241009T190519Z
UID:10688-1739012400-1739016000@www.rosinka.at
SUMMARY:РОБОТОТЕХНИКА
DESCRIPTION:
URL:https://www.rosinka.at/event/%d1%80%d0%be%d0%b1%d0%be%d1%82%d0%be%d1%82%d0%b5%d1%85%d0%bd%d0%b8%d0%ba%d0%b0-13/2025-02-08/
END:VEVENT
BEGIN:VEVENT
DTSTART;TZID=Europe/Vienna:20250208T131500
DTEND;TZID=Europe/Vienna:20250208T144500
DTSTAMP:20260420T005448
CREATED:20250119T183955Z
LAST-MODIFIED:20250131T065236Z
UID:10839-1739020500-1739025900@www.rosinka.at
SUMMARY:ИСТОРИЯ ИСКУССТВ
DESCRIPTION:
URL:https://www.rosinka.at/event/%d0%b8%d1%81%d1%82%d0%be%d1%80%d0%b8%d1%8f-%d0%b8%d1%81%d0%ba%d1%83%d1%81%d1%81%d1%82%d0%b2-5/
END:VEVENT
BEGIN:VEVENT
DTSTART;TZID=Europe/Vienna:20250210T171500
DTEND;TZID=Europe/Vienna:20250210T181500
DTSTAMP:20260420T005448
CREATED:20240909T121718Z
LAST-MODIFIED:20240909T123344Z
UID:10337-1739207700-1739211300@www.rosinka.at
SUMMARY:СВЕТЛЯЧКИ (4-5)
DESCRIPTION:
URL:https://www.rosinka.at/event/%d1%81%d0%b2%d0%b5%d1%82%d0%bb%d1%8f%d1%87%d0%ba%d0%b8-4-5/2025-02-10/
END:VEVENT
BEGIN:VEVENT
DTSTART;TZID=Europe/Vienna:20250210T171500
DTEND;TZID=Europe/Vienna:20250210T184500
DTSTAMP:20260420T005448
CREATED:20240909T121917Z
LAST-MODIFIED:20240909T123438Z
UID:10278-1739207700-1739213100@www.rosinka.at
SUMMARY:ЖИВОПИСЬ (7-10+)
DESCRIPTION:
URL:https://www.rosinka.at/event/%d0%b6%d0%b8%d0%b2%d0%be%d0%bf%d0%b8%d1%81%d1%8c-7-10-5/2025-02-10/
END:VEVENT
BEGIN:VEVENT
DTSTART;TZID=Europe/Vienna:20250211T150000
DTEND;TZID=Europe/Vienna:20250211T163000
DTSTAMP:20260420T005448
CREATED:20240914T205228Z
LAST-MODIFIED:20241112T153759Z
UID:10500-1739286000-1739291400@www.rosinka.at
SUMMARY:СТАРШЕКЛАССНИКИ (12-13)
DESCRIPTION:
URL:https://www.rosinka.at/event/%d0%b3%d1%80%d1%83%d0%bf%d0%bf%d0%b0-3-4-%d0%ba%d0%bb%d0%b0%d1%81%d1%81/2025-02-11/
END:VEVENT
BEGIN:VEVENT
DTSTART;TZID=Europe/Vienna:20250211T164500
DTEND;TZID=Europe/Vienna:20250211T181500
DTSTAMP:20260420T005448
CREATED:20240909T122100Z
LAST-MODIFIED:20240909T123526Z
UID:10286-1739292300-1739297700@www.rosinka.at
SUMMARY:ЯКОРЕК (10-11)
DESCRIPTION:
URL:https://www.rosinka.at/event/%d1%8f%d0%ba%d0%be%d1%80%d0%b5%d0%ba-10-11/2025-02-11/
END:VEVENT
BEGIN:VEVENT
DTSTART;TZID=Europe/Vienna:20250212T150000
DTEND;TZID=Europe/Vienna:20250212T163000
DTSTAMP:20260420T005448
CREATED:20240909T122331Z
LAST-MODIFIED:20240909T123613Z
UID:10302-1739372400-1739377800@www.rosinka.at
SUMMARY:ЗНАЙЧИКИ (8-9)
DESCRIPTION:
URL:https://www.rosinka.at/event/%d0%b7%d0%bd%d0%b0%d0%b9%d1%87%d0%b8%d0%ba%d0%b8-8-9/2025-02-12/
END:VEVENT
BEGIN:VEVENT
DTSTART;TZID=Europe/Vienna:20250212T163500
DTEND;TZID=Europe/Vienna:20250212T173500
DTSTAMP:20260420T005448
CREATED:20240914T205542Z
LAST-MODIFIED:20240914T205542Z
UID:10822-1739378100-1739381700@www.rosinka.at
SUMMARY:ФАНТАЗЕРЫ (4-5)
DESCRIPTION:
URL:https://www.rosinka.at/event/%d0%b3%d1%80%d1%83%d0%bf%d0%bf%d0%b0-4-5-%d0%bb%d0%b5%d1%82-7/2025-02-12/
END:VEVENT
BEGIN:VEVENT
DTSTART;TZID=Europe/Vienna:20250212T164500
DTEND;TZID=Europe/Vienna:20250212T181500
DTSTAMP:20260420T005448
CREATED:20240909T122217Z
LAST-MODIFIED:20240909T123655Z
UID:10294-1739378700-1739384100@www.rosinka.at
SUMMARY:БУКВОЕЖКИ (9-10)
DESCRIPTION:
URL:https://www.rosinka.at/event/%d0%b1%d1%83%d0%ba%d0%b2%d0%be%d0%b5%d0%b6%d0%ba%d0%b8-9-10/2025-02-12/
END:VEVENT
BEGIN:VEVENT
DTSTART;TZID=Europe/Vienna:20250213T163000
DTEND;TZID=Europe/Vienna:20250213T180000
DTSTAMP:20260420T005448
CREATED:20240909T122505Z
LAST-MODIFIED:20241004T074644Z
UID:10310-1739464200-1739469600@www.rosinka.at
SUMMARY:УМНИКИ (13-15)
DESCRIPTION:
URL:https://www.rosinka.at/event/%d0%bf%d0%be%d0%b4%d1%80%d0%be%d1%81%d1%82%d0%ba%d0%b8-2-0-13-15/2025-02-13/
END:VEVENT
BEGIN:VEVENT
DTSTART;TZID=Europe/Vienna:20250213T164500
DTEND;TZID=Europe/Vienna:20250213T181500
DTSTAMP:20260420T005448
CREATED:20240909T122618Z
LAST-MODIFIED:20240909T123838Z
UID:10318-1739465100-1739470500@www.rosinka.at
SUMMARY:СОЛНЫШКИ (5-6)
DESCRIPTION:
URL:https://www.rosinka.at/event/%d1%81%d0%be%d0%bb%d0%bd%d1%8b%d1%88%d0%ba%d0%b8-5-6/2025-02-13/
END:VEVENT
BEGIN:VEVENT
DTSTART;TZID=Europe/Vienna:20250214T150000
DTEND;TZID=Europe/Vienna:20250214T163000
DTSTAMP:20260420T005448
CREATED:20240914T205405Z
LAST-MODIFIED:20250212T111741Z
UID:10520-1739545200-1739550600@www.rosinka.at
SUMMARY:ФИКСИКИ (6-7)
DESCRIPTION:
URL:https://www.rosinka.at/event/%d0%bf%d1%87%d0%b5%d0%bb%d0%ba%d0%b8-6-7-2025-02-14/
END:VEVENT
BEGIN:VEVENT
DTSTART;TZID=Europe/Vienna:20250214T170000
DTEND;TZID=Europe/Vienna:20250214T180000
DTSTAMP:20260420T005448
CREATED:20240909T122733Z
LAST-MODIFIED:20240909T122733Z
UID:10740-1739552400-1739556000@www.rosinka.at
SUMMARY:МАЛЫШАРИКИ (1\,5-3)
DESCRIPTION:
URL:https://www.rosinka.at/event/%d0%bc%d0%b0%d0%bb%d1%8b%d1%88%d0%b0%d1%80%d0%b8%d0%ba%d0%b8-15-3-3/2025-02-14/
END:VEVENT
BEGIN:VEVENT
DTSTART;VALUE=DATE:20250215
DTEND;VALUE=DATE:20250224
DTSTAMP:20260420T005448
CREATED:20240813T102646Z
LAST-MODIFIED:20240813T102646Z
UID:10242-1739577600-1740355199@www.rosinka.at
SUMMARY:ЗИМНИЕ КАНИКУЛЫ
DESCRIPTION:
URL:https://www.rosinka.at/event/%d0%b7%d0%b8%d0%bc%d0%bd%d0%b8%d0%b5-%d0%ba%d0%b0%d0%bd%d0%b8%d0%ba%d1%83%d0%bb%d1%8b-8/
END:VEVENT
BEGIN:VEVENT
DTSTART;TZID=Europe/Vienna:20250224T171500
DTEND;TZID=Europe/Vienna:20250224T184500
DTSTAMP:20260420T005448
CREATED:20250223T145628Z
LAST-MODIFIED:20250223T145628Z
UID:10869-1740417300-1740422700@www.rosinka.at
SUMMARY:ЖИВОПИСЬ (7-10+)
DESCRIPTION:
URL:https://www.rosinka.at/event/%d0%b6%d0%b8%d0%b2%d0%be%d0%bf%d0%b8%d1%81%d1%8c-7-10-6/2025-02-24/
END:VEVENT
BEGIN:VEVENT
DTSTART;TZID=Europe/Vienna:20250225T150500
DTEND;TZID=Europe/Vienna:20250225T163500
DTSTAMP:20260420T005448
CREATED:20250224T180500Z
LAST-MODIFIED:20250224T180500Z
UID:11101-1740495900-1740501300@www.rosinka.at
SUMMARY:СТАРШЕКЛАССНИКИ (12-13)
DESCRIPTION:
URL:https://www.rosinka.at/event/%d1%81%d1%82%d0%b0%d1%80%d1%88%d0%b5%d0%ba%d0%bb%d0%b0%d1%81%d1%81%d0%bd%d0%b8%d0%ba%d0%b8-12-13/2025-02-25/
END:VEVENT
END:VCALENDAR