BEGIN:VCALENDAR
VERSION:2.0
PRODID:-//Rosinka - ECPv6.15.20//NONSGML v1.0//EN
CALSCALE:GREGORIAN
METHOD:PUBLISH
X-ORIGINAL-URL:https://www.rosinka.at
X-WR-CALDESC:Мероприятия для Rosinka
REFRESH-INTERVAL;VALUE=DURATION:PT1H
X-Robots-Tag:noindex
X-PUBLISHED-TTL:PT1H
BEGIN:VTIMEZONE
TZID:Europe/Vienna
BEGIN:DAYLIGHT
TZOFFSETFROM:+0100
TZOFFSETTO:+0200
TZNAME:CEST
DTSTART:20240331T010000
END:DAYLIGHT
BEGIN:STANDARD
TZOFFSETFROM:+0200
TZOFFSETTO:+0100
TZNAME:CET
DTSTART:20241027T010000
END:STANDARD
BEGIN:DAYLIGHT
TZOFFSETFROM:+0100
TZOFFSETTO:+0200
TZNAME:CEST
DTSTART:20250330T010000
END:DAYLIGHT
BEGIN:STANDARD
TZOFFSETFROM:+0200
TZOFFSETTO:+0100
TZNAME:CET
DTSTART:20251026T010000
END:STANDARD
BEGIN:DAYLIGHT
TZOFFSETFROM:+0100
TZOFFSETTO:+0200
TZNAME:CEST
DTSTART:20260329T010000
END:DAYLIGHT
BEGIN:STANDARD
TZOFFSETFROM:+0200
TZOFFSETTO:+0100
TZNAME:CET
DTSTART:20261025T010000
END:STANDARD
END:VTIMEZONE
BEGIN:VEVENT
DTSTART;TZID=Europe/Vienna:20250129T150000
DTEND;TZID=Europe/Vienna:20250129T163000
DTSTAMP:20260420T094553
CREATED:20240909T122331Z
LAST-MODIFIED:20240909T123613Z
UID:10300-1738162800-1738168200@www.rosinka.at
SUMMARY:ЗНАЙЧИКИ (8-9)
DESCRIPTION:
URL:https://www.rosinka.at/event/%d0%b7%d0%bd%d0%b0%d0%b9%d1%87%d0%b8%d0%ba%d0%b8-8-9/2025-01-29/
END:VEVENT
BEGIN:VEVENT
DTSTART;TZID=Europe/Vienna:20250128T164500
DTEND;TZID=Europe/Vienna:20250128T181500
DTSTAMP:20260420T094553
CREATED:20240909T122100Z
LAST-MODIFIED:20240909T123526Z
UID:10284-1738082700-1738088100@www.rosinka.at
SUMMARY:ЯКОРЕК (10-11)
DESCRIPTION:
URL:https://www.rosinka.at/event/%d1%8f%d0%ba%d0%be%d1%80%d0%b5%d0%ba-10-11/2025-01-28/
END:VEVENT
BEGIN:VEVENT
DTSTART;TZID=Europe/Vienna:20250128T150000
DTEND;TZID=Europe/Vienna:20250128T163000
DTSTAMP:20260420T094553
CREATED:20240914T205228Z
LAST-MODIFIED:20241112T153759Z
UID:10498-1738076400-1738081800@www.rosinka.at
SUMMARY:СТАРШЕКЛАССНИКИ (12-13)
DESCRIPTION:
URL:https://www.rosinka.at/event/%d0%b3%d1%80%d1%83%d0%bf%d0%bf%d0%b0-3-4-%d0%ba%d0%bb%d0%b0%d1%81%d1%81/2025-01-28/
END:VEVENT
BEGIN:VEVENT
DTSTART;TZID=Europe/Vienna:20250127T171500
DTEND;TZID=Europe/Vienna:20250127T184500
DTSTAMP:20260420T094553
CREATED:20240909T121917Z
LAST-MODIFIED:20240909T123438Z
UID:10276-1737998100-1738003500@www.rosinka.at
SUMMARY:ЖИВОПИСЬ (7-10+)
DESCRIPTION:
URL:https://www.rosinka.at/event/%d0%b6%d0%b8%d0%b2%d0%be%d0%bf%d0%b8%d1%81%d1%8c-7-10-5/2025-01-27/
END:VEVENT
BEGIN:VEVENT
DTSTART;TZID=Europe/Vienna:20250127T171500
DTEND;TZID=Europe/Vienna:20250127T181500
DTSTAMP:20260420T094553
CREATED:20240909T121718Z
LAST-MODIFIED:20240909T123344Z
UID:10335-1737998100-1738001700@www.rosinka.at
SUMMARY:СВЕТЛЯЧКИ (4-5)
DESCRIPTION:
URL:https://www.rosinka.at/event/%d1%81%d0%b2%d0%b5%d1%82%d0%bb%d1%8f%d1%87%d0%ba%d0%b8-4-5/2025-01-27/
END:VEVENT
BEGIN:VEVENT
DTSTART;TZID=Europe/Vienna:20250125T110000
DTEND;TZID=Europe/Vienna:20250125T120000
DTSTAMP:20260420T094553
CREATED:20240925T091230Z
LAST-MODIFIED:20241009T190519Z
UID:10686-1737802800-1737806400@www.rosinka.at
SUMMARY:РОБОТОТЕХНИКА
DESCRIPTION:
URL:https://www.rosinka.at/event/%d1%80%d0%be%d0%b1%d0%be%d1%82%d0%be%d1%82%d0%b5%d1%85%d0%bd%d0%b8%d0%ba%d0%b0-13/2025-01-25/
END:VEVENT
BEGIN:VEVENT
DTSTART;TZID=Europe/Vienna:20250124T170000
DTEND;TZID=Europe/Vienna:20250124T180000
DTSTAMP:20260420T094553
CREATED:20240909T122733Z
LAST-MODIFIED:20240909T122733Z
UID:10737-1737738000-1737741600@www.rosinka.at
SUMMARY:МАЛЫШАРИКИ (1\,5-3)
DESCRIPTION:
URL:https://www.rosinka.at/event/%d0%bc%d0%b0%d0%bb%d1%8b%d1%88%d0%b0%d1%80%d0%b8%d0%ba%d0%b8-15-3-3/2025-01-24/
END:VEVENT
BEGIN:VEVENT
DTSTART;TZID=Europe/Vienna:20250124T160000
DTEND;TZID=Europe/Vienna:20250124T173000
DTSTAMP:20260420T094553
CREATED:20240916T195330Z
LAST-MODIFIED:20240916T195330Z
UID:10562-1737734400-1737739800@www.rosinka.at
SUMMARY:ЛУЧИКИ (5-6)
DESCRIPTION:
URL:https://www.rosinka.at/event/%d0%bb%d1%83%d1%87%d0%b8%d0%ba%d0%b8-5-6/2025-01-24/
END:VEVENT
BEGIN:VEVENT
DTSTART;TZID=Europe/Vienna:20250124T144500
DTEND;TZID=Europe/Vienna:20250124T161500
DTSTAMP:20260420T094553
CREATED:20240914T205405Z
LAST-MODIFIED:20241019T141802Z
UID:10517-1737729900-1737735300@www.rosinka.at
SUMMARY:ФИКСИКИ (6-7)
DESCRIPTION:
URL:https://www.rosinka.at/event/%d0%bf%d1%87%d0%b5%d0%bb%d0%ba%d0%b8-6-7/2025-01-24/
END:VEVENT
BEGIN:VEVENT
DTSTART;TZID=Europe/Vienna:20250123T164500
DTEND;TZID=Europe/Vienna:20250123T181500
DTSTAMP:20260420T094553
CREATED:20240909T122618Z
LAST-MODIFIED:20240909T123837Z
UID:10315-1737650700-1737656100@www.rosinka.at
SUMMARY:СОЛНЫШКИ (5-6)
DESCRIPTION:
URL:https://www.rosinka.at/event/%d1%81%d0%be%d0%bb%d0%bd%d1%8b%d1%88%d0%ba%d0%b8-5-6/2025-01-23/
END:VEVENT
BEGIN:VEVENT
DTSTART;TZID=Europe/Vienna:20250123T163000
DTEND;TZID=Europe/Vienna:20250123T180000
DTSTAMP:20260420T094553
CREATED:20240909T122505Z
LAST-MODIFIED:20241004T074644Z
UID:10307-1737649800-1737655200@www.rosinka.at
SUMMARY:УМНИКИ (13-15)
DESCRIPTION:
URL:https://www.rosinka.at/event/%d0%bf%d0%be%d0%b4%d1%80%d0%be%d1%81%d1%82%d0%ba%d0%b8-2-0-13-15/2025-01-23/
END:VEVENT
BEGIN:VEVENT
DTSTART;TZID=Europe/Vienna:20250122T164500
DTEND;TZID=Europe/Vienna:20250122T181500
DTSTAMP:20260420T094553
CREATED:20240909T122217Z
LAST-MODIFIED:20240909T123655Z
UID:10291-1737564300-1737569700@www.rosinka.at
SUMMARY:БУКВОЕЖКИ (9-10)
DESCRIPTION:
URL:https://www.rosinka.at/event/%d0%b1%d1%83%d0%ba%d0%b2%d0%be%d0%b5%d0%b6%d0%ba%d0%b8-9-10/2025-01-22/
END:VEVENT
BEGIN:VEVENT
DTSTART;TZID=Europe/Vienna:20250122T163500
DTEND;TZID=Europe/Vienna:20250122T173500
DTSTAMP:20260420T094553
CREATED:20240914T205542Z
LAST-MODIFIED:20240914T205542Z
UID:10819-1737563700-1737567300@www.rosinka.at
SUMMARY:ФАНТАЗЕРЫ (4-5)
DESCRIPTION:
URL:https://www.rosinka.at/event/%d0%b3%d1%80%d1%83%d0%bf%d0%bf%d0%b0-4-5-%d0%bb%d0%b5%d1%82-7/2025-01-22/
END:VEVENT
BEGIN:VEVENT
DTSTART;TZID=Europe/Vienna:20250122T150000
DTEND;TZID=Europe/Vienna:20250122T163000
DTSTAMP:20260420T094553
CREATED:20240909T122331Z
LAST-MODIFIED:20240909T123613Z
UID:10299-1737558000-1737563400@www.rosinka.at
SUMMARY:ЗНАЙЧИКИ (8-9)
DESCRIPTION:
URL:https://www.rosinka.at/event/%d0%b7%d0%bd%d0%b0%d0%b9%d1%87%d0%b8%d0%ba%d0%b8-8-9/2025-01-22/
END:VEVENT
BEGIN:VEVENT
DTSTART;TZID=Europe/Vienna:20250121T150000
DTEND;TZID=Europe/Vienna:20250121T163000
DTSTAMP:20260420T094553
CREATED:20240914T205228Z
LAST-MODIFIED:20241112T153758Z
UID:10497-1737471600-1737477000@www.rosinka.at
SUMMARY:СТАРШЕКЛАССНИКИ (12-13)
DESCRIPTION:
URL:https://www.rosinka.at/event/%d0%b3%d1%80%d1%83%d0%bf%d0%bf%d0%b0-3-4-%d0%ba%d0%bb%d0%b0%d1%81%d1%81/2025-01-21/
END:VEVENT
BEGIN:VEVENT
DTSTART;TZID=Europe/Vienna:20250120T171500
DTEND;TZID=Europe/Vienna:20250120T184500
DTSTAMP:20260420T094553
CREATED:20240909T121917Z
LAST-MODIFIED:20240909T123438Z
UID:10275-1737393300-1737398700@www.rosinka.at
SUMMARY:ЖИВОПИСЬ (7-10+)
DESCRIPTION:
URL:https://www.rosinka.at/event/%d0%b6%d0%b8%d0%b2%d0%be%d0%bf%d0%b8%d1%81%d1%8c-7-10-5/2025-01-20/
END:VEVENT
BEGIN:VEVENT
DTSTART;TZID=Europe/Vienna:20250120T171500
DTEND;TZID=Europe/Vienna:20250120T181500
DTSTAMP:20260420T094553
CREATED:20240909T121718Z
LAST-MODIFIED:20240909T123344Z
UID:10334-1737393300-1737396900@www.rosinka.at
SUMMARY:СВЕТЛЯЧКИ (4-5)
DESCRIPTION:
URL:https://www.rosinka.at/event/%d1%81%d0%b2%d0%b5%d1%82%d0%bb%d1%8f%d1%87%d0%ba%d0%b8-4-5/2025-01-20/
END:VEVENT
BEGIN:VEVENT
DTSTART;TZID=Europe/Vienna:20250118T150000
DTEND;TZID=Europe/Vienna:20250118T163000
DTSTAMP:20260420T094553
CREATED:20250119T125210Z
LAST-MODIFIED:20250119T125210Z
UID:10837-1737212400-1737217800@www.rosinka.at
SUMMARY:УМНИКИ (13-15)
DESCRIPTION:
URL:https://www.rosinka.at/event/%d1%83%d0%bc%d0%bd%d0%b8%d0%ba%d0%b8-13-15/
END:VEVENT
BEGIN:VEVENT
DTSTART;TZID=Europe/Vienna:20250117T170000
DTEND;TZID=Europe/Vienna:20250117T180000
DTSTAMP:20260420T094553
CREATED:20240909T122733Z
LAST-MODIFIED:20240909T122733Z
UID:10736-1737133200-1737136800@www.rosinka.at
SUMMARY:МАЛЫШАРИКИ (1\,5-3)
DESCRIPTION:
URL:https://www.rosinka.at/event/%d0%bc%d0%b0%d0%bb%d1%8b%d1%88%d0%b0%d1%80%d0%b8%d0%ba%d0%b8-15-3-3/2025-01-17/
END:VEVENT
BEGIN:VEVENT
DTSTART;TZID=Europe/Vienna:20250117T160000
DTEND;TZID=Europe/Vienna:20250117T173000
DTSTAMP:20260420T094553
CREATED:20240916T195330Z
LAST-MODIFIED:20240916T195330Z
UID:10561-1737129600-1737135000@www.rosinka.at
SUMMARY:ЛУЧИКИ (5-6)
DESCRIPTION:
URL:https://www.rosinka.at/event/%d0%bb%d1%83%d1%87%d0%b8%d0%ba%d0%b8-5-6/2025-01-17/
END:VEVENT
BEGIN:VEVENT
DTSTART;TZID=Europe/Vienna:20250117T144500
DTEND;TZID=Europe/Vienna:20250117T161500
DTSTAMP:20260420T094553
CREATED:20240914T205405Z
LAST-MODIFIED:20241019T141802Z
UID:10516-1737125100-1737130500@www.rosinka.at
SUMMARY:ФИКСИКИ (6-7)
DESCRIPTION:
URL:https://www.rosinka.at/event/%d0%bf%d1%87%d0%b5%d0%bb%d0%ba%d0%b8-6-7/2025-01-17/
END:VEVENT
BEGIN:VEVENT
DTSTART;TZID=Europe/Vienna:20250116T164500
DTEND;TZID=Europe/Vienna:20250116T181500
DTSTAMP:20260420T094553
CREATED:20240909T122618Z
LAST-MODIFIED:20240909T123837Z
UID:10314-1737045900-1737051300@www.rosinka.at
SUMMARY:СОЛНЫШКИ (5-6)
DESCRIPTION:
URL:https://www.rosinka.at/event/%d1%81%d0%be%d0%bb%d0%bd%d1%8b%d1%88%d0%ba%d0%b8-5-6/2025-01-16/
END:VEVENT
BEGIN:VEVENT
DTSTART;TZID=Europe/Vienna:20250116T163000
DTEND;TZID=Europe/Vienna:20250116T180000
DTSTAMP:20260420T094553
CREATED:20240909T122505Z
LAST-MODIFIED:20241004T074644Z
UID:10306-1737045000-1737050400@www.rosinka.at
SUMMARY:УМНИКИ (13-15)
DESCRIPTION:
URL:https://www.rosinka.at/event/%d0%bf%d0%be%d0%b4%d1%80%d0%be%d1%81%d1%82%d0%ba%d0%b8-2-0-13-15/2025-01-16/
END:VEVENT
BEGIN:VEVENT
DTSTART;TZID=Europe/Vienna:20250115T164500
DTEND;TZID=Europe/Vienna:20250115T181500
DTSTAMP:20260420T094553
CREATED:20240909T122217Z
LAST-MODIFIED:20240909T123654Z
UID:10290-1736959500-1736964900@www.rosinka.at
SUMMARY:БУКВОЕЖКИ (9-10)
DESCRIPTION:
URL:https://www.rosinka.at/event/%d0%b1%d1%83%d0%ba%d0%b2%d0%be%d0%b5%d0%b6%d0%ba%d0%b8-9-10/2025-01-15/
END:VEVENT
BEGIN:VEVENT
DTSTART;TZID=Europe/Vienna:20250115T163500
DTEND;TZID=Europe/Vienna:20250115T173500
DTSTAMP:20260420T094553
CREATED:20240914T205542Z
LAST-MODIFIED:20240914T205542Z
UID:10818-1736958900-1736962500@www.rosinka.at
SUMMARY:ФАНТАЗЕРЫ (4-5)
DESCRIPTION:
URL:https://www.rosinka.at/event/%d0%b3%d1%80%d1%83%d0%bf%d0%bf%d0%b0-4-5-%d0%bb%d0%b5%d1%82-7/2025-01-15/
END:VEVENT
BEGIN:VEVENT
DTSTART;TZID=Europe/Vienna:20250115T150000
DTEND;TZID=Europe/Vienna:20250115T163000
DTSTAMP:20260420T094553
CREATED:20240909T122331Z
LAST-MODIFIED:20240909T123612Z
UID:10298-1736953200-1736958600@www.rosinka.at
SUMMARY:ЗНАЙЧИКИ (8-9)
DESCRIPTION:
URL:https://www.rosinka.at/event/%d0%b7%d0%bd%d0%b0%d0%b9%d1%87%d0%b8%d0%ba%d0%b8-8-9/2025-01-15/
END:VEVENT
BEGIN:VEVENT
DTSTART;TZID=Europe/Vienna:20250114T164500
DTEND;TZID=Europe/Vienna:20250114T181500
DTSTAMP:20260420T094553
CREATED:20240909T122100Z
LAST-MODIFIED:20240909T123525Z
UID:10282-1736873100-1736878500@www.rosinka.at
SUMMARY:ЯКОРЕК (10-11)
DESCRIPTION:
URL:https://www.rosinka.at/event/%d1%8f%d0%ba%d0%be%d1%80%d0%b5%d0%ba-10-11/2025-01-14/
END:VEVENT
BEGIN:VEVENT
DTSTART;TZID=Europe/Vienna:20250114T150000
DTEND;TZID=Europe/Vienna:20250114T163000
DTSTAMP:20260420T094553
CREATED:20240914T205228Z
LAST-MODIFIED:20241112T153758Z
UID:10496-1736866800-1736872200@www.rosinka.at
SUMMARY:СТАРШЕКЛАССНИКИ (12-13)
DESCRIPTION:
URL:https://www.rosinka.at/event/%d0%b3%d1%80%d1%83%d0%bf%d0%bf%d0%b0-3-4-%d0%ba%d0%bb%d0%b0%d1%81%d1%81/2025-01-14/
END:VEVENT
BEGIN:VEVENT
DTSTART;TZID=Europe/Vienna:20250113T171500
DTEND;TZID=Europe/Vienna:20250113T184500
DTSTAMP:20260420T094553
CREATED:20240909T121917Z
LAST-MODIFIED:20240909T123438Z
UID:10274-1736788500-1736793900@www.rosinka.at
SUMMARY:ЖИВОПИСЬ (7-10+)
DESCRIPTION:
URL:https://www.rosinka.at/event/%d0%b6%d0%b8%d0%b2%d0%be%d0%bf%d0%b8%d1%81%d1%8c-7-10-5/2025-01-13/
END:VEVENT
BEGIN:VEVENT
DTSTART;TZID=Europe/Vienna:20250113T171500
DTEND;TZID=Europe/Vienna:20250113T181500
DTSTAMP:20260420T094553
CREATED:20240909T121718Z
LAST-MODIFIED:20240909T123344Z
UID:10333-1736788500-1736792100@www.rosinka.at
SUMMARY:СВЕТЛЯЧКИ (4-5)
DESCRIPTION:
URL:https://www.rosinka.at/event/%d1%81%d0%b2%d0%b5%d1%82%d0%bb%d1%8f%d1%87%d0%ba%d0%b8-4-5/2025-01-13/
END:VEVENT
END:VCALENDAR