BEGIN:VCALENDAR
VERSION:2.0
PRODID:-//Rosinka - ECPv6.15.20//NONSGML v1.0//EN
CALSCALE:GREGORIAN
METHOD:PUBLISH
X-ORIGINAL-URL:https://www.rosinka.at
X-WR-CALDESC:Мероприятия для Rosinka
REFRESH-INTERVAL;VALUE=DURATION:PT1H
X-Robots-Tag:noindex
X-PUBLISHED-TTL:PT1H
BEGIN:VTIMEZONE
TZID:Europe/Vienna
BEGIN:DAYLIGHT
TZOFFSETFROM:+0100
TZOFFSETTO:+0200
TZNAME:CEST
DTSTART:20240331T010000
END:DAYLIGHT
BEGIN:STANDARD
TZOFFSETFROM:+0200
TZOFFSETTO:+0100
TZNAME:CET
DTSTART:20241027T010000
END:STANDARD
BEGIN:DAYLIGHT
TZOFFSETFROM:+0100
TZOFFSETTO:+0200
TZNAME:CEST
DTSTART:20250330T010000
END:DAYLIGHT
BEGIN:STANDARD
TZOFFSETFROM:+0200
TZOFFSETTO:+0100
TZNAME:CET
DTSTART:20251026T010000
END:STANDARD
BEGIN:DAYLIGHT
TZOFFSETFROM:+0100
TZOFFSETTO:+0200
TZNAME:CEST
DTSTART:20260329T010000
END:DAYLIGHT
BEGIN:STANDARD
TZOFFSETFROM:+0200
TZOFFSETTO:+0100
TZNAME:CET
DTSTART:20261025T010000
END:STANDARD
END:VTIMEZONE
BEGIN:VEVENT
DTSTART;TZID=Europe/Vienna:20250313T164500
DTEND;TZID=Europe/Vienna:20250313T181500
DTSTAMP:20260419T213124
CREATED:20250223T151001Z
LAST-MODIFIED:20250223T151001Z
UID:11018-1741884300-1741889700@www.rosinka.at
SUMMARY:СОЛНЫШКИ (5-6)
DESCRIPTION:
URL:https://www.rosinka.at/event/%d1%81%d0%be%d0%bb%d0%bd%d1%8b%d1%88%d0%ba%d0%b8-5-6-2/2025-03-13/
END:VEVENT
BEGIN:VEVENT
DTSTART;TZID=Europe/Vienna:20250314T153000
DTEND;TZID=Europe/Vienna:20250314T170000
DTSTAMP:20260419T213124
CREATED:20250223T151508Z
LAST-MODIFIED:20250313T183239Z
UID:11048-1741966200-1741971600@www.rosinka.at
SUMMARY:ЛУЧИКИ (5-6)
DESCRIPTION:
URL:https://www.rosinka.at/event/%d0%bb%d1%83%d1%87%d0%b8%d0%ba%d0%b8-5-6-2-2025-03-14/
END:VEVENT
BEGIN:VEVENT
DTSTART;TZID=Europe/Vienna:20250314T170000
DTEND;TZID=Europe/Vienna:20250314T180000
DTSTAMP:20260419T213124
CREATED:20250303T072546Z
LAST-MODIFIED:20250303T072546Z
UID:11121-1741971600-1741975200@www.rosinka.at
SUMMARY:МАЛЫШАРИКИ (3-4)
DESCRIPTION:
URL:https://www.rosinka.at/event/%d0%bc%d0%b0%d0%bb%d1%8b%d1%88%d0%b0%d1%80%d0%b8%d0%ba%d0%b8-3-4/2025-03-14/
END:VEVENT
BEGIN:VEVENT
DTSTART;TZID=Europe/Vienna:20250315T110000
DTEND;TZID=Europe/Vienna:20250315T120000
DTSTAMP:20260419T213124
CREATED:20250223T151734Z
LAST-MODIFIED:20250223T155246Z
UID:11063-1742036400-1742040000@www.rosinka.at
SUMMARY:РОБОТОТЕХНИКА
DESCRIPTION:
URL:https://www.rosinka.at/event/%d1%80%d0%be%d0%b1%d0%be%d1%82%d0%be%d1%82%d0%b5%d1%85%d0%bd%d0%b8%d0%ba%d0%b0-14/2025-03-15/
END:VEVENT
BEGIN:VEVENT
DTSTART;TZID=Europe/Vienna:20250317T171500
DTEND;TZID=Europe/Vienna:20250317T181500
DTSTAMP:20260419T213124
CREATED:20250223T145507Z
LAST-MODIFIED:20250224T180040Z
UID:10856-1742231700-1742235300@www.rosinka.at
SUMMARY:СВЕТЛЯЧКИ (4-5)
DESCRIPTION:
URL:https://www.rosinka.at/event/%d1%81%d0%b2%d0%b5%d1%82%d0%bb%d1%8f%d1%87%d0%ba%d0%b8-4-5-2-2025-03-03/2025-03-17/
END:VEVENT
BEGIN:VEVENT
DTSTART;TZID=Europe/Vienna:20250317T171500
DTEND;TZID=Europe/Vienna:20250317T184500
DTSTAMP:20260419T213124
CREATED:20250223T145628Z
LAST-MODIFIED:20250223T145628Z
UID:10872-1742231700-1742237100@www.rosinka.at
SUMMARY:ЖИВОПИСЬ (7-10+)
DESCRIPTION:
URL:https://www.rosinka.at/event/%d0%b6%d0%b8%d0%b2%d0%be%d0%bf%d0%b8%d1%81%d1%8c-7-10-6/2025-03-17/
END:VEVENT
BEGIN:VEVENT
DTSTART;TZID=Europe/Vienna:20250318T150500
DTEND;TZID=Europe/Vienna:20250318T163500
DTSTAMP:20260419T213124
CREATED:20250224T180500Z
LAST-MODIFIED:20250224T180500Z
UID:11104-1742310300-1742315700@www.rosinka.at
SUMMARY:СТАРШЕКЛАССНИКИ (12-13)
DESCRIPTION:
URL:https://www.rosinka.at/event/%d1%81%d1%82%d0%b0%d1%80%d1%88%d0%b5%d0%ba%d0%bb%d0%b0%d1%81%d1%81%d0%bd%d0%b8%d0%ba%d0%b8-12-13/2025-03-18/
END:VEVENT
BEGIN:VEVENT
DTSTART;TZID=Europe/Vienna:20250318T161500
DTEND;TZID=Europe/Vienna:20250318T171500
DTSTAMP:20260419T213124
CREATED:20250303T072859Z
LAST-MODIFIED:20250312T121736Z
UID:11137-1742314500-1742318100@www.rosinka.at
SUMMARY:ПЧЁЛКИ (1\,5-3)
DESCRIPTION:
URL:https://www.rosinka.at/event/%d0%bc%d0%b0%d0%bb%d1%8b%d1%88%d0%b8-15-3-4/2025-03-18/
END:VEVENT
BEGIN:VEVENT
DTSTART;TZID=Europe/Vienna:20250318T164500
DTEND;TZID=Europe/Vienna:20250318T181500
DTSTAMP:20260419T213124
CREATED:20250223T145828Z
LAST-MODIFIED:20250223T145828Z
UID:10888-1742316300-1742321700@www.rosinka.at
SUMMARY:ЯКОРЕК (10-11)
DESCRIPTION:
URL:https://www.rosinka.at/event/%d1%8f%d0%ba%d0%be%d1%80%d0%b5%d0%ba-10-11-2/2025-03-18/
END:VEVENT
BEGIN:VEVENT
DTSTART;TZID=Europe/Vienna:20250318T173000
DTEND;TZID=Europe/Vienna:20250318T183000
DTSTAMP:20260419T213124
CREATED:20250310T083557Z
LAST-MODIFIED:20250310T083557Z
UID:11175-1742319000-1742322600@www.rosinka.at
SUMMARY:ЖИВОПИСЬ (4-6)
DESCRIPTION:
URL:https://www.rosinka.at/event/%d0%b6%d0%b8%d0%b2%d0%be%d0%bf%d0%b8%d1%81%d1%8c-4-6-33/2025-03-18/
END:VEVENT
BEGIN:VEVENT
DTSTART;VALUE=DATE:20250319
DTEND;VALUE=DATE:20250320
DTSTAMP:20260419T213124
CREATED:20240813T102905Z
LAST-MODIFIED:20240813T102905Z
UID:10247-1742342400-1742428799@www.rosinka.at
SUMMARY:НЕУЧЕБНЫЙ ДЕНЬ
DESCRIPTION:
URL:https://www.rosinka.at/event/%d0%bd%d0%b5%d1%83%d1%87%d0%b5%d0%b1%d0%bd%d1%8b%d0%b9-%d0%b4%d0%b5%d0%bd%d1%8c-43/
END:VEVENT
BEGIN:VEVENT
DTSTART;TZID=Europe/Vienna:20250320T163000
DTEND;TZID=Europe/Vienna:20250320T180000
DTSTAMP:20260419T213124
CREATED:20250223T150529Z
LAST-MODIFIED:20250223T150529Z
UID:10959-1742488200-1742493600@www.rosinka.at
SUMMARY:УМНИКИ (13-15)
DESCRIPTION:
URL:https://www.rosinka.at/event/%d1%83%d0%bc%d0%bd%d0%b8%d0%ba%d0%b8-13-15-3/2025-03-20/
END:VEVENT
BEGIN:VEVENT
DTSTART;TZID=Europe/Vienna:20250320T164500
DTEND;TZID=Europe/Vienna:20250320T181500
DTSTAMP:20260419T213124
CREATED:20250223T151001Z
LAST-MODIFIED:20250223T151001Z
UID:11019-1742489100-1742494500@www.rosinka.at
SUMMARY:СОЛНЫШКИ (5-6)
DESCRIPTION:
URL:https://www.rosinka.at/event/%d1%81%d0%be%d0%bb%d0%bd%d1%8b%d1%88%d0%ba%d0%b8-5-6-2/2025-03-20/
END:VEVENT
BEGIN:VEVENT
DTSTART;TZID=Europe/Vienna:20250321T150000
DTEND;TZID=Europe/Vienna:20250321T163000
DTSTAMP:20260419T213124
CREATED:20250223T151312Z
LAST-MODIFIED:20250223T151312Z
UID:11034-1742569200-1742574600@www.rosinka.at
SUMMARY:ФИКСИКИ (6-8)
DESCRIPTION:
URL:https://www.rosinka.at/event/%d1%84%d0%b8%d0%ba%d1%81%d0%b8%d0%ba%d0%b8-6-8/2025-03-21/
END:VEVENT
BEGIN:VEVENT
DTSTART;TZID=Europe/Vienna:20250321T160000
DTEND;TZID=Europe/Vienna:20250321T173000
DTSTAMP:20260419T213124
CREATED:20250223T151508Z
LAST-MODIFIED:20250223T151508Z
UID:11049-1742572800-1742578200@www.rosinka.at
SUMMARY:ЛУЧИКИ (5-6)
DESCRIPTION:
URL:https://www.rosinka.at/event/%d0%bb%d1%83%d1%87%d0%b8%d0%ba%d0%b8-5-6-2/2025-03-21/
END:VEVENT
BEGIN:VEVENT
DTSTART;TZID=Europe/Vienna:20250321T170000
DTEND;TZID=Europe/Vienna:20250321T180000
DTSTAMP:20260419T213124
CREATED:20250303T072546Z
LAST-MODIFIED:20250303T072546Z
UID:11122-1742576400-1742580000@www.rosinka.at
SUMMARY:МАЛЫШАРИКИ (3-4)
DESCRIPTION:
URL:https://www.rosinka.at/event/%d0%bc%d0%b0%d0%bb%d1%8b%d1%88%d0%b0%d1%80%d0%b8%d0%ba%d0%b8-3-4/2025-03-21/
END:VEVENT
BEGIN:VEVENT
DTSTART;TZID=Europe/Vienna:20250322T110000
DTEND;TZID=Europe/Vienna:20250322T120000
DTSTAMP:20260419T213124
CREATED:20250223T151734Z
LAST-MODIFIED:20250223T155247Z
UID:11064-1742641200-1742644800@www.rosinka.at
SUMMARY:РОБОТОТЕХНИКА
DESCRIPTION:
URL:https://www.rosinka.at/event/%d1%80%d0%be%d0%b1%d0%be%d1%82%d0%be%d1%82%d0%b5%d1%85%d0%bd%d0%b8%d0%ba%d0%b0-14/2025-03-22/
END:VEVENT
BEGIN:VEVENT
DTSTART;TZID=Europe/Vienna:20250324T171500
DTEND;TZID=Europe/Vienna:20250324T181500
DTSTAMP:20260419T213124
CREATED:20250223T145507Z
LAST-MODIFIED:20250224T180040Z
UID:10857-1742836500-1742840100@www.rosinka.at
SUMMARY:СВЕТЛЯЧКИ (4-5)
DESCRIPTION:
URL:https://www.rosinka.at/event/%d1%81%d0%b2%d0%b5%d1%82%d0%bb%d1%8f%d1%87%d0%ba%d0%b8-4-5-2-2025-03-03/2025-03-24/
END:VEVENT
BEGIN:VEVENT
DTSTART;TZID=Europe/Vienna:20250324T171500
DTEND;TZID=Europe/Vienna:20250324T184500
DTSTAMP:20260419T213124
CREATED:20250223T145628Z
LAST-MODIFIED:20250223T145628Z
UID:10873-1742836500-1742841900@www.rosinka.at
SUMMARY:ЖИВОПИСЬ (7-10+)
DESCRIPTION:
URL:https://www.rosinka.at/event/%d0%b6%d0%b8%d0%b2%d0%be%d0%bf%d0%b8%d1%81%d1%8c-7-10-6/2025-03-24/
END:VEVENT
BEGIN:VEVENT
DTSTART;TZID=Europe/Vienna:20250325T150500
DTEND;TZID=Europe/Vienna:20250325T163500
DTSTAMP:20260419T213124
CREATED:20250224T180500Z
LAST-MODIFIED:20250224T180500Z
UID:11105-1742915100-1742920500@www.rosinka.at
SUMMARY:СТАРШЕКЛАССНИКИ (12-13)
DESCRIPTION:
URL:https://www.rosinka.at/event/%d1%81%d1%82%d0%b0%d1%80%d1%88%d0%b5%d0%ba%d0%bb%d0%b0%d1%81%d1%81%d0%bd%d0%b8%d0%ba%d0%b8-12-13/2025-03-25/
END:VEVENT
BEGIN:VEVENT
DTSTART;TZID=Europe/Vienna:20250325T161500
DTEND;TZID=Europe/Vienna:20250325T171500
DTSTAMP:20260419T213124
CREATED:20250303T072859Z
LAST-MODIFIED:20250312T121737Z
UID:11138-1742919300-1742922900@www.rosinka.at
SUMMARY:ПЧЁЛКИ (1\,5-3)
DESCRIPTION:
URL:https://www.rosinka.at/event/%d0%bc%d0%b0%d0%bb%d1%8b%d1%88%d0%b8-15-3-4/2025-03-25/
END:VEVENT
BEGIN:VEVENT
DTSTART;TZID=Europe/Vienna:20250325T164500
DTEND;TZID=Europe/Vienna:20250325T181500
DTSTAMP:20260419T213124
CREATED:20250223T145828Z
LAST-MODIFIED:20250223T145828Z
UID:10889-1742921100-1742926500@www.rosinka.at
SUMMARY:ЯКОРЕК (10-11)
DESCRIPTION:
URL:https://www.rosinka.at/event/%d1%8f%d0%ba%d0%be%d1%80%d0%b5%d0%ba-10-11-2/2025-03-25/
END:VEVENT
BEGIN:VEVENT
DTSTART;TZID=Europe/Vienna:20250325T173000
DTEND;TZID=Europe/Vienna:20250325T183000
DTSTAMP:20260419T213124
CREATED:20250310T083557Z
LAST-MODIFIED:20250310T083557Z
UID:11176-1742923800-1742927400@www.rosinka.at
SUMMARY:ЖИВОПИСЬ (4-6)
DESCRIPTION:
URL:https://www.rosinka.at/event/%d0%b6%d0%b8%d0%b2%d0%be%d0%bf%d0%b8%d1%81%d1%8c-4-6-33/2025-03-25/
END:VEVENT
BEGIN:VEVENT
DTSTART;TZID=Europe/Vienna:20250326T150000
DTEND;TZID=Europe/Vienna:20250326T163000
DTSTAMP:20260419T213124
CREATED:20250223T145956Z
LAST-MODIFIED:20250223T150606Z
UID:10907-1743001200-1743006600@www.rosinka.at
SUMMARY:ЗНАЙЧИКИ (8-9)
DESCRIPTION:
URL:https://www.rosinka.at/event/%d0%b7%d0%bd%d0%b0%d0%b9%d1%87%d0%b8%d0%ba%d0%b8-8-9-2/2025-03-26/
END:VEVENT
BEGIN:VEVENT
DTSTART;TZID=Europe/Vienna:20250326T163500
DTEND;TZID=Europe/Vienna:20250326T173500
DTSTAMP:20260419T213124
CREATED:20250223T150208Z
LAST-MODIFIED:20250224T180109Z
UID:10943-1743006900-1743010500@www.rosinka.at
SUMMARY:ФАНТАЗЕРЫ (4-5)
DESCRIPTION:
URL:https://www.rosinka.at/event/%d1%84%d0%b0%d0%bd%d1%82%d0%b0%d0%b7%d0%b5%d1%80%d1%8b-4-5-2025-03-05/2025-03-26/
END:VEVENT
BEGIN:VEVENT
DTSTART;TZID=Europe/Vienna:20250326T164500
DTEND;TZID=Europe/Vienna:20250326T181500
DTSTAMP:20260419T213124
CREATED:20250223T150052Z
LAST-MODIFIED:20250223T150727Z
UID:10925-1743007500-1743012900@www.rosinka.at
SUMMARY:БУКВОЕЖКИ (9-10)
DESCRIPTION:
URL:https://www.rosinka.at/event/%d0%b1%d1%83%d0%ba%d0%b2%d0%be%d0%b5%d0%b6%d0%ba%d0%b8-9-10-2/2025-03-26/
END:VEVENT
BEGIN:VEVENT
DTSTART;TZID=Europe/Vienna:20250327T163000
DTEND;TZID=Europe/Vienna:20250327T180000
DTSTAMP:20260419T213124
CREATED:20250223T150529Z
LAST-MODIFIED:20250223T150529Z
UID:10960-1743093000-1743098400@www.rosinka.at
SUMMARY:УМНИКИ (13-15)
DESCRIPTION:
URL:https://www.rosinka.at/event/%d1%83%d0%bc%d0%bd%d0%b8%d0%ba%d0%b8-13-15-3/2025-03-27/
END:VEVENT
BEGIN:VEVENT
DTSTART;TZID=Europe/Vienna:20250327T164500
DTEND;TZID=Europe/Vienna:20250327T181500
DTSTAMP:20260419T213124
CREATED:20250223T151001Z
LAST-MODIFIED:20250223T151001Z
UID:11020-1743093900-1743099300@www.rosinka.at
SUMMARY:СОЛНЫШКИ (5-6)
DESCRIPTION:
URL:https://www.rosinka.at/event/%d1%81%d0%be%d0%bb%d0%bd%d1%8b%d1%88%d0%ba%d0%b8-5-6-2/2025-03-27/
END:VEVENT
BEGIN:VEVENT
DTSTART;TZID=Europe/Vienna:20250328T150000
DTEND;TZID=Europe/Vienna:20250328T163000
DTSTAMP:20260419T213124
CREATED:20250223T151312Z
LAST-MODIFIED:20250223T151312Z
UID:11035-1743174000-1743179400@www.rosinka.at
SUMMARY:ФИКСИКИ (6-8)
DESCRIPTION:
URL:https://www.rosinka.at/event/%d1%84%d0%b8%d0%ba%d1%81%d0%b8%d0%ba%d0%b8-6-8/2025-03-28/
END:VEVENT
BEGIN:VEVENT
DTSTART;TZID=Europe/Vienna:20250328T153000
DTEND;TZID=Europe/Vienna:20250328T170000
DTSTAMP:20260419T213124
CREATED:20250223T151508Z
LAST-MODIFIED:20250319T100639Z
UID:11050-1743175800-1743181200@www.rosinka.at
SUMMARY:ЛУЧИКИ (5-6)
DESCRIPTION:
URL:https://www.rosinka.at/event/%d0%bb%d1%83%d1%87%d0%b8%d0%ba%d0%b8-5-6-2-2025-03-28/
END:VEVENT
END:VCALENDAR