BEGIN:VCALENDAR
VERSION:2.0
PRODID:-//Rosinka - ECPv6.15.20//NONSGML v1.0//EN
CALSCALE:GREGORIAN
METHOD:PUBLISH
X-WR-CALNAME:Rosinka
X-ORIGINAL-URL:https://www.rosinka.at
X-WR-CALDESC:Мероприятия для Rosinka
REFRESH-INTERVAL;VALUE=DURATION:PT1H
X-Robots-Tag:noindex
X-PUBLISHED-TTL:PT1H
BEGIN:VTIMEZONE
TZID:Europe/Vienna
BEGIN:DAYLIGHT
TZOFFSETFROM:+0100
TZOFFSETTO:+0200
TZNAME:CEST
DTSTART:20240331T010000
END:DAYLIGHT
BEGIN:STANDARD
TZOFFSETFROM:+0200
TZOFFSETTO:+0100
TZNAME:CET
DTSTART:20241027T010000
END:STANDARD
BEGIN:DAYLIGHT
TZOFFSETFROM:+0100
TZOFFSETTO:+0200
TZNAME:CEST
DTSTART:20250330T010000
END:DAYLIGHT
BEGIN:STANDARD
TZOFFSETFROM:+0200
TZOFFSETTO:+0100
TZNAME:CET
DTSTART:20251026T010000
END:STANDARD
BEGIN:DAYLIGHT
TZOFFSETFROM:+0100
TZOFFSETTO:+0200
TZNAME:CEST
DTSTART:20260329T010000
END:DAYLIGHT
BEGIN:STANDARD
TZOFFSETFROM:+0200
TZOFFSETTO:+0100
TZNAME:CET
DTSTART:20261025T010000
END:STANDARD
END:VTIMEZONE
BEGIN:VEVENT
DTSTART;TZID=Europe/Vienna:20250512T171500
DTEND;TZID=Europe/Vienna:20250512T184500
DTSTAMP:20260420T065853
CREATED:20250223T145628Z
LAST-MODIFIED:20250223T145628Z
UID:10878-1747070100-1747075500@www.rosinka.at
SUMMARY:ЖИВОПИСЬ (7-10+)
DESCRIPTION:
URL:https://www.rosinka.at/event/%d0%b6%d0%b8%d0%b2%d0%be%d0%bf%d0%b8%d1%81%d1%8c-7-10-6/2025-05-12/
END:VEVENT
BEGIN:VEVENT
DTSTART;TZID=Europe/Vienna:20250510T110000
DTEND;TZID=Europe/Vienna:20250510T120000
DTSTAMP:20260420T065853
CREATED:20250223T151734Z
LAST-MODIFIED:20250223T155247Z
UID:11069-1746874800-1746878400@www.rosinka.at
SUMMARY:РОБОТОТЕХНИКА
DESCRIPTION:
URL:https://www.rosinka.at/event/%d1%80%d0%be%d0%b1%d0%be%d1%82%d0%be%d1%82%d0%b5%d1%85%d0%bd%d0%b8%d0%ba%d0%b0-14/2025-05-10/
END:VEVENT
BEGIN:VEVENT
DTSTART;TZID=Europe/Vienna:20250509T170000
DTEND;TZID=Europe/Vienna:20250509T180000
DTSTAMP:20260420T065853
CREATED:20250303T072546Z
LAST-MODIFIED:20250303T072546Z
UID:11127-1746810000-1746813600@www.rosinka.at
SUMMARY:МАЛЫШАРИКИ (3-4)
DESCRIPTION:
URL:https://www.rosinka.at/event/%d0%bc%d0%b0%d0%bb%d1%8b%d1%88%d0%b0%d1%80%d0%b8%d0%ba%d0%b8-3-4/2025-05-09/
END:VEVENT
BEGIN:VEVENT
DTSTART;TZID=Europe/Vienna:20250509T160000
DTEND;TZID=Europe/Vienna:20250509T173000
DTSTAMP:20260420T065853
CREATED:20250223T151508Z
LAST-MODIFIED:20250223T151508Z
UID:11054-1746806400-1746811800@www.rosinka.at
SUMMARY:ЛУЧИКИ (5-6)
DESCRIPTION:
URL:https://www.rosinka.at/event/%d0%bb%d1%83%d1%87%d0%b8%d0%ba%d0%b8-5-6-2/2025-05-09/
END:VEVENT
BEGIN:VEVENT
DTSTART;TZID=Europe/Vienna:20250509T150000
DTEND;TZID=Europe/Vienna:20250509T163000
DTSTAMP:20260420T065853
CREATED:20250223T151312Z
LAST-MODIFIED:20250223T151312Z
UID:11039-1746802800-1746808200@www.rosinka.at
SUMMARY:ФИКСИКИ (6-8)
DESCRIPTION:
URL:https://www.rosinka.at/event/%d1%84%d0%b8%d0%ba%d1%81%d0%b8%d0%ba%d0%b8-6-8/2025-05-09/
END:VEVENT
BEGIN:VEVENT
DTSTART;TZID=Europe/Vienna:20250508T164500
DTEND;TZID=Europe/Vienna:20250508T181500
DTSTAMP:20260420T065853
CREATED:20250223T151001Z
LAST-MODIFIED:20250223T151001Z
UID:11024-1746722700-1746728100@www.rosinka.at
SUMMARY:СОЛНЫШКИ (5-6)
DESCRIPTION:
URL:https://www.rosinka.at/event/%d1%81%d0%be%d0%bb%d0%bd%d1%8b%d1%88%d0%ba%d0%b8-5-6-2/2025-05-08/
END:VEVENT
BEGIN:VEVENT
DTSTART;TZID=Europe/Vienna:20250508T163000
DTEND;TZID=Europe/Vienna:20250508T180000
DTSTAMP:20260420T065853
CREATED:20250223T150529Z
LAST-MODIFIED:20250223T150529Z
UID:10964-1746721800-1746727200@www.rosinka.at
SUMMARY:УМНИКИ (13-15)
DESCRIPTION:
URL:https://www.rosinka.at/event/%d1%83%d0%bc%d0%bd%d0%b8%d0%ba%d0%b8-13-15-3/2025-05-08/
END:VEVENT
BEGIN:VEVENT
DTSTART;TZID=Europe/Vienna:20250507T163500
DTEND;TZID=Europe/Vienna:20250507T173500
DTSTAMP:20260420T065853
CREATED:20250223T150208Z
LAST-MODIFIED:20250224T180110Z
UID:10948-1746635700-1746639300@www.rosinka.at
SUMMARY:ФАНТАЗЕРЫ (4-5)
DESCRIPTION:
URL:https://www.rosinka.at/event/%d1%84%d0%b0%d0%bd%d1%82%d0%b0%d0%b7%d0%b5%d1%80%d1%8b-4-5-2025-03-05/2025-05-07/
END:VEVENT
BEGIN:VEVENT
DTSTART;TZID=Europe/Vienna:20250506T173000
DTEND;TZID=Europe/Vienna:20250506T183000
DTSTAMP:20260420T065853
CREATED:20250310T083557Z
LAST-MODIFIED:20250310T083557Z
UID:11181-1746552600-1746556200@www.rosinka.at
SUMMARY:ЖИВОПИСЬ (4-6)
DESCRIPTION:
URL:https://www.rosinka.at/event/%d0%b6%d0%b8%d0%b2%d0%be%d0%bf%d0%b8%d1%81%d1%8c-4-6-33/2025-05-06/
END:VEVENT
BEGIN:VEVENT
DTSTART;TZID=Europe/Vienna:20250506T161500
DTEND;TZID=Europe/Vienna:20250506T171500
DTSTAMP:20260420T065853
CREATED:20250303T072859Z
LAST-MODIFIED:20250312T121738Z
UID:11143-1746548100-1746551700@www.rosinka.at
SUMMARY:ПЧЁЛКИ (1\,5-3)
DESCRIPTION:
URL:https://www.rosinka.at/event/%d0%bc%d0%b0%d0%bb%d1%8b%d1%88%d0%b8-15-3-4/2025-05-06/
END:VEVENT
BEGIN:VEVENT
DTSTART;TZID=Europe/Vienna:20250505T171500
DTEND;TZID=Europe/Vienna:20250505T184500
DTSTAMP:20260420T065853
CREATED:20250223T145628Z
LAST-MODIFIED:20250223T145628Z
UID:10877-1746465300-1746470700@www.rosinka.at
SUMMARY:ЖИВОПИСЬ (7-10+)
DESCRIPTION:
URL:https://www.rosinka.at/event/%d0%b6%d0%b8%d0%b2%d0%be%d0%bf%d0%b8%d1%81%d1%8c-7-10-6/2025-05-05/
END:VEVENT
BEGIN:VEVENT
DTSTART;TZID=Europe/Vienna:20250505T171500
DTEND;TZID=Europe/Vienna:20250505T181500
DTSTAMP:20260420T065853
CREATED:20250223T145507Z
LAST-MODIFIED:20250224T180041Z
UID:10861-1746465300-1746468900@www.rosinka.at
SUMMARY:СВЕТЛЯЧКИ (4-5)
DESCRIPTION:
URL:https://www.rosinka.at/event/%d1%81%d0%b2%d0%b5%d1%82%d0%bb%d1%8f%d1%87%d0%ba%d0%b8-4-5-2-2025-03-03/2025-05-05/
END:VEVENT
BEGIN:VEVENT
DTSTART;VALUE=DATE:20250501
DTEND;VALUE=DATE:20250505
DTSTAMP:20260420T065853
CREATED:20240813T102941Z
LAST-MODIFIED:20240813T102941Z
UID:10249-1746057600-1746403199@www.rosinka.at
SUMMARY:НЕУЧЕБНЫЙ ДЕНЬ
DESCRIPTION:
URL:https://www.rosinka.at/event/%d0%bd%d0%b5%d1%83%d1%87%d0%b5%d0%b1%d0%bd%d1%8b%d0%b9-%d0%b4%d0%b5%d0%bd%d1%8c-44/
END:VEVENT
BEGIN:VEVENT
DTSTART;TZID=Europe/Vienna:20250430T164500
DTEND;TZID=Europe/Vienna:20250430T181500
DTSTAMP:20260420T065853
CREATED:20250223T150052Z
LAST-MODIFIED:20250223T150728Z
UID:10929-1746031500-1746036900@www.rosinka.at
SUMMARY:БУКВОЕЖКИ (9-10)
DESCRIPTION:
URL:https://www.rosinka.at/event/%d0%b1%d1%83%d0%ba%d0%b2%d0%be%d0%b5%d0%b6%d0%ba%d0%b8-9-10-2/2025-04-30/
END:VEVENT
BEGIN:VEVENT
DTSTART;TZID=Europe/Vienna:20250430T163500
DTEND;TZID=Europe/Vienna:20250430T173500
DTSTAMP:20260420T065853
CREATED:20250223T150208Z
LAST-MODIFIED:20250224T180110Z
UID:10947-1746030900-1746034500@www.rosinka.at
SUMMARY:ФАНТАЗЕРЫ (4-5)
DESCRIPTION:
URL:https://www.rosinka.at/event/%d1%84%d0%b0%d0%bd%d1%82%d0%b0%d0%b7%d0%b5%d1%80%d1%8b-4-5-2025-03-05/2025-04-30/
END:VEVENT
BEGIN:VEVENT
DTSTART;TZID=Europe/Vienna:20250430T150000
DTEND;TZID=Europe/Vienna:20250430T163000
DTSTAMP:20260420T065853
CREATED:20250223T145956Z
LAST-MODIFIED:20250223T150607Z
UID:10911-1746025200-1746030600@www.rosinka.at
SUMMARY:ЗНАЙЧИКИ (8-9)
DESCRIPTION:
URL:https://www.rosinka.at/event/%d0%b7%d0%bd%d0%b0%d0%b9%d1%87%d0%b8%d0%ba%d0%b8-8-9-2/2025-04-30/
END:VEVENT
BEGIN:VEVENT
DTSTART;TZID=Europe/Vienna:20250429T173000
DTEND;TZID=Europe/Vienna:20250429T183000
DTSTAMP:20260420T065853
CREATED:20250310T083557Z
LAST-MODIFIED:20250310T083557Z
UID:11180-1745947800-1745951400@www.rosinka.at
SUMMARY:ЖИВОПИСЬ (4-6)
DESCRIPTION:
URL:https://www.rosinka.at/event/%d0%b6%d0%b8%d0%b2%d0%be%d0%bf%d0%b8%d1%81%d1%8c-4-6-33/2025-04-29/
END:VEVENT
BEGIN:VEVENT
DTSTART;TZID=Europe/Vienna:20250429T164500
DTEND;TZID=Europe/Vienna:20250429T181500
DTSTAMP:20260420T065853
CREATED:20250223T145828Z
LAST-MODIFIED:20250223T145828Z
UID:10893-1745945100-1745950500@www.rosinka.at
SUMMARY:ЯКОРЕК (10-11)
DESCRIPTION:
URL:https://www.rosinka.at/event/%d1%8f%d0%ba%d0%be%d1%80%d0%b5%d0%ba-10-11-2/2025-04-29/
END:VEVENT
BEGIN:VEVENT
DTSTART;TZID=Europe/Vienna:20250429T150500
DTEND;TZID=Europe/Vienna:20250429T163500
DTSTAMP:20260420T065853
CREATED:20250224T180500Z
LAST-MODIFIED:20250224T180500Z
UID:11109-1745939100-1745944500@www.rosinka.at
SUMMARY:СТАРШЕКЛАССНИКИ (12-13)
DESCRIPTION:
URL:https://www.rosinka.at/event/%d1%81%d1%82%d0%b0%d1%80%d1%88%d0%b5%d0%ba%d0%bb%d0%b0%d1%81%d1%81%d0%bd%d0%b8%d0%ba%d0%b8-12-13/2025-04-29/
END:VEVENT
BEGIN:VEVENT
DTSTART;TZID=Europe/Vienna:20250428T171500
DTEND;TZID=Europe/Vienna:20250428T184500
DTSTAMP:20260420T065853
CREATED:20250223T145628Z
LAST-MODIFIED:20250223T145628Z
UID:10876-1745860500-1745865900@www.rosinka.at
SUMMARY:ЖИВОПИСЬ (7-10+)
DESCRIPTION:
URL:https://www.rosinka.at/event/%d0%b6%d0%b8%d0%b2%d0%be%d0%bf%d0%b8%d1%81%d1%8c-7-10-6/2025-04-28/
END:VEVENT
BEGIN:VEVENT
DTSTART;TZID=Europe/Vienna:20250428T171500
DTEND;TZID=Europe/Vienna:20250428T181500
DTSTAMP:20260420T065853
CREATED:20250223T145507Z
LAST-MODIFIED:20250224T180041Z
UID:10860-1745860500-1745864100@www.rosinka.at
SUMMARY:СВЕТЛЯЧКИ (4-5)
DESCRIPTION:
URL:https://www.rosinka.at/event/%d1%81%d0%b2%d0%b5%d1%82%d0%bb%d1%8f%d1%87%d0%ba%d0%b8-4-5-2-2025-03-03/2025-04-28/
END:VEVENT
BEGIN:VEVENT
DTSTART;TZID=Europe/Vienna:20250426T133000
DTEND;TZID=Europe/Vienna:20250426T150000
DTSTAMP:20260420T065853
CREATED:20250425T060337Z
LAST-MODIFIED:20250425T060337Z
UID:11207-1745674200-1745679600@www.rosinka.at
SUMMARY:ИСТОРИЯ ИСКУССТВ
DESCRIPTION:
URL:https://www.rosinka.at/event/%d0%b8%d1%81%d1%82%d0%be%d1%80%d0%b8%d1%8f-%d0%b8%d1%81%d0%ba%d1%83%d1%81%d1%81%d1%82%d0%b2-6/
END:VEVENT
BEGIN:VEVENT
DTSTART;TZID=Europe/Vienna:20250426T110000
DTEND;TZID=Europe/Vienna:20250426T120000
DTSTAMP:20260420T065853
CREATED:20250223T151734Z
LAST-MODIFIED:20250223T155247Z
UID:11068-1745665200-1745668800@www.rosinka.at
SUMMARY:РОБОТОТЕХНИКА
DESCRIPTION:
URL:https://www.rosinka.at/event/%d1%80%d0%be%d0%b1%d0%be%d1%82%d0%be%d1%82%d0%b5%d1%85%d0%bd%d0%b8%d0%ba%d0%b0-14/2025-04-26/
END:VEVENT
BEGIN:VEVENT
DTSTART;TZID=Europe/Vienna:20250425T170000
DTEND;TZID=Europe/Vienna:20250425T180000
DTSTAMP:20260420T065853
CREATED:20250303T072546Z
LAST-MODIFIED:20250303T072546Z
UID:11126-1745600400-1745604000@www.rosinka.at
SUMMARY:МАЛЫШАРИКИ (3-4)
DESCRIPTION:
URL:https://www.rosinka.at/event/%d0%bc%d0%b0%d0%bb%d1%8b%d1%88%d0%b0%d1%80%d0%b8%d0%ba%d0%b8-3-4/2025-04-25/
END:VEVENT
BEGIN:VEVENT
DTSTART;TZID=Europe/Vienna:20250425T160000
DTEND;TZID=Europe/Vienna:20250425T173000
DTSTAMP:20260420T065853
CREATED:20250223T151508Z
LAST-MODIFIED:20250223T151508Z
UID:11053-1745596800-1745602200@www.rosinka.at
SUMMARY:ЛУЧИКИ (5-6)
DESCRIPTION:
URL:https://www.rosinka.at/event/%d0%bb%d1%83%d1%87%d0%b8%d0%ba%d0%b8-5-6-2/2025-04-25/
END:VEVENT
BEGIN:VEVENT
DTSTART;TZID=Europe/Vienna:20250425T150000
DTEND;TZID=Europe/Vienna:20250425T163000
DTSTAMP:20260420T065853
CREATED:20250223T151312Z
LAST-MODIFIED:20250223T151312Z
UID:11038-1745593200-1745598600@www.rosinka.at
SUMMARY:ФИКСИКИ (6-8)
DESCRIPTION:
URL:https://www.rosinka.at/event/%d1%84%d0%b8%d0%ba%d1%81%d0%b8%d0%ba%d0%b8-6-8/2025-04-25/
END:VEVENT
BEGIN:VEVENT
DTSTART;TZID=Europe/Vienna:20250424T164500
DTEND;TZID=Europe/Vienna:20250424T181500
DTSTAMP:20260420T065853
CREATED:20250223T151001Z
LAST-MODIFIED:20250223T151001Z
UID:11023-1745513100-1745518500@www.rosinka.at
SUMMARY:СОЛНЫШКИ (5-6)
DESCRIPTION:
URL:https://www.rosinka.at/event/%d1%81%d0%be%d0%bb%d0%bd%d1%8b%d1%88%d0%ba%d0%b8-5-6-2/2025-04-24/
END:VEVENT
BEGIN:VEVENT
DTSTART;TZID=Europe/Vienna:20250424T163000
DTEND;TZID=Europe/Vienna:20250424T180000
DTSTAMP:20260420T065853
CREATED:20250223T150529Z
LAST-MODIFIED:20250223T150529Z
UID:10963-1745512200-1745517600@www.rosinka.at
SUMMARY:УМНИКИ (13-15)
DESCRIPTION:
URL:https://www.rosinka.at/event/%d1%83%d0%bc%d0%bd%d0%b8%d0%ba%d0%b8-13-15-3/2025-04-24/
END:VEVENT
BEGIN:VEVENT
DTSTART;TZID=Europe/Vienna:20250423T164500
DTEND;TZID=Europe/Vienna:20250423T181500
DTSTAMP:20260420T065853
CREATED:20250223T150052Z
LAST-MODIFIED:20250223T150727Z
UID:10928-1745426700-1745432100@www.rosinka.at
SUMMARY:БУКВОЕЖКИ (9-10)
DESCRIPTION:
URL:https://www.rosinka.at/event/%d0%b1%d1%83%d0%ba%d0%b2%d0%be%d0%b5%d0%b6%d0%ba%d0%b8-9-10-2/2025-04-23/
END:VEVENT
BEGIN:VEVENT
DTSTART;TZID=Europe/Vienna:20250423T163500
DTEND;TZID=Europe/Vienna:20250423T173500
DTSTAMP:20260420T065853
CREATED:20250223T150208Z
LAST-MODIFIED:20250224T180109Z
UID:10946-1745426100-1745429700@www.rosinka.at
SUMMARY:ФАНТАЗЕРЫ (4-5)
DESCRIPTION:
URL:https://www.rosinka.at/event/%d1%84%d0%b0%d0%bd%d1%82%d0%b0%d0%b7%d0%b5%d1%80%d1%8b-4-5-2025-03-05/2025-04-23/
END:VEVENT
END:VCALENDAR