BEGIN:VCALENDAR
VERSION:2.0
PRODID:-//Rosinka - ECPv6.15.20//NONSGML v1.0//EN
CALSCALE:GREGORIAN
METHOD:PUBLISH
X-WR-CALNAME:Rosinka
X-ORIGINAL-URL:https://www.rosinka.at
X-WR-CALDESC:Мероприятия для Rosinka
REFRESH-INTERVAL;VALUE=DURATION:PT1H
X-Robots-Tag:noindex
X-PUBLISHED-TTL:PT1H
BEGIN:VTIMEZONE
TZID:Europe/Vienna
BEGIN:DAYLIGHT
TZOFFSETFROM:+0100
TZOFFSETTO:+0200
TZNAME:CEST
DTSTART:20240331T010000
END:DAYLIGHT
BEGIN:STANDARD
TZOFFSETFROM:+0200
TZOFFSETTO:+0100
TZNAME:CET
DTSTART:20241027T010000
END:STANDARD
BEGIN:DAYLIGHT
TZOFFSETFROM:+0100
TZOFFSETTO:+0200
TZNAME:CEST
DTSTART:20250330T010000
END:DAYLIGHT
BEGIN:STANDARD
TZOFFSETFROM:+0200
TZOFFSETTO:+0100
TZNAME:CET
DTSTART:20251026T010000
END:STANDARD
BEGIN:DAYLIGHT
TZOFFSETFROM:+0100
TZOFFSETTO:+0200
TZNAME:CEST
DTSTART:20260329T010000
END:DAYLIGHT
BEGIN:STANDARD
TZOFFSETFROM:+0200
TZOFFSETTO:+0100
TZNAME:CET
DTSTART:20261025T010000
END:STANDARD
END:VTIMEZONE
BEGIN:VEVENT
DTSTART;TZID=Europe/Vienna:20251024T143000
DTEND;TZID=Europe/Vienna:20251024T160000
DTSTAMP:20260420T051446
CREATED:20250917T110103Z
LAST-MODIFIED:20250917T110103Z
UID:11550-1761316200-1761321600@www.rosinka.at
SUMMARY:ЛУЧИКИ (6-7)
DESCRIPTION:
URL:https://www.rosinka.at/event/%d0%bb%d1%83%d1%87%d0%b8%d0%ba%d0%b8-6-7/2025-10-24/
END:VEVENT
BEGIN:VEVENT
DTSTART;TZID=Europe/Vienna:20251023T164500
DTEND;TZID=Europe/Vienna:20251023T181500
DTSTAMP:20260420T051446
CREATED:20250914T103712Z
LAST-MODIFIED:20250914T103712Z
UID:11447-1761237900-1761243300@www.rosinka.at
SUMMARY:СОЛНЫШКИ (6-7)
DESCRIPTION:
URL:https://www.rosinka.at/event/%d1%81%d0%be%d0%bb%d0%bd%d1%8b%d1%88%d0%ba%d0%b8-6-7/2025-10-23/
END:VEVENT
BEGIN:VEVENT
DTSTART;TZID=Europe/Vienna:20251023T163000
DTEND;TZID=Europe/Vienna:20251023T180000
DTSTAMP:20260420T051446
CREATED:20250914T103839Z
LAST-MODIFIED:20250914T103839Z
UID:11467-1761237000-1761242400@www.rosinka.at
SUMMARY:УМНИКИ (13-15)
DESCRIPTION:
URL:https://www.rosinka.at/event/%d1%83%d0%bc%d0%bd%d0%b8%d0%ba%d0%b8-13-15-4/2025-10-23/
END:VEVENT
BEGIN:VEVENT
DTSTART;TZID=Europe/Vienna:20251022T164500
DTEND;TZID=Europe/Vienna:20251022T181500
DTSTAMP:20260420T051446
CREATED:20250914T103353Z
LAST-MODIFIED:20250914T103353Z
UID:11408-1761151500-1761156900@www.rosinka.at
SUMMARY:БУКВОЕЖКИ (10-11)
DESCRIPTION:
URL:https://www.rosinka.at/event/%d0%b1%d1%83%d0%ba%d0%b2%d0%be%d0%b5%d0%b6%d0%ba%d0%b8-10-11/2025-10-22/
END:VEVENT
BEGIN:VEVENT
DTSTART;TZID=Europe/Vienna:20251022T161500
DTEND;TZID=Europe/Vienna:20251022T174500
DTSTAMP:20260420T051446
CREATED:20250914T103540Z
LAST-MODIFIED:20250914T103540Z
UID:11531-1761149700-1761155100@www.rosinka.at
SUMMARY:ФАНТАЗЕРЫ (5-6)
DESCRIPTION:
URL:https://www.rosinka.at/event/%d1%84%d0%b0%d0%bd%d1%82%d0%b0%d0%b7%d0%b5%d1%80%d1%8b-5-6/2025-10-22/
END:VEVENT
BEGIN:VEVENT
DTSTART;TZID=Europe/Vienna:20251022T150000
DTEND;TZID=Europe/Vienna:20251022T163000
DTSTAMP:20260420T051446
CREATED:20250912T072939Z
LAST-MODIFIED:20250912T072939Z
UID:11389-1761145200-1761150600@www.rosinka.at
SUMMARY:ЗНАЙЧИКИ (9-10)
DESCRIPTION:
URL:https://www.rosinka.at/event/%d0%b7%d0%bd%d0%b0%d0%b9%d1%87%d0%b8%d0%ba%d0%b8-9-10/2025-10-22/
END:VEVENT
BEGIN:VEVENT
DTSTART;TZID=Europe/Vienna:20251021T171500
DTEND;TZID=Europe/Vienna:20251021T181500
DTSTAMP:20260420T051446
CREATED:20250912T071636Z
LAST-MODIFIED:20250912T071636Z
UID:11676-1761066900-1761070500@www.rosinka.at
SUMMARY:ЖИВОПИСЬ (4-6)
DESCRIPTION:
URL:https://www.rosinka.at/event/%d0%b6%d0%b8%d0%b2%d0%be%d0%bf%d0%b8%d1%81%d1%8c-4-6-34/2025-10-21/
END:VEVENT
BEGIN:VEVENT
DTSTART;TZID=Europe/Vienna:20251021T160000
DTEND;TZID=Europe/Vienna:20251021T170000
DTSTAMP:20260420T051446
CREATED:20250912T071300Z
LAST-MODIFIED:20250912T071300Z
UID:11601-1761062400-1761066000@www.rosinka.at
SUMMARY:ПЧЕЛКИ (1\,5-3)
DESCRIPTION:
URL:https://www.rosinka.at/event/%d0%bf%d1%87%d0%b5%d0%bb%d0%ba%d0%b8-15-3-2/2025-10-21/
END:VEVENT
BEGIN:VEVENT
DTSTART;TZID=Europe/Vienna:20251020T171500
DTEND;TZID=Europe/Vienna:20251020T184500
DTSTAMP:20260420T051446
CREATED:20250912T070958Z
LAST-MODIFIED:20250912T070958Z
UID:11659-1760980500-1760985900@www.rosinka.at
SUMMARY:ЖИВОПИСЬ (7-10+)
DESCRIPTION:
URL:https://www.rosinka.at/event/%d0%b6%d0%b8%d0%b2%d0%be%d0%bf%d0%b8%d1%81%d1%8c-7-10-8/2025-10-20/
END:VEVENT
BEGIN:VEVENT
DTSTART;TZID=Europe/Vienna:20251020T165500
DTEND;TZID=Europe/Vienna:20251020T182500
DTSTAMP:20260420T051446
CREATED:20250912T070726Z
LAST-MODIFIED:20250912T070726Z
UID:11506-1760979300-1760984700@www.rosinka.at
SUMMARY:СВЕТЛЯЧКИ (5-6)
DESCRIPTION:
URL:https://www.rosinka.at/event/%d1%81%d0%b2%d0%b5%d1%82%d0%bb%d1%8f%d1%87%d0%ba%d0%b8-5-6/2025-10-20/
END:VEVENT
BEGIN:VEVENT
DTSTART;TZID=Europe/Vienna:20251018T123000
DTEND;TZID=Europe/Vienna:20251018T133000
DTSTAMP:20260420T051446
CREATED:20251016T193007Z
LAST-MODIFIED:20251016T193007Z
UID:11710-1760790600-1760794200@www.rosinka.at
SUMMARY:ТВОРЧЕСКИЕ ЧТЕНИЯ (4-7)
DESCRIPTION:
URL:https://www.rosinka.at/event/%d1%82%d0%b2%d0%be%d1%80%d1%87%d0%b5%d1%81%d0%ba%d0%b8%d0%b5-%d1%87%d1%82%d0%b5%d0%bd%d0%b8%d1%8f-4-7/
END:VEVENT
BEGIN:VEVENT
DTSTART;TZID=Europe/Vienna:20251018T110000
DTEND;TZID=Europe/Vienna:20251018T120000
DTSTAMP:20260420T051446
CREATED:20250922T133956Z
LAST-MODIFIED:20251020T111946Z
UID:11580-1760785200-1760788800@www.rosinka.at
SUMMARY:ТЕАТРАЛЬНАЯ СТУДИЯ
DESCRIPTION:
URL:https://www.rosinka.at/event/%d1%82%d0%b5%d0%b0%d1%82%d1%80%d0%b0%d0%bb%d1%8c%d0%bd%d0%b0%d1%8f-%d1%81%d1%82%d1%83%d0%b4%d0%b8%d1%8f/2025-10-18/
END:VEVENT
BEGIN:VEVENT
DTSTART;TZID=Europe/Vienna:20251018T093000
DTEND;TZID=Europe/Vienna:20251018T103000
DTSTAMP:20260420T051446
CREATED:20251015T071052Z
LAST-MODIFIED:20251022T105302Z
UID:11696-1760779800-1760783400@www.rosinka.at
SUMMARY:МУЗЫКАЛЬНАЯ МАСТЕРСКАЯ
DESCRIPTION:
URL:https://www.rosinka.at/event/%d0%bc%d1%83%d0%b7%d1%8b%d0%ba%d0%b0%d0%bb%d1%8c%d0%bd%d0%b0%d1%8f-%d0%bc%d0%b0%d1%81%d1%82%d0%b5%d1%80%d1%81%d0%ba%d0%b0%d1%8f/2025-10-18/
END:VEVENT
BEGIN:VEVENT
DTSTART;TZID=Europe/Vienna:20251017T164500
DTEND;TZID=Europe/Vienna:20251017T174500
DTSTAMP:20260420T051446
CREATED:20251008T093307Z
LAST-MODIFIED:20251008T093307Z
UID:11639-1760719500-1760723100@www.rosinka.at
SUMMARY:МАЛЫШАРИКИ (3-4)
DESCRIPTION:
URL:https://www.rosinka.at/event/%d0%bc%d0%b0%d0%bb%d1%8b%d1%88%d0%b0%d1%80%d0%b8%d0%ba%d0%b8-3-4-3/2025-10-17/
END:VEVENT
BEGIN:VEVENT
DTSTART;TZID=Europe/Vienna:20251017T150000
DTEND;TZID=Europe/Vienna:20251017T163000
DTSTAMP:20260420T051446
CREATED:20250914T104045Z
LAST-MODIFIED:20250914T104045Z
UID:11486-1760713200-1760718600@www.rosinka.at
SUMMARY:ФИКСИКИ (7-9)
DESCRIPTION:
URL:https://www.rosinka.at/event/%d1%84%d0%b8%d0%ba%d1%81%d0%b8%d0%ba%d0%b8-7-9/2025-10-17/
END:VEVENT
BEGIN:VEVENT
DTSTART;TZID=Europe/Vienna:20251017T143000
DTEND;TZID=Europe/Vienna:20251017T160000
DTSTAMP:20260420T051446
CREATED:20250917T110103Z
LAST-MODIFIED:20250917T110103Z
UID:11549-1760711400-1760716800@www.rosinka.at
SUMMARY:ЛУЧИКИ (6-7)
DESCRIPTION:
URL:https://www.rosinka.at/event/%d0%bb%d1%83%d1%87%d0%b8%d0%ba%d0%b8-6-7/2025-10-17/
END:VEVENT
BEGIN:VEVENT
DTSTART;TZID=Europe/Vienna:20251016T164500
DTEND;TZID=Europe/Vienna:20251016T181500
DTSTAMP:20260420T051446
CREATED:20250914T103712Z
LAST-MODIFIED:20250914T103712Z
UID:11446-1760633100-1760638500@www.rosinka.at
SUMMARY:СОЛНЫШКИ (6-7)
DESCRIPTION:
URL:https://www.rosinka.at/event/%d1%81%d0%be%d0%bb%d0%bd%d1%8b%d1%88%d0%ba%d0%b8-6-7/2025-10-16/
END:VEVENT
BEGIN:VEVENT
DTSTART;TZID=Europe/Vienna:20251016T163000
DTEND;TZID=Europe/Vienna:20251016T180000
DTSTAMP:20260420T051446
CREATED:20250914T103839Z
LAST-MODIFIED:20250914T103839Z
UID:11466-1760632200-1760637600@www.rosinka.at
SUMMARY:УМНИКИ (13-15)
DESCRIPTION:
URL:https://www.rosinka.at/event/%d1%83%d0%bc%d0%bd%d0%b8%d0%ba%d0%b8-13-15-4/2025-10-16/
END:VEVENT
BEGIN:VEVENT
DTSTART;TZID=Europe/Vienna:20251015T164500
DTEND;TZID=Europe/Vienna:20251015T181500
DTSTAMP:20260420T051446
CREATED:20250914T103353Z
LAST-MODIFIED:20250914T103353Z
UID:11407-1760546700-1760552100@www.rosinka.at
SUMMARY:БУКВОЕЖКИ (10-11)
DESCRIPTION:
URL:https://www.rosinka.at/event/%d0%b1%d1%83%d0%ba%d0%b2%d0%be%d0%b5%d0%b6%d0%ba%d0%b8-10-11/2025-10-15/
END:VEVENT
BEGIN:VEVENT
DTSTART;TZID=Europe/Vienna:20251015T161500
DTEND;TZID=Europe/Vienna:20251015T174500
DTSTAMP:20260420T051446
CREATED:20250914T103540Z
LAST-MODIFIED:20250914T103540Z
UID:11530-1760544900-1760550300@www.rosinka.at
SUMMARY:ФАНТАЗЕРЫ (5-6)
DESCRIPTION:
URL:https://www.rosinka.at/event/%d1%84%d0%b0%d0%bd%d1%82%d0%b0%d0%b7%d0%b5%d1%80%d1%8b-5-6/2025-10-15/
END:VEVENT
BEGIN:VEVENT
DTSTART;TZID=Europe/Vienna:20251015T150000
DTEND;TZID=Europe/Vienna:20251015T163000
DTSTAMP:20260420T051446
CREATED:20250912T072939Z
LAST-MODIFIED:20250912T072939Z
UID:11388-1760540400-1760545800@www.rosinka.at
SUMMARY:ЗНАЙЧИКИ (9-10)
DESCRIPTION:
URL:https://www.rosinka.at/event/%d0%b7%d0%bd%d0%b0%d0%b9%d1%87%d0%b8%d0%ba%d0%b8-9-10/2025-10-15/
END:VEVENT
BEGIN:VEVENT
DTSTART;TZID=Europe/Vienna:20251014T171500
DTEND;TZID=Europe/Vienna:20251014T181500
DTSTAMP:20260420T051446
CREATED:20250912T071636Z
LAST-MODIFIED:20250912T071636Z
UID:11675-1760462100-1760465700@www.rosinka.at
SUMMARY:ЖИВОПИСЬ (4-6)
DESCRIPTION:
URL:https://www.rosinka.at/event/%d0%b6%d0%b8%d0%b2%d0%be%d0%bf%d0%b8%d1%81%d1%8c-4-6-34/2025-10-14/
END:VEVENT
BEGIN:VEVENT
DTSTART;TZID=Europe/Vienna:20251014T160000
DTEND;TZID=Europe/Vienna:20251014T170000
DTSTAMP:20260420T051446
CREATED:20250912T071300Z
LAST-MODIFIED:20250912T071300Z
UID:11600-1760457600-1760461200@www.rosinka.at
SUMMARY:ПЧЕЛКИ (1\,5-3)
DESCRIPTION:
URL:https://www.rosinka.at/event/%d0%bf%d1%87%d0%b5%d0%bb%d0%ba%d0%b8-15-3-2/2025-10-14/
END:VEVENT
BEGIN:VEVENT
DTSTART;TZID=Europe/Vienna:20251013T171500
DTEND;TZID=Europe/Vienna:20251013T184500
DTSTAMP:20260420T051446
CREATED:20250912T070958Z
LAST-MODIFIED:20250912T070958Z
UID:11658-1760375700-1760381100@www.rosinka.at
SUMMARY:ЖИВОПИСЬ (7-10+)
DESCRIPTION:
URL:https://www.rosinka.at/event/%d0%b6%d0%b8%d0%b2%d0%be%d0%bf%d0%b8%d1%81%d1%8c-7-10-8/2025-10-13/
END:VEVENT
BEGIN:VEVENT
DTSTART;TZID=Europe/Vienna:20251013T165500
DTEND;TZID=Europe/Vienna:20251013T182500
DTSTAMP:20260420T051446
CREATED:20250912T070726Z
LAST-MODIFIED:20250912T070726Z
UID:11505-1760374500-1760379900@www.rosinka.at
SUMMARY:СВЕТЛЯЧКИ (5-6)
DESCRIPTION:
URL:https://www.rosinka.at/event/%d1%81%d0%b2%d0%b5%d1%82%d0%bb%d1%8f%d1%87%d0%ba%d0%b8-5-6/2025-10-13/
END:VEVENT
BEGIN:VEVENT
DTSTART;TZID=Europe/Vienna:20251011T110000
DTEND;TZID=Europe/Vienna:20251011T120000
DTSTAMP:20260420T051446
CREATED:20250922T133956Z
LAST-MODIFIED:20251020T111946Z
UID:11579-1760180400-1760184000@www.rosinka.at
SUMMARY:ТЕАТРАЛЬНАЯ СТУДИЯ
DESCRIPTION:
URL:https://www.rosinka.at/event/%d1%82%d0%b5%d0%b0%d1%82%d1%80%d0%b0%d0%bb%d1%8c%d0%bd%d0%b0%d1%8f-%d1%81%d1%82%d1%83%d0%b4%d0%b8%d1%8f/2025-10-11/
END:VEVENT
BEGIN:VEVENT
DTSTART;TZID=Europe/Vienna:20251011T093000
DTEND;TZID=Europe/Vienna:20251011T103000
DTSTAMP:20260420T051446
CREATED:20251015T071052Z
LAST-MODIFIED:20251022T105302Z
UID:11695-1760175000-1760178600@www.rosinka.at
SUMMARY:МУЗЫКАЛЬНАЯ МАСТЕРСКАЯ
DESCRIPTION:
URL:https://www.rosinka.at/event/%d0%bc%d1%83%d0%b7%d1%8b%d0%ba%d0%b0%d0%bb%d1%8c%d0%bd%d0%b0%d1%8f-%d0%bc%d0%b0%d1%81%d1%82%d0%b5%d1%80%d1%81%d0%ba%d0%b0%d1%8f/2025-10-11/
END:VEVENT
BEGIN:VEVENT
DTSTART;TZID=Europe/Vienna:20251010T164500
DTEND;TZID=Europe/Vienna:20251010T174500
DTSTAMP:20260420T051446
CREATED:20251008T093307Z
LAST-MODIFIED:20251008T093307Z
UID:11638-1760114700-1760118300@www.rosinka.at
SUMMARY:МАЛЫШАРИКИ (3-4)
DESCRIPTION:
URL:https://www.rosinka.at/event/%d0%bc%d0%b0%d0%bb%d1%8b%d1%88%d0%b0%d1%80%d0%b8%d0%ba%d0%b8-3-4-3/2025-10-10/
END:VEVENT
BEGIN:VEVENT
DTSTART;TZID=Europe/Vienna:20251010T150000
DTEND;TZID=Europe/Vienna:20251010T163000
DTSTAMP:20260420T051446
CREATED:20250914T104045Z
LAST-MODIFIED:20250914T104045Z
UID:11485-1760108400-1760113800@www.rosinka.at
SUMMARY:ФИКСИКИ (7-9)
DESCRIPTION:
URL:https://www.rosinka.at/event/%d1%84%d0%b8%d0%ba%d1%81%d0%b8%d0%ba%d0%b8-7-9/2025-10-10/
END:VEVENT
BEGIN:VEVENT
DTSTART;TZID=Europe/Vienna:20251010T143000
DTEND;TZID=Europe/Vienna:20251010T160000
DTSTAMP:20260420T051446
CREATED:20250917T110103Z
LAST-MODIFIED:20250917T110103Z
UID:11548-1760106600-1760112000@www.rosinka.at
SUMMARY:ЛУЧИКИ (6-7)
DESCRIPTION:
URL:https://www.rosinka.at/event/%d0%bb%d1%83%d1%87%d0%b8%d0%ba%d0%b8-6-7/2025-10-10/
END:VEVENT
END:VCALENDAR