BEGIN:VCALENDAR
VERSION:2.0
PRODID:-//Rosinka - ECPv6.15.20//NONSGML v1.0//EN
CALSCALE:GREGORIAN
METHOD:PUBLISH
X-WR-CALNAME:Rosinka
X-ORIGINAL-URL:https://www.rosinka.at
X-WR-CALDESC:Мероприятия для Rosinka
REFRESH-INTERVAL;VALUE=DURATION:PT1H
X-Robots-Tag:noindex
X-PUBLISHED-TTL:PT1H
BEGIN:VTIMEZONE
TZID:Europe/Vienna
BEGIN:DAYLIGHT
TZOFFSETFROM:+0100
TZOFFSETTO:+0200
TZNAME:CEST
DTSTART:20250330T010000
END:DAYLIGHT
BEGIN:STANDARD
TZOFFSETFROM:+0200
TZOFFSETTO:+0100
TZNAME:CET
DTSTART:20251026T010000
END:STANDARD
BEGIN:DAYLIGHT
TZOFFSETFROM:+0100
TZOFFSETTO:+0200
TZNAME:CEST
DTSTART:20260329T010000
END:DAYLIGHT
BEGIN:STANDARD
TZOFFSETFROM:+0200
TZOFFSETTO:+0100
TZNAME:CET
DTSTART:20261025T010000
END:STANDARD
BEGIN:DAYLIGHT
TZOFFSETFROM:+0100
TZOFFSETTO:+0200
TZNAME:CEST
DTSTART:20270328T010000
END:DAYLIGHT
BEGIN:STANDARD
TZOFFSETFROM:+0200
TZOFFSETTO:+0100
TZNAME:CET
DTSTART:20271031T010000
END:STANDARD
END:VTIMEZONE
BEGIN:VEVENT
DTSTART;TZID=Europe/Vienna:20260128T164500
DTEND;TZID=Europe/Vienna:20260128T181500
DTSTAMP:20260420T031359
CREATED:20250914T103353Z
LAST-MODIFIED:20250914T103353Z
UID:11419-1769618700-1769624100@www.rosinka.at
SUMMARY:БУКВОЕЖКИ (10-11)
DESCRIPTION:
URL:https://www.rosinka.at/event/%d0%b1%d1%83%d0%ba%d0%b2%d0%be%d0%b5%d0%b6%d0%ba%d0%b8-10-11/2026-01-28/
END:VEVENT
BEGIN:VEVENT
DTSTART;TZID=Europe/Vienna:20260129T163000
DTEND;TZID=Europe/Vienna:20260129T180000
DTSTAMP:20260420T031359
CREATED:20250914T103839Z
LAST-MODIFIED:20250914T103839Z
UID:11479-1769704200-1769709600@www.rosinka.at
SUMMARY:УМНИКИ (13-15)
DESCRIPTION:
URL:https://www.rosinka.at/event/%d1%83%d0%bc%d0%bd%d0%b8%d0%ba%d0%b8-13-15-4/2026-01-29/
END:VEVENT
BEGIN:VEVENT
DTSTART;TZID=Europe/Vienna:20260129T164500
DTEND;TZID=Europe/Vienna:20260129T181500
DTSTAMP:20260420T031359
CREATED:20250914T103712Z
LAST-MODIFIED:20250914T103712Z
UID:11459-1769705100-1769710500@www.rosinka.at
SUMMARY:СОЛНЫШКИ (6-7)
DESCRIPTION:
URL:https://www.rosinka.at/event/%d1%81%d0%be%d0%bb%d0%bd%d1%8b%d1%88%d0%ba%d0%b8-6-7/2026-01-29/
END:VEVENT
BEGIN:VEVENT
DTSTART;TZID=Europe/Vienna:20260130T143000
DTEND;TZID=Europe/Vienna:20260130T160000
DTSTAMP:20260420T031359
CREATED:20250917T110103Z
LAST-MODIFIED:20250917T110103Z
UID:11561-1769783400-1769788800@www.rosinka.at
SUMMARY:ЛУЧИКИ (6-7)
DESCRIPTION:
URL:https://www.rosinka.at/event/%d0%bb%d1%83%d1%87%d0%b8%d0%ba%d0%b8-6-7/2026-01-30/
END:VEVENT
BEGIN:VEVENT
DTSTART;TZID=Europe/Vienna:20260130T150000
DTEND;TZID=Europe/Vienna:20260130T163000
DTSTAMP:20260420T031359
CREATED:20250914T104045Z
LAST-MODIFIED:20250914T104045Z
UID:11499-1769785200-1769790600@www.rosinka.at
SUMMARY:ФИКСИКИ (7-9)
DESCRIPTION:
URL:https://www.rosinka.at/event/%d1%84%d0%b8%d0%ba%d1%81%d0%b8%d0%ba%d0%b8-7-9/2026-01-30/
END:VEVENT
BEGIN:VEVENT
DTSTART;TZID=Europe/Vienna:20260130T164500
DTEND;TZID=Europe/Vienna:20260130T174500
DTSTAMP:20260420T031359
CREATED:20251008T093307Z
LAST-MODIFIED:20251008T093307Z
UID:11652-1769791500-1769795100@www.rosinka.at
SUMMARY:МАЛЫШАРИКИ (3-4)
DESCRIPTION:
URL:https://www.rosinka.at/event/%d0%bc%d0%b0%d0%bb%d1%8b%d1%88%d0%b0%d1%80%d0%b8%d0%ba%d0%b8-3-4-3/2026-01-30/
END:VEVENT
BEGIN:VEVENT
DTSTART;TZID=Europe/Vienna:20260131T093000
DTEND;TZID=Europe/Vienna:20260131T103000
DTSTAMP:20260420T031359
CREATED:20251015T071052Z
LAST-MODIFIED:20251022T105308Z
UID:11708-1769851800-1769855400@www.rosinka.at
SUMMARY:МУЗЫКАЛЬНАЯ МАСТЕРСКАЯ
DESCRIPTION:
URL:https://www.rosinka.at/event/%d0%bc%d1%83%d0%b7%d1%8b%d0%ba%d0%b0%d0%bb%d1%8c%d0%bd%d0%b0%d1%8f-%d0%bc%d0%b0%d1%81%d1%82%d0%b5%d1%80%d1%81%d0%ba%d0%b0%d1%8f/2026-01-31/
END:VEVENT
BEGIN:VEVENT
DTSTART;TZID=Europe/Vienna:20260131T110000
DTEND;TZID=Europe/Vienna:20260131T120000
DTSTAMP:20260420T031359
CREATED:20250922T133956Z
LAST-MODIFIED:20251020T111952Z
UID:11591-1769857200-1769860800@www.rosinka.at
SUMMARY:ТЕАТРАЛЬНАЯ СТУДИЯ
DESCRIPTION:
URL:https://www.rosinka.at/event/%d1%82%d0%b5%d0%b0%d1%82%d1%80%d0%b0%d0%bb%d1%8c%d0%bd%d0%b0%d1%8f-%d1%81%d1%82%d1%83%d0%b4%d0%b8%d1%8f/2026-01-31/
END:VEVENT
BEGIN:VEVENT
DTSTART;TZID=Europe/Vienna:20260131T123000
DTEND;TZID=Europe/Vienna:20260131T133000
DTSTAMP:20260420T031359
CREATED:20260130T200259Z
LAST-MODIFIED:20260130T200259Z
UID:11809-1769862600-1769866200@www.rosinka.at
SUMMARY:ТВОРЧЕСКИЕ ЧТЕНИЯ
DESCRIPTION:
URL:https://www.rosinka.at/event/%d1%82%d0%b2%d0%be%d1%80%d1%87%d0%b5%d1%81%d0%ba%d0%b8%d0%b5-%d1%87%d1%82%d0%b5%d0%bd%d0%b8%d1%8f-2/
END:VEVENT
BEGIN:VEVENT
DTSTART;TZID=Europe/Vienna:20260201T120000
DTEND;TZID=Europe/Vienna:20260201T133000
DTSTAMP:20260420T031359
CREATED:20260119T101721Z
LAST-MODIFIED:20260119T101721Z
UID:11802-1769947200-1769952600@www.rosinka.at
SUMMARY:ЛУЧИКИ (6-7)
DESCRIPTION:
URL:https://www.rosinka.at/event/%d0%bb%d1%83%d1%87%d0%b8%d0%ba%d0%b8-6-7-3/
END:VEVENT
BEGIN:VEVENT
DTSTART;TZID=Europe/Vienna:20260202T165500
DTEND;TZID=Europe/Vienna:20260202T182500
DTSTAMP:20260420T031359
CREATED:20250912T070726Z
LAST-MODIFIED:20250912T070726Z
UID:11517-1770051300-1770056700@www.rosinka.at
SUMMARY:СВЕТЛЯЧКИ (5-6)
DESCRIPTION:
URL:https://www.rosinka.at/event/%d1%81%d0%b2%d0%b5%d1%82%d0%bb%d1%8f%d1%87%d0%ba%d0%b8-5-6/2026-02-02/
END:VEVENT
BEGIN:VEVENT
DTSTART;TZID=Europe/Vienna:20260202T171500
DTEND;TZID=Europe/Vienna:20260202T184500
DTSTAMP:20260420T031359
CREATED:20250912T070958Z
LAST-MODIFIED:20250912T070958Z
UID:11670-1770052500-1770057900@www.rosinka.at
SUMMARY:ЖИВОПИСЬ (7-10+)
DESCRIPTION:
URL:https://www.rosinka.at/event/%d0%b6%d0%b8%d0%b2%d0%be%d0%bf%d0%b8%d1%81%d1%8c-7-10-8/2026-02-02/
END:VEVENT
BEGIN:VEVENT
DTSTART;TZID=Europe/Vienna:20260203T171500
DTEND;TZID=Europe/Vienna:20260203T181500
DTSTAMP:20260420T031359
CREATED:20250912T071636Z
LAST-MODIFIED:20250912T071636Z
UID:11688-1770138900-1770142500@www.rosinka.at
SUMMARY:ЖИВОПИСЬ (4-6)
DESCRIPTION:
URL:https://www.rosinka.at/event/%d0%b6%d0%b8%d0%b2%d0%be%d0%bf%d0%b8%d1%81%d1%8c-4-6-34/2026-02-03/
END:VEVENT
BEGIN:VEVENT
DTSTART;TZID=Europe/Vienna:20260204T161500
DTEND;TZID=Europe/Vienna:20260204T174500
DTSTAMP:20260420T031359
CREATED:20250914T103540Z
LAST-MODIFIED:20250914T103540Z
UID:11543-1770221700-1770227100@www.rosinka.at
SUMMARY:ФАНТАЗЕРЫ (5-6)
DESCRIPTION:
URL:https://www.rosinka.at/event/%d1%84%d0%b0%d0%bd%d1%82%d0%b0%d0%b7%d0%b5%d1%80%d1%8b-5-6/2026-02-04/
END:VEVENT
BEGIN:VEVENT
DTSTART;TZID=Europe/Vienna:20260204T164500
DTEND;TZID=Europe/Vienna:20260204T181500
DTSTAMP:20260420T031359
CREATED:20250914T103353Z
LAST-MODIFIED:20250914T103353Z
UID:11420-1770223500-1770228900@www.rosinka.at
SUMMARY:БУКВОЕЖКИ (10-11)
DESCRIPTION:
URL:https://www.rosinka.at/event/%d0%b1%d1%83%d0%ba%d0%b2%d0%be%d0%b5%d0%b6%d0%ba%d0%b8-10-11/2026-02-04/
END:VEVENT
BEGIN:VEVENT
DTSTART;TZID=Europe/Vienna:20260205T163000
DTEND;TZID=Europe/Vienna:20260205T180000
DTSTAMP:20260420T031359
CREATED:20250914T103839Z
LAST-MODIFIED:20250914T103839Z
UID:11480-1770309000-1770314400@www.rosinka.at
SUMMARY:УМНИКИ (13-15)
DESCRIPTION:
URL:https://www.rosinka.at/event/%d1%83%d0%bc%d0%bd%d0%b8%d0%ba%d0%b8-13-15-4/2026-02-05/
END:VEVENT
BEGIN:VEVENT
DTSTART;TZID=Europe/Vienna:20260205T164500
DTEND;TZID=Europe/Vienna:20260205T181500
DTSTAMP:20260420T031359
CREATED:20250914T103712Z
LAST-MODIFIED:20250914T103712Z
UID:11460-1770309900-1770315300@www.rosinka.at
SUMMARY:СОЛНЫШКИ (6-7)
DESCRIPTION:
URL:https://www.rosinka.at/event/%d1%81%d0%be%d0%bb%d0%bd%d1%8b%d1%88%d0%ba%d0%b8-6-7/2026-02-05/
END:VEVENT
BEGIN:VEVENT
DTSTART;TZID=Europe/Vienna:20260206T143000
DTEND;TZID=Europe/Vienna:20260206T160000
DTSTAMP:20260420T031359
CREATED:20250917T110103Z
LAST-MODIFIED:20250917T110103Z
UID:11562-1770388200-1770393600@www.rosinka.at
SUMMARY:ЛУЧИКИ (6-7)
DESCRIPTION:
URL:https://www.rosinka.at/event/%d0%bb%d1%83%d1%87%d0%b8%d0%ba%d0%b8-6-7/2026-02-06/
END:VEVENT
BEGIN:VEVENT
DTSTART;TZID=Europe/Vienna:20260206T150000
DTEND;TZID=Europe/Vienna:20260206T163000
DTSTAMP:20260420T031359
CREATED:20250914T104045Z
LAST-MODIFIED:20250914T104045Z
UID:11500-1770390000-1770395400@www.rosinka.at
SUMMARY:ФИКСИКИ (7-9)
DESCRIPTION:
URL:https://www.rosinka.at/event/%d1%84%d0%b8%d0%ba%d1%81%d0%b8%d0%ba%d0%b8-7-9/2026-02-06/
END:VEVENT
BEGIN:VEVENT
DTSTART;TZID=Europe/Vienna:20260206T164500
DTEND;TZID=Europe/Vienna:20260206T174500
DTSTAMP:20260420T031359
CREATED:20251008T093307Z
LAST-MODIFIED:20251008T093307Z
UID:11653-1770396300-1770399900@www.rosinka.at
SUMMARY:МАЛЫШАРИКИ (3-4)
DESCRIPTION:
URL:https://www.rosinka.at/event/%d0%bc%d0%b0%d0%bb%d1%8b%d1%88%d0%b0%d1%80%d0%b8%d0%ba%d0%b8-3-4-3/2026-02-06/
END:VEVENT
BEGIN:VEVENT
DTSTART;TZID=Europe/Vienna:20260209T165500
DTEND;TZID=Europe/Vienna:20260209T182500
DTSTAMP:20260420T031359
CREATED:20250912T070726Z
LAST-MODIFIED:20250912T070726Z
UID:11518-1770656100-1770661500@www.rosinka.at
SUMMARY:СВЕТЛЯЧКИ (5-6)
DESCRIPTION:
URL:https://www.rosinka.at/event/%d1%81%d0%b2%d0%b5%d1%82%d0%bb%d1%8f%d1%87%d0%ba%d0%b8-5-6/2026-02-09/
END:VEVENT
BEGIN:VEVENT
DTSTART;TZID=Europe/Vienna:20260209T171500
DTEND;TZID=Europe/Vienna:20260209T184500
DTSTAMP:20260420T031359
CREATED:20250912T070958Z
LAST-MODIFIED:20250912T070958Z
UID:11671-1770657300-1770662700@www.rosinka.at
SUMMARY:ЖИВОПИСЬ (7-10+)
DESCRIPTION:
URL:https://www.rosinka.at/event/%d0%b6%d0%b8%d0%b2%d0%be%d0%bf%d0%b8%d1%81%d1%8c-7-10-8/2026-02-09/
END:VEVENT
BEGIN:VEVENT
DTSTART;TZID=Europe/Vienna:20260210T160000
DTEND;TZID=Europe/Vienna:20260210T170000
DTSTAMP:20260420T031359
CREATED:20250912T071300Z
LAST-MODIFIED:20250912T071300Z
UID:11611-1770739200-1770742800@www.rosinka.at
SUMMARY:ПЧЕЛКИ (1\,5-3)
DESCRIPTION:
URL:https://www.rosinka.at/event/%d0%bf%d1%87%d0%b5%d0%bb%d0%ba%d0%b8-15-3-2/2026-02-10/
END:VEVENT
BEGIN:VEVENT
DTSTART;TZID=Europe/Vienna:20260210T171500
DTEND;TZID=Europe/Vienna:20260210T181500
DTSTAMP:20260420T031359
CREATED:20250912T071636Z
LAST-MODIFIED:20250912T071636Z
UID:11689-1770743700-1770747300@www.rosinka.at
SUMMARY:ЖИВОПИСЬ (4-6)
DESCRIPTION:
URL:https://www.rosinka.at/event/%d0%b6%d0%b8%d0%b2%d0%be%d0%bf%d0%b8%d1%81%d1%8c-4-6-34/2026-02-10/
END:VEVENT
BEGIN:VEVENT
DTSTART;TZID=Europe/Vienna:20260211T150000
DTEND;TZID=Europe/Vienna:20260211T163000
DTSTAMP:20260420T031359
CREATED:20250912T072939Z
LAST-MODIFIED:20250912T072939Z
UID:11402-1770822000-1770827400@www.rosinka.at
SUMMARY:ЗНАЙЧИКИ (9-10)
DESCRIPTION:
URL:https://www.rosinka.at/event/%d0%b7%d0%bd%d0%b0%d0%b9%d1%87%d0%b8%d0%ba%d0%b8-9-10/2026-02-11/
END:VEVENT
BEGIN:VEVENT
DTSTART;TZID=Europe/Vienna:20260211T161500
DTEND;TZID=Europe/Vienna:20260211T174500
DTSTAMP:20260420T031359
CREATED:20250914T103540Z
LAST-MODIFIED:20250914T103540Z
UID:11544-1770826500-1770831900@www.rosinka.at
SUMMARY:ФАНТАЗЕРЫ (5-6)
DESCRIPTION:
URL:https://www.rosinka.at/event/%d1%84%d0%b0%d0%bd%d1%82%d0%b0%d0%b7%d0%b5%d1%80%d1%8b-5-6/2026-02-11/
END:VEVENT
BEGIN:VEVENT
DTSTART;TZID=Europe/Vienna:20260212T163000
DTEND;TZID=Europe/Vienna:20260212T180000
DTSTAMP:20260420T031359
CREATED:20250914T103839Z
LAST-MODIFIED:20250914T103839Z
UID:11481-1770913800-1770919200@www.rosinka.at
SUMMARY:УМНИКИ (13-15)
DESCRIPTION:
URL:https://www.rosinka.at/event/%d1%83%d0%bc%d0%bd%d0%b8%d0%ba%d0%b8-13-15-4/2026-02-12/
END:VEVENT
BEGIN:VEVENT
DTSTART;TZID=Europe/Vienna:20260212T164500
DTEND;TZID=Europe/Vienna:20260212T181500
DTSTAMP:20260420T031359
CREATED:20250914T103712Z
LAST-MODIFIED:20250914T103712Z
UID:11461-1770914700-1770920100@www.rosinka.at
SUMMARY:СОЛНЫШКИ (6-7)
DESCRIPTION:
URL:https://www.rosinka.at/event/%d1%81%d0%be%d0%bb%d0%bd%d1%8b%d1%88%d0%ba%d0%b8-6-7/2026-02-12/
END:VEVENT
BEGIN:VEVENT
DTSTART;TZID=Europe/Vienna:20260213T143000
DTEND;TZID=Europe/Vienna:20260213T160000
DTSTAMP:20260420T031359
CREATED:20250917T110103Z
LAST-MODIFIED:20250917T110103Z
UID:11563-1770993000-1770998400@www.rosinka.at
SUMMARY:ЛУЧИКИ (6-7)
DESCRIPTION:
URL:https://www.rosinka.at/event/%d0%bb%d1%83%d1%87%d0%b8%d0%ba%d0%b8-6-7/2026-02-13/
END:VEVENT
BEGIN:VEVENT
DTSTART;TZID=Europe/Vienna:20260213T150000
DTEND;TZID=Europe/Vienna:20260213T163000
DTSTAMP:20260420T031359
CREATED:20250914T104045Z
LAST-MODIFIED:20250914T104045Z
UID:11501-1770994800-1771000200@www.rosinka.at
SUMMARY:ФИКСИКИ (7-9)
DESCRIPTION:
URL:https://www.rosinka.at/event/%d1%84%d0%b8%d0%ba%d1%81%d0%b8%d0%ba%d0%b8-7-9/2026-02-13/
END:VEVENT
END:VCALENDAR