BEGIN:VCALENDAR
VERSION:2.0
PRODID:-//Rosinka - ECPv6.15.20//NONSGML v1.0//EN
CALSCALE:GREGORIAN
METHOD:PUBLISH
X-WR-CALNAME:Rosinka
X-ORIGINAL-URL:https://www.rosinka.at
X-WR-CALDESC:Мероприятия для Rosinka
REFRESH-INTERVAL;VALUE=DURATION:PT1H
X-Robots-Tag:noindex
X-PUBLISHED-TTL:PT1H
BEGIN:VTIMEZONE
TZID:Europe/Vienna
BEGIN:DAYLIGHT
TZOFFSETFROM:+0100
TZOFFSETTO:+0200
TZNAME:CEST
DTSTART:20250330T010000
END:DAYLIGHT
BEGIN:STANDARD
TZOFFSETFROM:+0200
TZOFFSETTO:+0100
TZNAME:CET
DTSTART:20251026T010000
END:STANDARD
BEGIN:DAYLIGHT
TZOFFSETFROM:+0100
TZOFFSETTO:+0200
TZNAME:CEST
DTSTART:20260329T010000
END:DAYLIGHT
BEGIN:STANDARD
TZOFFSETFROM:+0200
TZOFFSETTO:+0100
TZNAME:CET
DTSTART:20261025T010000
END:STANDARD
BEGIN:DAYLIGHT
TZOFFSETFROM:+0100
TZOFFSETTO:+0200
TZNAME:CEST
DTSTART:20270328T010000
END:DAYLIGHT
BEGIN:STANDARD
TZOFFSETFROM:+0200
TZOFFSETTO:+0100
TZNAME:CET
DTSTART:20271031T010000
END:STANDARD
END:VTIMEZONE
BEGIN:VEVENT
DTSTART;TZID=Europe/Vienna:20260320T150000
DTEND;TZID=Europe/Vienna:20260320T163000
DTSTAMP:20260420T082120
CREATED:20260222T172147Z
LAST-MODIFIED:20260222T172147Z
UID:12049-1774018800-1774024200@www.rosinka.at
SUMMARY:ФИКСИКИ (7-9)
DESCRIPTION:
URL:https://www.rosinka.at/event/%d1%84%d0%b8%d0%ba%d1%81%d0%b8%d0%ba%d0%b8-7-9-2/2026-03-20/
END:VEVENT
BEGIN:VEVENT
DTSTART;TZID=Europe/Vienna:20260320T164500
DTEND;TZID=Europe/Vienna:20260320T174500
DTSTAMP:20260420T082120
CREATED:20260222T170313Z
LAST-MODIFIED:20260222T170313Z
UID:11971-1774025100-1774028700@www.rosinka.at
SUMMARY:МАЛЫШАРИКИ (3-4)
DESCRIPTION:
URL:https://www.rosinka.at/event/%d0%bc%d0%b0%d0%bb%d1%8b%d1%88%d0%b0%d1%80%d0%b8%d0%ba%d0%b8-3-4-4/2026-03-20/
END:VEVENT
BEGIN:VEVENT
DTSTART;TZID=Europe/Vienna:20260321T091500
DTEND;TZID=Europe/Vienna:20260321T101500
DTSTAMP:20260420T082120
CREATED:20260303T063051Z
LAST-MODIFIED:20260303T063051Z
UID:12167-1774084500-1774088100@www.rosinka.at
SUMMARY:РОБОТОТЕХНИКА
DESCRIPTION:
URL:https://www.rosinka.at/event/%d1%80%d0%be%d0%b1%d0%be%d1%82%d0%be%d1%82%d0%b5%d1%85%d0%bd%d0%b8%d0%ba%d0%b0-15/2026-03-21/
END:VEVENT
BEGIN:VEVENT
DTSTART;TZID=Europe/Vienna:20260321T093000
DTEND;TZID=Europe/Vienna:20260321T103000
DTSTAMP:20260420T082120
CREATED:20260222T172523Z
LAST-MODIFIED:20260222T172842Z
UID:12085-1774085400-1774089000@www.rosinka.at
SUMMARY:МУЗЫКАЛЬНАЯ МАСТЕРСКАЯ
DESCRIPTION:
URL:https://www.rosinka.at/event/%d0%bc%d1%83%d0%b7%d1%8b%d0%ba%d0%b0%d0%bb%d1%8c%d0%bd%d0%b0%d1%8f-%d0%bc%d0%b0%d1%81%d1%82%d0%b5%d1%80%d1%81%d0%ba%d0%b0%d1%8f-2/2026-03-21/
END:VEVENT
BEGIN:VEVENT
DTSTART;TZID=Europe/Vienna:20260321T110000
DTEND;TZID=Europe/Vienna:20260321T120000
DTSTAMP:20260420T082120
CREATED:20260222T172704Z
LAST-MODIFIED:20260222T172704Z
UID:12103-1774090800-1774094400@www.rosinka.at
SUMMARY:ТЕАТРАЛЬНАЯ СТУДИЯ
DESCRIPTION:
URL:https://www.rosinka.at/event/%d1%82%d0%b5%d0%b0%d1%82%d1%80%d0%b0%d0%bb%d1%8c%d0%bd%d0%b0%d1%8f-%d1%81%d1%82%d1%83%d0%b4%d0%b8%d1%8f-3/2026-03-21/
END:VEVENT
BEGIN:VEVENT
DTSTART;TZID=Europe/Vienna:20260323T165500
DTEND;TZID=Europe/Vienna:20260323T182500
DTSTAMP:20260420T082120
CREATED:20260222T164441Z
LAST-MODIFIED:20260222T164441Z
UID:11825-1774284900-1774290300@www.rosinka.at
SUMMARY:СВЕТЛЯЧКИ (5-6)
DESCRIPTION:
URL:https://www.rosinka.at/event/%d1%81%d0%b2%d0%b5%d1%82%d0%bb%d1%8f%d1%87%d0%ba%d0%b8-5-6-3/2026-03-23/
END:VEVENT
BEGIN:VEVENT
DTSTART;TZID=Europe/Vienna:20260324T160000
DTEND;TZID=Europe/Vienna:20260324T170000
DTSTAMP:20260420T082120
CREATED:20260222T164148Z
LAST-MODIFIED:20260222T164148Z
UID:11991-1774368000-1774371600@www.rosinka.at
SUMMARY:ПЧЕЛКИ (1\,5-3)
DESCRIPTION:
URL:https://www.rosinka.at/event/%d0%bf%d1%87%d0%b5%d0%bb%d0%ba%d0%b8-15-3-4/2026-03-24/
END:VEVENT
BEGIN:VEVENT
DTSTART;TZID=Europe/Vienna:20260325T150000
DTEND;TZID=Europe/Vienna:20260325T163000
DTSTAMP:20260420T082120
CREATED:20260222T165555Z
LAST-MODIFIED:20260222T165555Z
UID:11897-1774450800-1774456200@www.rosinka.at
SUMMARY:ЗНАЙЧИКИ (9-10)
DESCRIPTION:
URL:https://www.rosinka.at/event/%d0%b7%d0%bd%d0%b0%d0%b9%d1%87%d0%b8%d0%ba%d0%b8-9-10-2/2026-03-25/
END:VEVENT
BEGIN:VEVENT
DTSTART;TZID=Europe/Vienna:20260325T161500
DTEND;TZID=Europe/Vienna:20260325T174500
DTSTAMP:20260420T082120
CREATED:20260222T165055Z
LAST-MODIFIED:20260222T165055Z
UID:11878-1774455300-1774460700@www.rosinka.at
SUMMARY:ФАНТАЗЕРЫ (5-6)
DESCRIPTION:
URL:https://www.rosinka.at/event/%d1%84%d0%b0%d0%bd%d1%82%d0%b0%d0%b7%d0%b5%d1%80%d1%8b-5-6-3/2026-03-25/
END:VEVENT
BEGIN:VEVENT
DTSTART;TZID=Europe/Vienna:20260325T164500
DTEND;TZID=Europe/Vienna:20260325T181500
DTSTAMP:20260420T082120
CREATED:20260222T165656Z
LAST-MODIFIED:20260222T165656Z
UID:11916-1774457100-1774462500@www.rosinka.at
SUMMARY:БУКВОЕЖКИ (10-11)
DESCRIPTION:
URL:https://www.rosinka.at/event/%d0%b1%d1%83%d0%ba%d0%b2%d0%be%d0%b5%d0%b6%d0%ba%d0%b8-10-11-2/2026-03-25/
END:VEVENT
BEGIN:VEVENT
DTSTART;TZID=Europe/Vienna:20260326T163000
DTEND;TZID=Europe/Vienna:20260326T180000
DTSTAMP:20260420T082120
CREATED:20260222T165906Z
LAST-MODIFIED:20260224T121809Z
UID:11935-1774542600-1774548000@www.rosinka.at
SUMMARY:УМНИКИ (13-15)
DESCRIPTION:
URL:https://www.rosinka.at/event/%d1%83%d0%bc%d0%bd%d0%b8%d0%ba%d0%b8-13-15-5-2026-03-05/2026-03-26/
END:VEVENT
BEGIN:VEVENT
DTSTART;TZID=Europe/Vienna:20260326T164500
DTEND;TZID=Europe/Vienna:20260326T181500
DTSTAMP:20260420T082120
CREATED:20260222T170049Z
LAST-MODIFIED:20260222T171824Z
UID:12020-1774543500-1774548900@www.rosinka.at
SUMMARY:СОЛНЫШКИ (6-7)
DESCRIPTION:
URL:https://www.rosinka.at/event/%d1%81%d0%be%d0%bb%d0%bd%d1%8b%d1%88%d0%ba%d0%b8-6-7-2/2026-03-26/
END:VEVENT
BEGIN:VEVENT
DTSTART;TZID=Europe/Vienna:20260327T145000
DTEND;TZID=Europe/Vienna:20260327T162000
DTSTAMP:20260420T082120
CREATED:20260222T172352Z
LAST-MODIFIED:20260222T172352Z
UID:12068-1774623000-1774628400@www.rosinka.at
SUMMARY:ЛУЧИКИ (6-7)
DESCRIPTION:
URL:https://www.rosinka.at/event/%d0%bb%d1%83%d1%87%d0%b8%d0%ba%d0%b8-6-7-4/2026-03-27/
END:VEVENT
BEGIN:VEVENT
DTSTART;TZID=Europe/Vienna:20260327T150000
DTEND;TZID=Europe/Vienna:20260327T163000
DTSTAMP:20260420T082120
CREATED:20260222T172147Z
LAST-MODIFIED:20260222T172147Z
UID:12050-1774623600-1774629000@www.rosinka.at
SUMMARY:ФИКСИКИ (7-9)
DESCRIPTION:
URL:https://www.rosinka.at/event/%d1%84%d0%b8%d0%ba%d1%81%d0%b8%d0%ba%d0%b8-7-9-2/2026-03-27/
END:VEVENT
BEGIN:VEVENT
DTSTART;TZID=Europe/Vienna:20260327T164500
DTEND;TZID=Europe/Vienna:20260327T174500
DTSTAMP:20260420T082120
CREATED:20260222T170313Z
LAST-MODIFIED:20260222T170313Z
UID:11972-1774629900-1774633500@www.rosinka.at
SUMMARY:МАЛЫШАРИКИ (3-4)
DESCRIPTION:
URL:https://www.rosinka.at/event/%d0%bc%d0%b0%d0%bb%d1%8b%d1%88%d0%b0%d1%80%d0%b8%d0%ba%d0%b8-3-4-4/2026-03-27/
END:VEVENT
BEGIN:VEVENT
DTSTART;VALUE=DATE:20260328
DTEND;VALUE=DATE:20260407
DTSTAMP:20260420T082120
CREATED:20250904T151813Z
LAST-MODIFIED:20250904T151813Z
UID:11296-1774656000-1775519999@www.rosinka.at
SUMMARY:ПАСХАЛЬНЫЕ КАНИКУЛЫ
DESCRIPTION:
URL:https://www.rosinka.at/event/%d0%bf%d0%b0%d1%81%d1%85%d0%b0%d0%bb%d1%8c%d0%bd%d1%8b%d0%b5-%d0%ba%d0%b0%d0%bd%d0%b8%d0%ba%d1%83%d0%bb%d1%8b-9/
END:VEVENT
BEGIN:VEVENT
DTSTART;TZID=Europe/Vienna:20260407T160000
DTEND;TZID=Europe/Vienna:20260407T170000
DTSTAMP:20260420T082120
CREATED:20260222T164148Z
LAST-MODIFIED:20260222T164148Z
UID:11992-1775577600-1775581200@www.rosinka.at
SUMMARY:ПЧЕЛКИ (1\,5-3)
DESCRIPTION:
URL:https://www.rosinka.at/event/%d0%bf%d1%87%d0%b5%d0%bb%d0%ba%d0%b8-15-3-4/2026-04-07/
END:VEVENT
BEGIN:VEVENT
DTSTART;TZID=Europe/Vienna:20260408T150000
DTEND;TZID=Europe/Vienna:20260408T163000
DTSTAMP:20260420T082120
CREATED:20260222T165555Z
LAST-MODIFIED:20260222T165555Z
UID:11898-1775660400-1775665800@www.rosinka.at
SUMMARY:ЗНАЙЧИКИ (9-10)
DESCRIPTION:
URL:https://www.rosinka.at/event/%d0%b7%d0%bd%d0%b0%d0%b9%d1%87%d0%b8%d0%ba%d0%b8-9-10-2/2026-04-08/
END:VEVENT
BEGIN:VEVENT
DTSTART;TZID=Europe/Vienna:20260408T161500
DTEND;TZID=Europe/Vienna:20260408T174500
DTSTAMP:20260420T082120
CREATED:20260222T165055Z
LAST-MODIFIED:20260222T165055Z
UID:11879-1775664900-1775670300@www.rosinka.at
SUMMARY:ФАНТАЗЕРЫ (5-6)
DESCRIPTION:
URL:https://www.rosinka.at/event/%d1%84%d0%b0%d0%bd%d1%82%d0%b0%d0%b7%d0%b5%d1%80%d1%8b-5-6-3/2026-04-08/
END:VEVENT
BEGIN:VEVENT
DTSTART;TZID=Europe/Vienna:20260408T164500
DTEND;TZID=Europe/Vienna:20260408T181500
DTSTAMP:20260420T082120
CREATED:20260222T165656Z
LAST-MODIFIED:20260222T165656Z
UID:11917-1775666700-1775672100@www.rosinka.at
SUMMARY:БУКВОЕЖКИ (10-11)
DESCRIPTION:
URL:https://www.rosinka.at/event/%d0%b1%d1%83%d0%ba%d0%b2%d0%be%d0%b5%d0%b6%d0%ba%d0%b8-10-11-2/2026-04-08/
END:VEVENT
BEGIN:VEVENT
DTSTART;TZID=Europe/Vienna:20260409T163000
DTEND;TZID=Europe/Vienna:20260409T180000
DTSTAMP:20260420T082120
CREATED:20260222T165906Z
LAST-MODIFIED:20260224T121809Z
UID:11936-1775752200-1775757600@www.rosinka.at
SUMMARY:УМНИКИ (13-15)
DESCRIPTION:
URL:https://www.rosinka.at/event/%d1%83%d0%bc%d0%bd%d0%b8%d0%ba%d0%b8-13-15-5-2026-03-05/2026-04-09/
END:VEVENT
BEGIN:VEVENT
DTSTART;TZID=Europe/Vienna:20260409T164500
DTEND;TZID=Europe/Vienna:20260409T181500
DTSTAMP:20260420T082120
CREATED:20260222T170049Z
LAST-MODIFIED:20260222T171824Z
UID:12021-1775753100-1775758500@www.rosinka.at
SUMMARY:СОЛНЫШКИ (6-7)
DESCRIPTION:
URL:https://www.rosinka.at/event/%d1%81%d0%be%d0%bb%d0%bd%d1%8b%d1%88%d0%ba%d0%b8-6-7-2/2026-04-09/
END:VEVENT
BEGIN:VEVENT
DTSTART;TZID=Europe/Vienna:20260410T145000
DTEND;TZID=Europe/Vienna:20260410T162000
DTSTAMP:20260420T082120
CREATED:20260222T172352Z
LAST-MODIFIED:20260222T172352Z
UID:12069-1775832600-1775838000@www.rosinka.at
SUMMARY:ЛУЧИКИ (6-7)
DESCRIPTION:
URL:https://www.rosinka.at/event/%d0%bb%d1%83%d1%87%d0%b8%d0%ba%d0%b8-6-7-4/2026-04-10/
END:VEVENT
BEGIN:VEVENT
DTSTART;TZID=Europe/Vienna:20260410T150000
DTEND;TZID=Europe/Vienna:20260410T163000
DTSTAMP:20260420T082120
CREATED:20260222T172147Z
LAST-MODIFIED:20260222T172147Z
UID:12051-1775833200-1775838600@www.rosinka.at
SUMMARY:ФИКСИКИ (7-9)
DESCRIPTION:
URL:https://www.rosinka.at/event/%d1%84%d0%b8%d0%ba%d1%81%d0%b8%d0%ba%d0%b8-7-9-2/2026-04-10/
END:VEVENT
BEGIN:VEVENT
DTSTART;TZID=Europe/Vienna:20260410T164500
DTEND;TZID=Europe/Vienna:20260410T174500
DTSTAMP:20260420T082120
CREATED:20260222T170313Z
LAST-MODIFIED:20260222T170313Z
UID:11973-1775839500-1775843100@www.rosinka.at
SUMMARY:МАЛЫШАРИКИ (3-4)
DESCRIPTION:
URL:https://www.rosinka.at/event/%d0%bc%d0%b0%d0%bb%d1%8b%d1%88%d0%b0%d1%80%d0%b8%d0%ba%d0%b8-3-4-4/2026-04-10/
END:VEVENT
BEGIN:VEVENT
DTSTART;TZID=Europe/Vienna:20260411T093000
DTEND;TZID=Europe/Vienna:20260411T103000
DTSTAMP:20260420T082120
CREATED:20260222T172523Z
LAST-MODIFIED:20260222T172842Z
UID:12087-1775899800-1775903400@www.rosinka.at
SUMMARY:МУЗЫКАЛЬНАЯ МАСТЕРСКАЯ
DESCRIPTION:
URL:https://www.rosinka.at/event/%d0%bc%d1%83%d0%b7%d1%8b%d0%ba%d0%b0%d0%bb%d1%8c%d0%bd%d0%b0%d1%8f-%d0%bc%d0%b0%d1%81%d1%82%d0%b5%d1%80%d1%81%d0%ba%d0%b0%d1%8f-2/2026-04-11/
END:VEVENT
BEGIN:VEVENT
DTSTART;TZID=Europe/Vienna:20260411T110000
DTEND;TZID=Europe/Vienna:20260411T120000
DTSTAMP:20260420T082120
CREATED:20260222T172704Z
LAST-MODIFIED:20260222T172704Z
UID:12104-1775905200-1775908800@www.rosinka.at
SUMMARY:ТЕАТРАЛЬНАЯ СТУДИЯ
DESCRIPTION:
URL:https://www.rosinka.at/event/%d1%82%d0%b5%d0%b0%d1%82%d1%80%d0%b0%d0%bb%d1%8c%d0%bd%d0%b0%d1%8f-%d1%81%d1%82%d1%83%d0%b4%d0%b8%d1%8f-3/2026-04-11/
END:VEVENT
BEGIN:VEVENT
DTSTART;TZID=Europe/Vienna:20260413T165500
DTEND;TZID=Europe/Vienna:20260413T182500
DTSTAMP:20260420T082120
CREATED:20260222T164441Z
LAST-MODIFIED:20260222T164441Z
UID:11826-1776099300-1776104700@www.rosinka.at
SUMMARY:СВЕТЛЯЧКИ (5-6)
DESCRIPTION:
URL:https://www.rosinka.at/event/%d1%81%d0%b2%d0%b5%d1%82%d0%bb%d1%8f%d1%87%d0%ba%d0%b8-5-6-3/2026-04-13/
END:VEVENT
BEGIN:VEVENT
DTSTART;TZID=Europe/Vienna:20260413T171500
DTEND;TZID=Europe/Vienna:20260413T184500
DTSTAMP:20260420T082120
CREATED:20260222T164625Z
LAST-MODIFIED:20260223T124851Z
UID:11843-1776100500-1776105900@www.rosinka.at
SUMMARY:ЖИВОПИСЬ (7-10+)
DESCRIPTION:
URL:https://www.rosinka.at/event/%d0%b6%d0%b8%d0%b2%d0%be%d0%bf%d0%b8%d1%81%d1%8c-7-10-9/2026-04-13/
END:VEVENT
BEGIN:VEVENT
DTSTART;TZID=Europe/Vienna:20260414T160000
DTEND;TZID=Europe/Vienna:20260414T170000
DTSTAMP:20260420T082120
CREATED:20260222T164148Z
LAST-MODIFIED:20260222T164148Z
UID:11993-1776182400-1776186000@www.rosinka.at
SUMMARY:ПЧЕЛКИ (1\,5-3)
DESCRIPTION:
URL:https://www.rosinka.at/event/%d0%bf%d1%87%d0%b5%d0%bb%d0%ba%d0%b8-15-3-4/2026-04-14/
END:VEVENT
END:VCALENDAR