BEGIN:VCALENDAR
VERSION:2.0
PRODID:-//Rosinka - ECPv6.15.20//NONSGML v1.0//EN
CALSCALE:GREGORIAN
METHOD:PUBLISH
X-WR-CALNAME:Rosinka
X-ORIGINAL-URL:https://www.rosinka.at
X-WR-CALDESC:Мероприятия для Rosinka
REFRESH-INTERVAL;VALUE=DURATION:PT1H
X-Robots-Tag:noindex
X-PUBLISHED-TTL:PT1H
BEGIN:VTIMEZONE
TZID:Europe/Vienna
BEGIN:DAYLIGHT
TZOFFSETFROM:+0100
TZOFFSETTO:+0200
TZNAME:CEST
DTSTART:20250330T010000
END:DAYLIGHT
BEGIN:STANDARD
TZOFFSETFROM:+0200
TZOFFSETTO:+0100
TZNAME:CET
DTSTART:20251026T010000
END:STANDARD
BEGIN:DAYLIGHT
TZOFFSETFROM:+0100
TZOFFSETTO:+0200
TZNAME:CEST
DTSTART:20260329T010000
END:DAYLIGHT
BEGIN:STANDARD
TZOFFSETFROM:+0200
TZOFFSETTO:+0100
TZNAME:CET
DTSTART:20261025T010000
END:STANDARD
BEGIN:DAYLIGHT
TZOFFSETFROM:+0100
TZOFFSETTO:+0200
TZNAME:CEST
DTSTART:20270328T010000
END:DAYLIGHT
BEGIN:STANDARD
TZOFFSETFROM:+0200
TZOFFSETTO:+0100
TZNAME:CET
DTSTART:20271031T010000
END:STANDARD
END:VTIMEZONE
BEGIN:VEVENT
DTSTART;TZID=Europe/Vienna:20260513T161500
DTEND;TZID=Europe/Vienna:20260513T174500
DTSTAMP:20260419T221623
CREATED:20260222T165055Z
LAST-MODIFIED:20260222T165055Z
UID:11884-1778688900-1778694300@www.rosinka.at
SUMMARY:ФАНТАЗЕРЫ (5-6)
DESCRIPTION:
URL:https://www.rosinka.at/event/%d1%84%d0%b0%d0%bd%d1%82%d0%b0%d0%b7%d0%b5%d1%80%d1%8b-5-6-3/2026-05-13/
END:VEVENT
BEGIN:VEVENT
DTSTART;TZID=Europe/Vienna:20260513T164500
DTEND;TZID=Europe/Vienna:20260513T181500
DTSTAMP:20260419T221623
CREATED:20260222T165656Z
LAST-MODIFIED:20260222T165656Z
UID:11922-1778690700-1778696100@www.rosinka.at
SUMMARY:БУКВОЕЖКИ (10-11)
DESCRIPTION:
URL:https://www.rosinka.at/event/%d0%b1%d1%83%d0%ba%d0%b2%d0%be%d0%b5%d0%b6%d0%ba%d0%b8-10-11-2/2026-05-13/
END:VEVENT
BEGIN:VEVENT
DTSTART;VALUE=DATE:20260514
DTEND;VALUE=DATE:20260515
DTSTAMP:20260419T221623
CREATED:20250904T151934Z
LAST-MODIFIED:20250904T151934Z
UID:11300-1778716800-1778803199@www.rosinka.at
SUMMARY:НЕРАБОЧИЙ ДЕНЬ
DESCRIPTION:
URL:https://www.rosinka.at/event/%d0%bd%d0%b5%d1%80%d0%b0%d0%b1%d0%be%d1%87%d0%b8%d0%b9-%d0%b4%d0%b5%d0%bd%d1%8c-6/
END:VEVENT
BEGIN:VEVENT
DTSTART;TZID=Europe/Vienna:20260515T145000
DTEND;TZID=Europe/Vienna:20260515T162000
DTSTAMP:20260419T221623
CREATED:20260222T172352Z
LAST-MODIFIED:20260222T172352Z
UID:12073-1778856600-1778862000@www.rosinka.at
SUMMARY:ЛУЧИКИ (6-7)
DESCRIPTION:
URL:https://www.rosinka.at/event/%d0%bb%d1%83%d1%87%d0%b8%d0%ba%d0%b8-6-7-4/2026-05-15/
END:VEVENT
BEGIN:VEVENT
DTSTART;TZID=Europe/Vienna:20260515T150000
DTEND;TZID=Europe/Vienna:20260515T163000
DTSTAMP:20260419T221623
CREATED:20260222T172147Z
LAST-MODIFIED:20260222T172147Z
UID:12055-1778857200-1778862600@www.rosinka.at
SUMMARY:ФИКСИКИ (7-9)
DESCRIPTION:
URL:https://www.rosinka.at/event/%d1%84%d0%b8%d0%ba%d1%81%d0%b8%d0%ba%d0%b8-7-9-2/2026-05-15/
END:VEVENT
BEGIN:VEVENT
DTSTART;TZID=Europe/Vienna:20260515T164500
DTEND;TZID=Europe/Vienna:20260515T174500
DTSTAMP:20260419T221623
CREATED:20260222T170313Z
LAST-MODIFIED:20260222T170313Z
UID:11977-1778863500-1778867100@www.rosinka.at
SUMMARY:МАЛЫШАРИКИ (3-4)
DESCRIPTION:
URL:https://www.rosinka.at/event/%d0%bc%d0%b0%d0%bb%d1%8b%d1%88%d0%b0%d1%80%d0%b8%d0%ba%d0%b8-3-4-4/2026-05-15/
END:VEVENT
BEGIN:VEVENT
DTSTART;TZID=Europe/Vienna:20260516T091500
DTEND;TZID=Europe/Vienna:20260516T101500
DTSTAMP:20260419T221623
CREATED:20260303T063051Z
LAST-MODIFIED:20260303T063051Z
UID:12172-1778922900-1778926500@www.rosinka.at
SUMMARY:РОБОТОТЕХНИКА
DESCRIPTION:
URL:https://www.rosinka.at/event/%d1%80%d0%be%d0%b1%d0%be%d1%82%d0%be%d1%82%d0%b5%d1%85%d0%bd%d0%b8%d0%ba%d0%b0-15/2026-05-16/
END:VEVENT
BEGIN:VEVENT
DTSTART;TZID=Europe/Vienna:20260516T093000
DTEND;TZID=Europe/Vienna:20260516T103000
DTSTAMP:20260419T221623
CREATED:20260222T172523Z
LAST-MODIFIED:20260222T172843Z
UID:12091-1778923800-1778927400@www.rosinka.at
SUMMARY:МУЗЫКАЛЬНАЯ МАСТЕРСКАЯ
DESCRIPTION:
URL:https://www.rosinka.at/event/%d0%bc%d1%83%d0%b7%d1%8b%d0%ba%d0%b0%d0%bb%d1%8c%d0%bd%d0%b0%d1%8f-%d0%bc%d0%b0%d1%81%d1%82%d0%b5%d1%80%d1%81%d0%ba%d0%b0%d1%8f-2/2026-05-16/
END:VEVENT
BEGIN:VEVENT
DTSTART;TZID=Europe/Vienna:20260516T110000
DTEND;TZID=Europe/Vienna:20260516T120000
DTSTAMP:20260419T221623
CREATED:20260222T172704Z
LAST-MODIFIED:20260222T172704Z
UID:12108-1778929200-1778932800@www.rosinka.at
SUMMARY:ТЕАТРАЛЬНАЯ СТУДИЯ
DESCRIPTION:
URL:https://www.rosinka.at/event/%d1%82%d0%b5%d0%b0%d1%82%d1%80%d0%b0%d0%bb%d1%8c%d0%bd%d0%b0%d1%8f-%d1%81%d1%82%d1%83%d0%b4%d0%b8%d1%8f-3/2026-05-16/
END:VEVENT
BEGIN:VEVENT
DTSTART;TZID=Europe/Vienna:20260518T165500
DTEND;TZID=Europe/Vienna:20260518T182500
DTSTAMP:20260419T221623
CREATED:20260222T164441Z
LAST-MODIFIED:20260222T164441Z
UID:11831-1779123300-1779128700@www.rosinka.at
SUMMARY:СВЕТЛЯЧКИ (5-6)
DESCRIPTION:
URL:https://www.rosinka.at/event/%d1%81%d0%b2%d0%b5%d1%82%d0%bb%d1%8f%d1%87%d0%ba%d0%b8-5-6-3/2026-05-18/
END:VEVENT
BEGIN:VEVENT
DTSTART;TZID=Europe/Vienna:20260518T171500
DTEND;TZID=Europe/Vienna:20260518T184500
DTSTAMP:20260419T221623
CREATED:20260222T164625Z
LAST-MODIFIED:20260223T124852Z
UID:11848-1779124500-1779129900@www.rosinka.at
SUMMARY:ЖИВОПИСЬ (7-10+)
DESCRIPTION:
URL:https://www.rosinka.at/event/%d0%b6%d0%b8%d0%b2%d0%be%d0%bf%d0%b8%d1%81%d1%8c-7-10-9/2026-05-18/
END:VEVENT
BEGIN:VEVENT
DTSTART;TZID=Europe/Vienna:20260519T160000
DTEND;TZID=Europe/Vienna:20260519T170000
DTSTAMP:20260419T221623
CREATED:20260222T164148Z
LAST-MODIFIED:20260222T164148Z
UID:11998-1779206400-1779210000@www.rosinka.at
SUMMARY:ПЧЕЛКИ (1\,5-3)
DESCRIPTION:
URL:https://www.rosinka.at/event/%d0%bf%d1%87%d0%b5%d0%bb%d0%ba%d0%b8-15-3-4/2026-05-19/
END:VEVENT
BEGIN:VEVENT
DTSTART;TZID=Europe/Vienna:20260519T171500
DTEND;TZID=Europe/Vienna:20260519T181500
DTSTAMP:20260419T221623
CREATED:20260222T164739Z
LAST-MODIFIED:20260223T124954Z
UID:11867-1779210900-1779214500@www.rosinka.at
SUMMARY:ЖИВОПИСЬ (4-6)
DESCRIPTION:
URL:https://www.rosinka.at/event/%d0%b6%d0%b8%d0%b2%d0%be%d0%bf%d0%b8%d1%81%d1%8c-4-6-35/2026-05-19/
END:VEVENT
BEGIN:VEVENT
DTSTART;TZID=Europe/Vienna:20260520T150000
DTEND;TZID=Europe/Vienna:20260520T163000
DTSTAMP:20260419T221623
CREATED:20260222T165555Z
LAST-MODIFIED:20260222T165555Z
UID:11905-1779289200-1779294600@www.rosinka.at
SUMMARY:ЗНАЙЧИКИ (9-10)
DESCRIPTION:
URL:https://www.rosinka.at/event/%d0%b7%d0%bd%d0%b0%d0%b9%d1%87%d0%b8%d0%ba%d0%b8-9-10-2/2026-05-20/
END:VEVENT
BEGIN:VEVENT
DTSTART;TZID=Europe/Vienna:20260520T161500
DTEND;TZID=Europe/Vienna:20260520T174500
DTSTAMP:20260419T221623
CREATED:20260222T165055Z
LAST-MODIFIED:20260222T165055Z
UID:11886-1779293700-1779299100@www.rosinka.at
SUMMARY:ФАНТАЗЕРЫ (5-6)
DESCRIPTION:
URL:https://www.rosinka.at/event/%d1%84%d0%b0%d0%bd%d1%82%d0%b0%d0%b7%d0%b5%d1%80%d1%8b-5-6-3/2026-05-20/
END:VEVENT
BEGIN:VEVENT
DTSTART;TZID=Europe/Vienna:20260520T164500
DTEND;TZID=Europe/Vienna:20260520T181500
DTSTAMP:20260419T221623
CREATED:20260222T165656Z
LAST-MODIFIED:20260222T165656Z
UID:11924-1779295500-1779300900@www.rosinka.at
SUMMARY:БУКВОЕЖКИ (10-11)
DESCRIPTION:
URL:https://www.rosinka.at/event/%d0%b1%d1%83%d0%ba%d0%b2%d0%be%d0%b5%d0%b6%d0%ba%d0%b8-10-11-2/2026-05-20/
END:VEVENT
BEGIN:VEVENT
DTSTART;TZID=Europe/Vienna:20260521T163000
DTEND;TZID=Europe/Vienna:20260521T180000
DTSTAMP:20260419T221623
CREATED:20260222T165906Z
LAST-MODIFIED:20260224T121809Z
UID:11941-1779381000-1779386400@www.rosinka.at
SUMMARY:УМНИКИ (13-15)
DESCRIPTION:
URL:https://www.rosinka.at/event/%d1%83%d0%bc%d0%bd%d0%b8%d0%ba%d0%b8-13-15-5-2026-03-05/2026-05-21/
END:VEVENT
BEGIN:VEVENT
DTSTART;TZID=Europe/Vienna:20260521T164500
DTEND;TZID=Europe/Vienna:20260521T181500
DTSTAMP:20260419T221623
CREATED:20260222T170049Z
LAST-MODIFIED:20260222T171826Z
UID:12026-1779381900-1779387300@www.rosinka.at
SUMMARY:СОЛНЫШКИ (6-7)
DESCRIPTION:
URL:https://www.rosinka.at/event/%d1%81%d0%be%d0%bb%d0%bd%d1%8b%d1%88%d0%ba%d0%b8-6-7-2/2026-05-21/
END:VEVENT
BEGIN:VEVENT
DTSTART;TZID=Europe/Vienna:20260522T145000
DTEND;TZID=Europe/Vienna:20260522T162000
DTSTAMP:20260419T221623
CREATED:20260222T172352Z
LAST-MODIFIED:20260222T172352Z
UID:12074-1779461400-1779466800@www.rosinka.at
SUMMARY:ЛУЧИКИ (6-7)
DESCRIPTION:
URL:https://www.rosinka.at/event/%d0%bb%d1%83%d1%87%d0%b8%d0%ba%d0%b8-6-7-4/2026-05-22/
END:VEVENT
BEGIN:VEVENT
DTSTART;TZID=Europe/Vienna:20260522T150000
DTEND;TZID=Europe/Vienna:20260522T163000
DTSTAMP:20260419T221623
CREATED:20260222T172147Z
LAST-MODIFIED:20260222T172147Z
UID:12056-1779462000-1779467400@www.rosinka.at
SUMMARY:ФИКСИКИ (7-9)
DESCRIPTION:
URL:https://www.rosinka.at/event/%d1%84%d0%b8%d0%ba%d1%81%d0%b8%d0%ba%d0%b8-7-9-2/2026-05-22/
END:VEVENT
BEGIN:VEVENT
DTSTART;TZID=Europe/Vienna:20260522T164500
DTEND;TZID=Europe/Vienna:20260522T174500
DTSTAMP:20260419T221623
CREATED:20260222T170313Z
LAST-MODIFIED:20260222T170313Z
UID:11978-1779468300-1779471900@www.rosinka.at
SUMMARY:МАЛЫШАРИКИ (3-4)
DESCRIPTION:
URL:https://www.rosinka.at/event/%d0%bc%d0%b0%d0%bb%d1%8b%d1%88%d0%b0%d1%80%d0%b8%d0%ba%d0%b8-3-4-4/2026-05-22/
END:VEVENT
BEGIN:VEVENT
DTSTART;TZID=Europe/Vienna:20260523T091500
DTEND;TZID=Europe/Vienna:20260523T101500
DTSTAMP:20260419T221623
CREATED:20260303T063051Z
LAST-MODIFIED:20260303T063051Z
UID:12173-1779527700-1779531300@www.rosinka.at
SUMMARY:РОБОТОТЕХНИКА
DESCRIPTION:
URL:https://www.rosinka.at/event/%d1%80%d0%be%d0%b1%d0%be%d1%82%d0%be%d1%82%d0%b5%d1%85%d0%bd%d0%b8%d0%ba%d0%b0-15/2026-05-23/
END:VEVENT
BEGIN:VEVENT
DTSTART;TZID=Europe/Vienna:20260523T093000
DTEND;TZID=Europe/Vienna:20260523T103000
DTSTAMP:20260419T221623
CREATED:20260222T172523Z
LAST-MODIFIED:20260222T172843Z
UID:12092-1779528600-1779532200@www.rosinka.at
SUMMARY:МУЗЫКАЛЬНАЯ МАСТЕРСКАЯ
DESCRIPTION:
URL:https://www.rosinka.at/event/%d0%bc%d1%83%d0%b7%d1%8b%d0%ba%d0%b0%d0%bb%d1%8c%d0%bd%d0%b0%d1%8f-%d0%bc%d0%b0%d1%81%d1%82%d0%b5%d1%80%d1%81%d0%ba%d0%b0%d1%8f-2/2026-05-23/
END:VEVENT
BEGIN:VEVENT
DTSTART;TZID=Europe/Vienna:20260523T110000
DTEND;TZID=Europe/Vienna:20260523T120000
DTSTAMP:20260419T221623
CREATED:20260222T172704Z
LAST-MODIFIED:20260222T172704Z
UID:12109-1779534000-1779537600@www.rosinka.at
SUMMARY:ТЕАТРАЛЬНАЯ СТУДИЯ
DESCRIPTION:
URL:https://www.rosinka.at/event/%d1%82%d0%b5%d0%b0%d1%82%d1%80%d0%b0%d0%bb%d1%8c%d0%bd%d0%b0%d1%8f-%d1%81%d1%82%d1%83%d0%b4%d0%b8%d1%8f-3/2026-05-23/
END:VEVENT
BEGIN:VEVENT
DTSTART;VALUE=DATE:20260525
DTEND;VALUE=DATE:20260526
DTSTAMP:20260419T221623
CREATED:20250904T152014Z
LAST-MODIFIED:20260211T195132Z
UID:11302-1779667200-1779753599@www.rosinka.at
SUMMARY:НЕРАБОЧИЙ ДЕНЬ
DESCRIPTION:
URL:https://www.rosinka.at/event/%d0%bd%d0%b5%d1%80%d0%b0%d0%b1%d0%be%d1%87%d0%b8%d0%b9-%d0%b4%d0%b5%d0%bd%d1%8c-7/
END:VEVENT
BEGIN:VEVENT
DTSTART;TZID=Europe/Vienna:20260526T160000
DTEND;TZID=Europe/Vienna:20260526T170000
DTSTAMP:20260419T221623
CREATED:20260222T164148Z
LAST-MODIFIED:20260222T164148Z
UID:11999-1779811200-1779814800@www.rosinka.at
SUMMARY:ПЧЕЛКИ (1\,5-3)
DESCRIPTION:
URL:https://www.rosinka.at/event/%d0%bf%d1%87%d0%b5%d0%bb%d0%ba%d0%b8-15-3-4/2026-05-26/
END:VEVENT
BEGIN:VEVENT
DTSTART;TZID=Europe/Vienna:20260526T171500
DTEND;TZID=Europe/Vienna:20260526T181500
DTSTAMP:20260419T221623
CREATED:20260222T164739Z
LAST-MODIFIED:20260223T124954Z
UID:11868-1779815700-1779819300@www.rosinka.at
SUMMARY:ЖИВОПИСЬ (4-6)
DESCRIPTION:
URL:https://www.rosinka.at/event/%d0%b6%d0%b8%d0%b2%d0%be%d0%bf%d0%b8%d1%81%d1%8c-4-6-35/2026-05-26/
END:VEVENT
BEGIN:VEVENT
DTSTART;TZID=Europe/Vienna:20260527T150000
DTEND;TZID=Europe/Vienna:20260527T163000
DTSTAMP:20260419T221623
CREATED:20260222T165555Z
LAST-MODIFIED:20260222T165555Z
UID:11906-1779894000-1779899400@www.rosinka.at
SUMMARY:ЗНАЙЧИКИ (9-10)
DESCRIPTION:
URL:https://www.rosinka.at/event/%d0%b7%d0%bd%d0%b0%d0%b9%d1%87%d0%b8%d0%ba%d0%b8-9-10-2/2026-05-27/
END:VEVENT
BEGIN:VEVENT
DTSTART;TZID=Europe/Vienna:20260527T161500
DTEND;TZID=Europe/Vienna:20260527T174500
DTSTAMP:20260419T221623
CREATED:20260222T165055Z
LAST-MODIFIED:20260222T165055Z
UID:11887-1779898500-1779903900@www.rosinka.at
SUMMARY:ФАНТАЗЕРЫ (5-6)
DESCRIPTION:
URL:https://www.rosinka.at/event/%d1%84%d0%b0%d0%bd%d1%82%d0%b0%d0%b7%d0%b5%d1%80%d1%8b-5-6-3/2026-05-27/
END:VEVENT
BEGIN:VEVENT
DTSTART;TZID=Europe/Vienna:20260527T164500
DTEND;TZID=Europe/Vienna:20260527T181500
DTSTAMP:20260419T221623
CREATED:20260222T165656Z
LAST-MODIFIED:20260222T165656Z
UID:11925-1779900300-1779905700@www.rosinka.at
SUMMARY:БУКВОЕЖКИ (10-11)
DESCRIPTION:
URL:https://www.rosinka.at/event/%d0%b1%d1%83%d0%ba%d0%b2%d0%be%d0%b5%d0%b6%d0%ba%d0%b8-10-11-2/2026-05-27/
END:VEVENT
END:VCALENDAR