BEGIN:VCALENDAR
VERSION:2.0
PRODID:-//Rosinka - ECPv6.15.20//NONSGML v1.0//EN
CALSCALE:GREGORIAN
METHOD:PUBLISH
X-ORIGINAL-URL:https://www.rosinka.at
X-WR-CALDESC:Мероприятия для Rosinka
REFRESH-INTERVAL;VALUE=DURATION:PT1H
X-Robots-Tag:noindex
X-PUBLISHED-TTL:PT1H
BEGIN:VTIMEZONE
TZID:Europe/Vienna
BEGIN:DAYLIGHT
TZOFFSETFROM:+0100
TZOFFSETTO:+0200
TZNAME:CEST
DTSTART:20250330T010000
END:DAYLIGHT
BEGIN:STANDARD
TZOFFSETFROM:+0200
TZOFFSETTO:+0100
TZNAME:CET
DTSTART:20251026T010000
END:STANDARD
BEGIN:DAYLIGHT
TZOFFSETFROM:+0100
TZOFFSETTO:+0200
TZNAME:CEST
DTSTART:20260329T010000
END:DAYLIGHT
BEGIN:STANDARD
TZOFFSETFROM:+0200
TZOFFSETTO:+0100
TZNAME:CET
DTSTART:20261025T010000
END:STANDARD
BEGIN:DAYLIGHT
TZOFFSETFROM:+0100
TZOFFSETTO:+0200
TZNAME:CEST
DTSTART:20270328T010000
END:DAYLIGHT
BEGIN:STANDARD
TZOFFSETFROM:+0200
TZOFFSETTO:+0100
TZNAME:CET
DTSTART:20271031T010000
END:STANDARD
END:VTIMEZONE
BEGIN:VEVENT
DTSTART;TZID=Europe/Vienna:20260626T150000
DTEND;TZID=Europe/Vienna:20260626T163000
DTSTAMP:20260419T221846
CREATED:20260222T172147Z
LAST-MODIFIED:20260222T172147Z
UID:12062-1782486000-1782491400@www.rosinka.at
SUMMARY:ФИКСИКИ (7-9)
DESCRIPTION:
URL:https://www.rosinka.at/event/%d1%84%d0%b8%d0%ba%d1%81%d0%b8%d0%ba%d0%b8-7-9-2/2026-06-26/
END:VEVENT
BEGIN:VEVENT
DTSTART;TZID=Europe/Vienna:20260626T164500
DTEND;TZID=Europe/Vienna:20260626T174500
DTSTAMP:20260419T221846
CREATED:20260222T170313Z
LAST-MODIFIED:20260222T170313Z
UID:11984-1782492300-1782495900@www.rosinka.at
SUMMARY:МАЛЫШАРИКИ (3-4)
DESCRIPTION:
URL:https://www.rosinka.at/event/%d0%bc%d0%b0%d0%bb%d1%8b%d1%88%d0%b0%d1%80%d0%b8%d0%ba%d0%b8-3-4-4/2026-06-26/
END:VEVENT
BEGIN:VEVENT
DTSTART;TZID=Europe/Vienna:20260627T091500
DTEND;TZID=Europe/Vienna:20260627T101500
DTSTAMP:20260419T221846
CREATED:20260303T063051Z
LAST-MODIFIED:20260303T063051Z
UID:12179-1782551700-1782555300@www.rosinka.at
SUMMARY:РОБОТОТЕХНИКА
DESCRIPTION:
URL:https://www.rosinka.at/event/%d1%80%d0%be%d0%b1%d0%be%d1%82%d0%be%d1%82%d0%b5%d1%85%d0%bd%d0%b8%d0%ba%d0%b0-15/2026-06-27/
END:VEVENT
BEGIN:VEVENT
DTSTART;TZID=Europe/Vienna:20260627T093000
DTEND;TZID=Europe/Vienna:20260627T103000
DTSTAMP:20260419T221846
CREATED:20260222T172523Z
LAST-MODIFIED:20260222T172847Z
UID:12098-1782552600-1782556200@www.rosinka.at
SUMMARY:МУЗЫКАЛЬНАЯ МАСТЕРСКАЯ
DESCRIPTION:
URL:https://www.rosinka.at/event/%d0%bc%d1%83%d0%b7%d1%8b%d0%ba%d0%b0%d0%bb%d1%8c%d0%bd%d0%b0%d1%8f-%d0%bc%d0%b0%d1%81%d1%82%d0%b5%d1%80%d1%81%d0%ba%d0%b0%d1%8f-2/2026-06-27/
END:VEVENT
BEGIN:VEVENT
DTSTART;TZID=Europe/Vienna:20260627T110000
DTEND;TZID=Europe/Vienna:20260627T120000
DTSTAMP:20260419T221846
CREATED:20260222T172704Z
LAST-MODIFIED:20260222T172704Z
UID:12115-1782558000-1782561600@www.rosinka.at
SUMMARY:ТЕАТРАЛЬНАЯ СТУДИЯ
DESCRIPTION:
URL:https://www.rosinka.at/event/%d1%82%d0%b5%d0%b0%d1%82%d1%80%d0%b0%d0%bb%d1%8c%d0%bd%d0%b0%d1%8f-%d1%81%d1%82%d1%83%d0%b4%d0%b8%d1%8f-3/2026-06-27/
END:VEVENT
BEGIN:VEVENT
DTSTART;TZID=Europe/Vienna:20260629T165500
DTEND;TZID=Europe/Vienna:20260629T182500
DTSTAMP:20260419T221846
CREATED:20260222T164441Z
LAST-MODIFIED:20260222T164441Z
UID:11837-1782752100-1782757500@www.rosinka.at
SUMMARY:СВЕТЛЯЧКИ (5-6)
DESCRIPTION:
URL:https://www.rosinka.at/event/%d1%81%d0%b2%d0%b5%d1%82%d0%bb%d1%8f%d1%87%d0%ba%d0%b8-5-6-3/2026-06-29/
END:VEVENT
BEGIN:VEVENT
DTSTART;TZID=Europe/Vienna:20260629T171500
DTEND;TZID=Europe/Vienna:20260629T184500
DTSTAMP:20260419T221846
CREATED:20260222T164625Z
LAST-MODIFIED:20260223T124856Z
UID:11854-1782753300-1782758700@www.rosinka.at
SUMMARY:ЖИВОПИСЬ (7-10+)
DESCRIPTION:
URL:https://www.rosinka.at/event/%d0%b6%d0%b8%d0%b2%d0%be%d0%bf%d0%b8%d1%81%d1%8c-7-10-9/2026-06-29/
END:VEVENT
BEGIN:VEVENT
DTSTART;TZID=Europe/Vienna:20260630T160000
DTEND;TZID=Europe/Vienna:20260630T170000
DTSTAMP:20260419T221846
CREATED:20260222T164148Z
LAST-MODIFIED:20260222T164148Z
UID:12004-1782835200-1782838800@www.rosinka.at
SUMMARY:ПЧЕЛКИ (1\,5-3)
DESCRIPTION:
URL:https://www.rosinka.at/event/%d0%bf%d1%87%d0%b5%d0%bb%d0%ba%d0%b8-15-3-4/2026-06-30/
END:VEVENT
BEGIN:VEVENT
DTSTART;TZID=Europe/Vienna:20260630T171500
DTEND;TZID=Europe/Vienna:20260630T181500
DTSTAMP:20260419T221846
CREATED:20260222T164739Z
LAST-MODIFIED:20260223T124956Z
UID:11873-1782839700-1782843300@www.rosinka.at
SUMMARY:ЖИВОПИСЬ (4-6)
DESCRIPTION:
URL:https://www.rosinka.at/event/%d0%b6%d0%b8%d0%b2%d0%be%d0%bf%d0%b8%d1%81%d1%8c-4-6-35/2026-06-30/
END:VEVENT
BEGIN:VEVENT
DTSTART;TZID=Europe/Vienna:20260701T150000
DTEND;TZID=Europe/Vienna:20260701T163000
DTSTAMP:20260419T221846
CREATED:20260222T165555Z
LAST-MODIFIED:20260222T165555Z
UID:11911-1782918000-1782923400@www.rosinka.at
SUMMARY:ЗНАЙЧИКИ (9-10)
DESCRIPTION:
URL:https://www.rosinka.at/event/%d0%b7%d0%bd%d0%b0%d0%b9%d1%87%d0%b8%d0%ba%d0%b8-9-10-2/2026-07-01/
END:VEVENT
BEGIN:VEVENT
DTSTART;TZID=Europe/Vienna:20260701T161500
DTEND;TZID=Europe/Vienna:20260701T174500
DTSTAMP:20260419T221846
CREATED:20260222T165055Z
LAST-MODIFIED:20260222T165055Z
UID:11892-1782922500-1782927900@www.rosinka.at
SUMMARY:ФАНТАЗЕРЫ (5-6)
DESCRIPTION:
URL:https://www.rosinka.at/event/%d1%84%d0%b0%d0%bd%d1%82%d0%b0%d0%b7%d0%b5%d1%80%d1%8b-5-6-3/2026-07-01/
END:VEVENT
BEGIN:VEVENT
DTSTART;TZID=Europe/Vienna:20260701T164500
DTEND;TZID=Europe/Vienna:20260701T181500
DTSTAMP:20260419T221846
CREATED:20260222T165656Z
LAST-MODIFIED:20260222T165656Z
UID:11930-1782924300-1782929700@www.rosinka.at
SUMMARY:БУКВОЕЖКИ (10-11)
DESCRIPTION:
URL:https://www.rosinka.at/event/%d0%b1%d1%83%d0%ba%d0%b2%d0%be%d0%b5%d0%b6%d0%ba%d0%b8-10-11-2/2026-07-01/
END:VEVENT
BEGIN:VEVENT
DTSTART;TZID=Europe/Vienna:20260702T163000
DTEND;TZID=Europe/Vienna:20260702T180000
DTSTAMP:20260419T221846
CREATED:20260222T165906Z
LAST-MODIFIED:20260224T121809Z
UID:11947-1783009800-1783015200@www.rosinka.at
SUMMARY:УМНИКИ (13-15)
DESCRIPTION:
URL:https://www.rosinka.at/event/%d1%83%d0%bc%d0%bd%d0%b8%d0%ba%d0%b8-13-15-5-2026-03-05/2026-07-02/
END:VEVENT
BEGIN:VEVENT
DTSTART;TZID=Europe/Vienna:20260702T164500
DTEND;TZID=Europe/Vienna:20260702T181500
DTSTAMP:20260419T221846
CREATED:20260222T170049Z
LAST-MODIFIED:20260222T171829Z
UID:12031-1783010700-1783016100@www.rosinka.at
SUMMARY:СОЛНЫШКИ (6-7)
DESCRIPTION:
URL:https://www.rosinka.at/event/%d1%81%d0%be%d0%bb%d0%bd%d1%8b%d1%88%d0%ba%d0%b8-6-7-2/2026-07-02/
END:VEVENT
BEGIN:VEVENT
DTSTART;TZID=Europe/Vienna:20260703T145000
DTEND;TZID=Europe/Vienna:20260703T162000
DTSTAMP:20260419T221846
CREATED:20260222T172352Z
LAST-MODIFIED:20260222T172352Z
UID:12081-1783090200-1783095600@www.rosinka.at
SUMMARY:ЛУЧИКИ (6-7)
DESCRIPTION:
URL:https://www.rosinka.at/event/%d0%bb%d1%83%d1%87%d0%b8%d0%ba%d0%b8-6-7-4/2026-07-03/
END:VEVENT
BEGIN:VEVENT
DTSTART;TZID=Europe/Vienna:20260703T150000
DTEND;TZID=Europe/Vienna:20260703T163000
DTSTAMP:20260419T221846
CREATED:20260222T172147Z
LAST-MODIFIED:20260222T172147Z
UID:12063-1783090800-1783096200@www.rosinka.at
SUMMARY:ФИКСИКИ (7-9)
DESCRIPTION:
URL:https://www.rosinka.at/event/%d1%84%d0%b8%d0%ba%d1%81%d0%b8%d0%ba%d0%b8-7-9-2/2026-07-03/
END:VEVENT
BEGIN:VEVENT
DTSTART;TZID=Europe/Vienna:20260703T164500
DTEND;TZID=Europe/Vienna:20260703T174500
DTSTAMP:20260419T221846
CREATED:20260222T170313Z
LAST-MODIFIED:20260222T170313Z
UID:11985-1783097100-1783100700@www.rosinka.at
SUMMARY:МАЛЫШАРИКИ (3-4)
DESCRIPTION:
URL:https://www.rosinka.at/event/%d0%bc%d0%b0%d0%bb%d1%8b%d1%88%d0%b0%d1%80%d0%b8%d0%ba%d0%b8-3-4-4/2026-07-03/
END:VEVENT
BEGIN:VEVENT
DTSTART;TZID=Europe/Vienna:20260704T091500
DTEND;TZID=Europe/Vienna:20260704T101500
DTSTAMP:20260419T221846
CREATED:20260303T063051Z
LAST-MODIFIED:20260303T063051Z
UID:12180-1783156500-1783160100@www.rosinka.at
SUMMARY:РОБОТОТЕХНИКА
DESCRIPTION:
URL:https://www.rosinka.at/event/%d1%80%d0%be%d0%b1%d0%be%d1%82%d0%be%d1%82%d0%b5%d1%85%d0%bd%d0%b8%d0%ba%d0%b0-15/2026-07-04/
END:VEVENT
BEGIN:VEVENT
DTSTART;TZID=Europe/Vienna:20260704T093000
DTEND;TZID=Europe/Vienna:20260704T103000
DTSTAMP:20260419T221846
CREATED:20260222T172523Z
LAST-MODIFIED:20260222T172847Z
UID:12099-1783157400-1783161000@www.rosinka.at
SUMMARY:МУЗЫКАЛЬНАЯ МАСТЕРСКАЯ
DESCRIPTION:
URL:https://www.rosinka.at/event/%d0%bc%d1%83%d0%b7%d1%8b%d0%ba%d0%b0%d0%bb%d1%8c%d0%bd%d0%b0%d1%8f-%d0%bc%d0%b0%d1%81%d1%82%d0%b5%d1%80%d1%81%d0%ba%d0%b0%d1%8f-2/2026-07-04/
END:VEVENT
BEGIN:VEVENT
DTSTART;TZID=Europe/Vienna:20260704T110000
DTEND;TZID=Europe/Vienna:20260704T120000
DTSTAMP:20260419T221846
CREATED:20260222T172704Z
LAST-MODIFIED:20260222T172704Z
UID:12116-1783162800-1783166400@www.rosinka.at
SUMMARY:ТЕАТРАЛЬНАЯ СТУДИЯ
DESCRIPTION:
URL:https://www.rosinka.at/event/%d1%82%d0%b5%d0%b0%d1%82%d1%80%d0%b0%d0%bb%d1%8c%d0%bd%d0%b0%d1%8f-%d1%81%d1%82%d1%83%d0%b4%d0%b8%d1%8f-3/2026-07-04/
END:VEVENT
END:VCALENDAR