BEGIN:VCALENDAR
VERSION:2.0
PRODID:-//Rosinka - ECPv6.15.20//NONSGML v1.0//EN
CALSCALE:GREGORIAN
METHOD:PUBLISH
X-ORIGINAL-URL:https://www.rosinka.at
X-WR-CALDESC:Мероприятия для Rosinka
REFRESH-INTERVAL;VALUE=DURATION:PT1H
X-Robots-Tag:noindex
X-PUBLISHED-TTL:PT1H
BEGIN:VTIMEZONE
TZID:Europe/Vienna
BEGIN:DAYLIGHT
TZOFFSETFROM:+0100
TZOFFSETTO:+0200
TZNAME:CEST
DTSTART:20170326T010000
END:DAYLIGHT
BEGIN:STANDARD
TZOFFSETFROM:+0200
TZOFFSETTO:+0100
TZNAME:CET
DTSTART:20171029T010000
END:STANDARD
BEGIN:DAYLIGHT
TZOFFSETFROM:+0100
TZOFFSETTO:+0200
TZNAME:CEST
DTSTART:20180325T010000
END:DAYLIGHT
BEGIN:STANDARD
TZOFFSETFROM:+0200
TZOFFSETTO:+0100
TZNAME:CET
DTSTART:20181028T010000
END:STANDARD
BEGIN:DAYLIGHT
TZOFFSETFROM:+0100
TZOFFSETTO:+0200
TZNAME:CEST
DTSTART:20190331T010000
END:DAYLIGHT
BEGIN:STANDARD
TZOFFSETFROM:+0200
TZOFFSETTO:+0100
TZNAME:CET
DTSTART:20191027T010000
END:STANDARD
END:VTIMEZONE
BEGIN:VEVENT
DTSTART;TZID=Europe/Vienna:20180417T163000
DTEND;TZID=Europe/Vienna:20180417T181500
DTSTAMP:20260419T223020
CREATED:20180206T094444Z
LAST-MODIFIED:20180206T094444Z
UID:1622-1523982600-1523988900@www.rosinka.at
SUMMARY:Золотой Ключик
DESCRIPTION:
URL:https://www.rosinka.at/event/%d0%b7%d0%be%d0%bb%d0%be%d1%82%d0%be%d0%b9-%d0%ba%d0%bb%d1%8e%d1%87%d0%b8%d0%ba-24/
END:VEVENT
BEGIN:VEVENT
DTSTART;TZID=Europe/Vienna:20180418T163000
DTEND;TZID=Europe/Vienna:20180418T174500
DTSTAMP:20260419T223020
CREATED:20180206T094517Z
LAST-MODIFIED:20180206T094517Z
UID:1624-1524069000-1524073500@www.rosinka.at
SUMMARY:Якорек
DESCRIPTION:
URL:https://www.rosinka.at/event/%d1%8f%d0%ba%d0%be%d1%80%d0%b5%d0%ba-8/
END:VEVENT
BEGIN:VEVENT
DTSTART;TZID=Europe/Vienna:20180419T163000
DTEND;TZID=Europe/Vienna:20180419T181500
DTSTAMP:20260419T223020
CREATED:20180206T094547Z
LAST-MODIFIED:20180206T094547Z
UID:1626-1524155400-1524161700@www.rosinka.at
SUMMARY:Звездочеты
DESCRIPTION:
URL:https://www.rosinka.at/event/%d0%b7%d0%b2%d0%b5%d0%b7%d0%b4%d0%be%d1%87%d0%b5%d1%82%d1%8b-23/
END:VEVENT
BEGIN:VEVENT
DTSTART;TZID=Europe/Vienna:20180420T161500
DTEND;TZID=Europe/Vienna:20180420T171500
DTSTAMP:20260419T223020
CREATED:20180416T065904Z
LAST-MODIFIED:20180416T065904Z
UID:1756-1524240900-1524244500@www.rosinka.at
SUMMARY:Колокольчик
DESCRIPTION:
URL:https://www.rosinka.at/event/%d0%ba%d0%be%d0%bb%d0%be%d0%ba%d0%be%d0%bb%d1%8c%d1%87%d0%b8%d0%ba-3/
END:VEVENT
BEGIN:VEVENT
DTSTART;TZID=Europe/Vienna:20180420T171500
DTEND;TZID=Europe/Vienna:20180420T183000
DTSTAMP:20260419T223020
CREATED:20180206T094608Z
LAST-MODIFIED:20180416T071509Z
UID:1628-1524244500-1524249000@www.rosinka.at
SUMMARY:Радуга
DESCRIPTION:
URL:https://www.rosinka.at/event/%d1%80%d0%b0%d0%b4%d1%83%d0%b3%d0%b0-22/
END:VEVENT
END:VCALENDAR