BEGIN:VCALENDAR
VERSION:2.0
PRODID:-//Rosinka - ECPv6.15.20//NONSGML v1.0//EN
CALSCALE:GREGORIAN
METHOD:PUBLISH
X-WR-CALNAME:Rosinka
X-ORIGINAL-URL:https://www.rosinka.at
X-WR-CALDESC:Мероприятия для Rosinka
REFRESH-INTERVAL;VALUE=DURATION:PT1H
X-Robots-Tag:noindex
X-PUBLISHED-TTL:PT1H
BEGIN:VTIMEZONE
TZID:Europe/Vienna
BEGIN:DAYLIGHT
TZOFFSETFROM:+0100
TZOFFSETTO:+0200
TZNAME:CEST
DTSTART:20170326T010000
END:DAYLIGHT
BEGIN:STANDARD
TZOFFSETFROM:+0200
TZOFFSETTO:+0100
TZNAME:CET
DTSTART:20171029T010000
END:STANDARD
BEGIN:DAYLIGHT
TZOFFSETFROM:+0100
TZOFFSETTO:+0200
TZNAME:CEST
DTSTART:20180325T010000
END:DAYLIGHT
BEGIN:STANDARD
TZOFFSETFROM:+0200
TZOFFSETTO:+0100
TZNAME:CET
DTSTART:20181028T010000
END:STANDARD
BEGIN:DAYLIGHT
TZOFFSETFROM:+0100
TZOFFSETTO:+0200
TZNAME:CEST
DTSTART:20190331T010000
END:DAYLIGHT
BEGIN:STANDARD
TZOFFSETFROM:+0200
TZOFFSETTO:+0100
TZNAME:CET
DTSTART:20191027T010000
END:STANDARD
END:VTIMEZONE
BEGIN:VEVENT
DTSTART;VALUE=DATE:20180501
DTEND;VALUE=DATE:20180502
DTSTAMP:20260419T222916
CREATED:20180206T094947Z
LAST-MODIFIED:20180206T094947Z
UID:1638-1525132800-1525219199@www.rosinka.at
SUMMARY:НЕУЧЕБНЫЙ ДЕНЬ
DESCRIPTION:
URL:https://www.rosinka.at/event/%d0%bd%d0%b5%d1%83%d1%87%d0%b5%d0%b1%d0%bd%d1%8b%d0%b9-%d0%b4%d0%b5%d0%bd%d1%8c-4/
END:VEVENT
BEGIN:VEVENT
DTSTART;TZID=Europe/Vienna:20180502T163000
DTEND;TZID=Europe/Vienna:20180502T174500
DTSTAMP:20260419T222916
CREATED:20180206T095023Z
LAST-MODIFIED:20180206T095023Z
UID:1640-1525278600-1525283100@www.rosinka.at
SUMMARY:Якорек
DESCRIPTION:
URL:https://www.rosinka.at/event/%d1%8f%d0%ba%d0%be%d1%80%d0%b5%d0%ba-10/
END:VEVENT
BEGIN:VEVENT
DTSTART;TZID=Europe/Vienna:20180503T163000
DTEND;TZID=Europe/Vienna:20180503T181500
DTSTAMP:20260419T222916
CREATED:20180206T095047Z
LAST-MODIFIED:20180206T095047Z
UID:1642-1525365000-1525371300@www.rosinka.at
SUMMARY:Звездочеты
DESCRIPTION:
URL:https://www.rosinka.at/event/%d0%b7%d0%b2%d0%b5%d0%b7%d0%b4%d0%be%d1%87%d0%b5%d1%82%d1%8b-25/
END:VEVENT
BEGIN:VEVENT
DTSTART;TZID=Europe/Vienna:20180504T161500
DTEND;TZID=Europe/Vienna:20180504T171500
DTSTAMP:20260419T222916
CREATED:20180416T070053Z
LAST-MODIFIED:20180416T070053Z
UID:1760-1525450500-1525454100@www.rosinka.at
SUMMARY:Колокольчик
DESCRIPTION:
URL:https://www.rosinka.at/event/%d0%ba%d0%be%d0%bb%d0%be%d0%ba%d0%be%d0%bb%d1%8c%d1%87%d0%b8%d0%ba-5/
END:VEVENT
BEGIN:VEVENT
DTSTART;TZID=Europe/Vienna:20180504T171500
DTEND;TZID=Europe/Vienna:20180504T183000
DTSTAMP:20260419T222916
CREATED:20180206T095116Z
LAST-MODIFIED:20180416T071618Z
UID:1644-1525454100-1525458600@www.rosinka.at
SUMMARY:Радуга
DESCRIPTION:
URL:https://www.rosinka.at/event/%d1%80%d0%b0%d0%b4%d1%83%d0%b3%d0%b0-24/
END:VEVENT
END:VCALENDAR