BEGIN:VCALENDAR
VERSION:2.0
PRODID:-//Rosinka - ECPv6.15.20//NONSGML v1.0//EN
CALSCALE:GREGORIAN
METHOD:PUBLISH
X-ORIGINAL-URL:https://www.rosinka.at
X-WR-CALDESC:Мероприятия для Rosinka
REFRESH-INTERVAL;VALUE=DURATION:PT1H
X-Robots-Tag:noindex
X-PUBLISHED-TTL:PT1H
BEGIN:VTIMEZONE
TZID:Europe/Vienna
BEGIN:DAYLIGHT
TZOFFSETFROM:+0100
TZOFFSETTO:+0200
TZNAME:CEST
DTSTART:20170326T010000
END:DAYLIGHT
BEGIN:STANDARD
TZOFFSETFROM:+0200
TZOFFSETTO:+0100
TZNAME:CET
DTSTART:20171029T010000
END:STANDARD
BEGIN:DAYLIGHT
TZOFFSETFROM:+0100
TZOFFSETTO:+0200
TZNAME:CEST
DTSTART:20180325T010000
END:DAYLIGHT
BEGIN:STANDARD
TZOFFSETFROM:+0200
TZOFFSETTO:+0100
TZNAME:CET
DTSTART:20181028T010000
END:STANDARD
BEGIN:DAYLIGHT
TZOFFSETFROM:+0100
TZOFFSETTO:+0200
TZNAME:CEST
DTSTART:20190331T010000
END:DAYLIGHT
BEGIN:STANDARD
TZOFFSETFROM:+0200
TZOFFSETTO:+0100
TZNAME:CET
DTSTART:20191027T010000
END:STANDARD
END:VTIMEZONE
BEGIN:VEVENT
DTSTART;TZID=Europe/Vienna:20181112T100000
DTEND;TZID=Europe/Vienna:20181112T110000
DTSTAMP:20260420T071140
CREATED:20181106T093127Z
LAST-MODIFIED:20181106T093127Z
UID:2204-1542016800-1542020400@www.rosinka.at
SUMMARY:Группа 3 - 4 года
DESCRIPTION:
URL:https://www.rosinka.at/event/%d0%b3%d1%80%d1%83%d0%bf%d0%bf%d0%b0-3-4-%d0%b3%d0%be%d0%b4%d0%b0-2/
END:VEVENT
BEGIN:VEVENT
DTSTART;TZID=Europe/Vienna:20181113T160000
DTEND;TZID=Europe/Vienna:20181113T170000
DTSTAMP:20260420T071140
CREATED:20181016T191926Z
LAST-MODIFIED:20181016T191926Z
UID:2153-1542124800-1542128400@www.rosinka.at
SUMMARY:Группа 1\,5 - 3 года
DESCRIPTION:
URL:https://www.rosinka.at/event/%d0%b3%d1%80%d1%83%d0%bf%d0%bf%d0%b0-15-3-%d0%b3%d0%be%d0%b4%d0%b0-4/
LOCATION:Jakoministrasse 15\, Jakoministrasse 15\, Graz\, 8010\, Austria
END:VEVENT
BEGIN:VEVENT
DTSTART;TZID=Europe/Vienna:20181113T163000
DTEND;TZID=Europe/Vienna:20181113T181500
DTSTAMP:20260420T071140
CREATED:20180907T083601Z
LAST-MODIFIED:20180907T083601Z
UID:1894-1542126600-1542132900@www.rosinka.at
SUMMARY:ЗОЛОТОЙ КЛЮЧИК
DESCRIPTION:
URL:https://www.rosinka.at/event/%d0%b7%d0%be%d0%bb%d0%be%d1%82%d0%be%d0%b9-%d0%ba%d0%bb%d1%8e%d1%87%d0%b8%d0%ba-41/
END:VEVENT
BEGIN:VEVENT
DTSTART;TZID=Europe/Vienna:20181114T160000
DTEND;TZID=Europe/Vienna:20181114T171500
DTSTAMP:20260420T071140
CREATED:20180926T140344Z
LAST-MODIFIED:20180926T140344Z
UID:2055-1542211200-1542215700@www.rosinka.at
SUMMARY:ЯКОРЕК
DESCRIPTION:
URL:https://www.rosinka.at/event/%d1%8f%d0%ba%d0%be%d1%80%d0%b5%d0%ba-26/
END:VEVENT
BEGIN:VEVENT
DTSTART;TZID=Europe/Vienna:20181115T144500
DTEND;TZID=Europe/Vienna:20181115T154500
DTSTAMP:20260420T071140
CREATED:20181016T192003Z
LAST-MODIFIED:20181023T144821Z
UID:2155-1542293100-1542296700@www.rosinka.at
SUMMARY:Группа 0 - 1\,5 года
DESCRIPTION:
URL:https://www.rosinka.at/event/%d0%b3%d1%80%d1%83%d0%bf%d0%bf%d0%b0-0-15-%d0%b3%d0%be%d0%b4%d0%b0-4/
END:VEVENT
BEGIN:VEVENT
DTSTART;TZID=Europe/Vienna:20181115T163000
DTEND;TZID=Europe/Vienna:20181115T181500
DTSTAMP:20260420T071140
CREATED:20180907T091047Z
LAST-MODIFIED:20180907T091047Z
UID:1935-1542299400-1542305700@www.rosinka.at
SUMMARY:ЗВЕЗДОЧЕТЫ
DESCRIPTION:
URL:https://www.rosinka.at/event/%d0%b7%d0%b2%d0%b5%d0%b7%d0%b4%d0%be%d1%87%d0%b5%d1%82%d1%8b-39/
END:VEVENT
BEGIN:VEVENT
DTSTART;TZID=Europe/Vienna:20181116T154500
DTEND;TZID=Europe/Vienna:20181116T164500
DTSTAMP:20260420T071140
CREATED:20180907T093347Z
LAST-MODIFIED:20181001T131927Z
UID:1971-1542383100-1542386700@www.rosinka.at
SUMMARY:ФАНТАЗЕРЫ
DESCRIPTION:
URL:https://www.rosinka.at/event/%d0%ba%d0%be%d0%bb%d0%be%d0%ba%d0%be%d0%bb%d1%8c%d1%87%d0%b8%d0%ba-17/
END:VEVENT
BEGIN:VEVENT
DTSTART;TZID=Europe/Vienna:20181116T164500
DTEND;TZID=Europe/Vienna:20181116T174500
DTSTAMP:20260420T071140
CREATED:20180907T154421Z
LAST-MODIFIED:20181001T131841Z
UID:2033-1542386700-1542390300@www.rosinka.at
SUMMARY:РАДУГА
DESCRIPTION:
URL:https://www.rosinka.at/event/%d1%80%d0%b0%d0%b4%d1%83%d0%b3%d0%b0-36/
END:VEVENT
END:VCALENDAR