BEGIN:VCALENDAR
VERSION:2.0
PRODID:-//Rosinka - ECPv6.15.20//NONSGML v1.0//EN
CALSCALE:GREGORIAN
METHOD:PUBLISH
X-ORIGINAL-URL:https://www.rosinka.at
X-WR-CALDESC:Мероприятия для Rosinka
REFRESH-INTERVAL;VALUE=DURATION:PT1H
X-Robots-Tag:noindex
X-PUBLISHED-TTL:PT1H
BEGIN:VTIMEZONE
TZID:Europe/Vienna
BEGIN:DAYLIGHT
TZOFFSETFROM:+0100
TZOFFSETTO:+0200
TZNAME:CEST
DTSTART:20170326T010000
END:DAYLIGHT
BEGIN:STANDARD
TZOFFSETFROM:+0200
TZOFFSETTO:+0100
TZNAME:CET
DTSTART:20171029T010000
END:STANDARD
BEGIN:DAYLIGHT
TZOFFSETFROM:+0100
TZOFFSETTO:+0200
TZNAME:CEST
DTSTART:20180325T010000
END:DAYLIGHT
BEGIN:STANDARD
TZOFFSETFROM:+0200
TZOFFSETTO:+0100
TZNAME:CET
DTSTART:20181028T010000
END:STANDARD
BEGIN:DAYLIGHT
TZOFFSETFROM:+0100
TZOFFSETTO:+0200
TZNAME:CEST
DTSTART:20190331T010000
END:DAYLIGHT
BEGIN:STANDARD
TZOFFSETFROM:+0200
TZOFFSETTO:+0100
TZNAME:CET
DTSTART:20191027T010000
END:STANDARD
END:VTIMEZONE
BEGIN:VEVENT
DTSTART;TZID=Europe/Vienna:20181119T100000
DTEND;TZID=Europe/Vienna:20181119T110000
DTSTAMP:20260420T071441
CREATED:20181106T093215Z
LAST-MODIFIED:20181106T093215Z
UID:2206-1542621600-1542625200@www.rosinka.at
SUMMARY:Группа 3 - 4 года
DESCRIPTION:
URL:https://www.rosinka.at/event/%d0%b3%d1%80%d1%83%d0%bf%d0%bf%d0%b0-3-4-%d0%b3%d0%be%d0%b4%d0%b0-3/
END:VEVENT
BEGIN:VEVENT
DTSTART;TZID=Europe/Vienna:20181120T160000
DTEND;TZID=Europe/Vienna:20181120T170000
DTSTAMP:20260420T071441
CREATED:20181016T192032Z
LAST-MODIFIED:20181016T192044Z
UID:2157-1542729600-1542733200@www.rosinka.at
SUMMARY:Группа 1\,5 - 3 года
DESCRIPTION:
URL:https://www.rosinka.at/event/%d0%b3%d1%80%d1%83%d0%bf%d0%bf%d0%b0-15-3-%d0%b3%d0%be%d0%b4%d0%b0-5/
LOCATION:Jakoministrasse 15\, Jakoministrasse 15\, Graz\, 8010\, Austria
END:VEVENT
BEGIN:VEVENT
DTSTART;TZID=Europe/Vienna:20181120T163000
DTEND;TZID=Europe/Vienna:20181120T181500
DTSTAMP:20260420T071441
CREATED:20180907T083631Z
LAST-MODIFIED:20180907T083631Z
UID:1896-1542731400-1542737700@www.rosinka.at
SUMMARY:ЗОЛОТОЙ КЛЮЧИК
DESCRIPTION:
URL:https://www.rosinka.at/event/%d0%b7%d0%be%d0%bb%d0%be%d1%82%d0%be%d0%b9-%d0%ba%d0%bb%d1%8e%d1%87%d0%b8%d0%ba-42/
END:VEVENT
BEGIN:VEVENT
DTSTART;TZID=Europe/Vienna:20181121T160000
DTEND;TZID=Europe/Vienna:20181121T171500
DTSTAMP:20260420T071441
CREATED:20180926T140412Z
LAST-MODIFIED:20180926T140412Z
UID:2057-1542816000-1542820500@www.rosinka.at
SUMMARY:ЯКОРЕК
DESCRIPTION:
URL:https://www.rosinka.at/event/%d1%8f%d0%ba%d0%be%d1%80%d0%b5%d0%ba-27/
END:VEVENT
BEGIN:VEVENT
DTSTART;TZID=Europe/Vienna:20181122T144500
DTEND;TZID=Europe/Vienna:20181122T154500
DTSTAMP:20260420T071441
CREATED:20181016T192117Z
LAST-MODIFIED:20181023T144944Z
UID:2159-1542897900-1542901500@www.rosinka.at
SUMMARY:Группа 0 - 1\,5 года
DESCRIPTION:
URL:https://www.rosinka.at/event/%d0%b3%d1%80%d1%83%d0%bf%d0%bf%d0%b0-0-15-%d0%b3%d0%be%d0%b4%d0%b0-5/
END:VEVENT
BEGIN:VEVENT
DTSTART;TZID=Europe/Vienna:20181122T163000
DTEND;TZID=Europe/Vienna:20181122T181500
DTSTAMP:20260420T071441
CREATED:20180907T091112Z
LAST-MODIFIED:20180907T091112Z
UID:1937-1542904200-1542910500@www.rosinka.at
SUMMARY:ЗВЕЗДОЧЕТЫ
DESCRIPTION:
URL:https://www.rosinka.at/event/%d0%b7%d0%b2%d0%b5%d0%b7%d0%b4%d0%be%d1%87%d0%b5%d1%82%d1%8b-40/
END:VEVENT
BEGIN:VEVENT
DTSTART;TZID=Europe/Vienna:20181123T154500
DTEND;TZID=Europe/Vienna:20181123T164500
DTSTAMP:20260420T071441
CREATED:20180907T093557Z
LAST-MODIFIED:20181001T131820Z
UID:1973-1542987900-1542991500@www.rosinka.at
SUMMARY:ФАНТАЗЕРЫ
DESCRIPTION:
URL:https://www.rosinka.at/event/%d0%ba%d0%be%d0%bb%d0%be%d0%ba%d0%be%d0%bb%d1%8c%d1%87%d0%b8%d0%ba-18/
END:VEVENT
BEGIN:VEVENT
DTSTART;TZID=Europe/Vienna:20181123T164500
DTEND;TZID=Europe/Vienna:20181123T174500
DTSTAMP:20260420T071441
CREATED:20180907T153505Z
LAST-MODIFIED:20181001T131751Z
UID:2009-1542991500-1542995100@www.rosinka.at
SUMMARY:РАДУГА
DESCRIPTION:
URL:https://www.rosinka.at/event/%d1%80%d0%b0%d0%b4%d1%83%d0%b3%d0%b0-38/
END:VEVENT
END:VCALENDAR