BEGIN:VCALENDAR
VERSION:2.0
PRODID:-//Rosinka - ECPv6.15.20//NONSGML v1.0//EN
CALSCALE:GREGORIAN
METHOD:PUBLISH
X-WR-CALNAME:Rosinka
X-ORIGINAL-URL:https://www.rosinka.at
X-WR-CALDESC:Мероприятия для Rosinka
REFRESH-INTERVAL;VALUE=DURATION:PT1H
X-Robots-Tag:noindex
X-PUBLISHED-TTL:PT1H
BEGIN:VTIMEZONE
TZID:Europe/Vienna
BEGIN:DAYLIGHT
TZOFFSETFROM:+0100
TZOFFSETTO:+0200
TZNAME:CEST
DTSTART:20170326T010000
END:DAYLIGHT
BEGIN:STANDARD
TZOFFSETFROM:+0200
TZOFFSETTO:+0100
TZNAME:CET
DTSTART:20171029T010000
END:STANDARD
BEGIN:DAYLIGHT
TZOFFSETFROM:+0100
TZOFFSETTO:+0200
TZNAME:CEST
DTSTART:20180325T010000
END:DAYLIGHT
BEGIN:STANDARD
TZOFFSETFROM:+0200
TZOFFSETTO:+0100
TZNAME:CET
DTSTART:20181028T010000
END:STANDARD
BEGIN:DAYLIGHT
TZOFFSETFROM:+0100
TZOFFSETTO:+0200
TZNAME:CEST
DTSTART:20190331T010000
END:DAYLIGHT
BEGIN:STANDARD
TZOFFSETFROM:+0200
TZOFFSETTO:+0100
TZNAME:CET
DTSTART:20191027T010000
END:STANDARD
END:VTIMEZONE
BEGIN:VEVENT
DTSTART;TZID=Europe/Vienna:20181203T100000
DTEND;TZID=Europe/Vienna:20181203T110000
DTSTAMP:20260420T085154
CREATED:20181106T093337Z
LAST-MODIFIED:20181106T093337Z
UID:2210-1543831200-1543834800@www.rosinka.at
SUMMARY:Группа 3 - 4 года
DESCRIPTION:
URL:https://www.rosinka.at/event/%d0%b3%d1%80%d1%83%d0%bf%d0%bf%d0%b0-3-4-%d0%b3%d0%be%d0%b4%d0%b0-5/
END:VEVENT
BEGIN:VEVENT
DTSTART;TZID=Europe/Vienna:20181204T160000
DTEND;TZID=Europe/Vienna:20181204T170000
DTSTAMP:20260420T085154
CREATED:20181016T192622Z
LAST-MODIFIED:20181016T192622Z
UID:2170-1543939200-1543942800@www.rosinka.at
SUMMARY:Группа 1\,5 - 3 года
DESCRIPTION:
URL:https://www.rosinka.at/event/%d0%b3%d1%80%d1%83%d0%bf%d0%bf%d0%b0-15-3-%d0%b3%d0%be%d0%b4%d0%b0-7/
LOCATION:Jakoministrasse 15\, Jakoministrasse 15\, Graz\, 8010\, Austria
END:VEVENT
BEGIN:VEVENT
DTSTART;TZID=Europe/Vienna:20181204T160000
DTEND;TZID=Europe/Vienna:20181204T181500
DTSTAMP:20260420T085154
CREATED:20180907T083743Z
LAST-MODIFIED:20180907T083743Z
UID:1900-1543939200-1543947300@www.rosinka.at
SUMMARY:ЗОЛОТОЙ КЛЮЧИК
DESCRIPTION:
URL:https://www.rosinka.at/event/%d0%b7%d0%be%d0%bb%d0%be%d1%82%d0%be%d0%b9-%d0%ba%d0%bb%d1%8e%d1%87%d0%b8%d0%ba-44/
END:VEVENT
BEGIN:VEVENT
DTSTART;TZID=Europe/Vienna:20181205T160000
DTEND;TZID=Europe/Vienna:20181205T171500
DTSTAMP:20260420T085154
CREATED:20180926T140725Z
LAST-MODIFIED:20180926T140725Z
UID:2061-1544025600-1544030100@www.rosinka.at
SUMMARY:ЯКОРЕК
DESCRIPTION:
URL:https://www.rosinka.at/event/%d1%8f%d0%ba%d0%be%d1%80%d0%b5%d0%ba-29/
END:VEVENT
BEGIN:VEVENT
DTSTART;TZID=Europe/Vienna:20181206T144500
DTEND;TZID=Europe/Vienna:20181206T154500
DTSTAMP:20260420T085154
CREATED:20181220T135121Z
LAST-MODIFIED:20181220T135121Z
UID:2261-1544107500-1544111100@www.rosinka.at
SUMMARY:Группа 0 - 1\,5
DESCRIPTION:
URL:https://www.rosinka.at/event/%d0%b3%d1%80%d1%83%d0%bf%d0%bf%d0%b0-0-15/
END:VEVENT
BEGIN:VEVENT
DTSTART;TZID=Europe/Vienna:20181206T163000
DTEND;TZID=Europe/Vienna:20181206T181500
DTSTAMP:20260420T085154
CREATED:20180907T091237Z
LAST-MODIFIED:20180907T091237Z
UID:1941-1544113800-1544120100@www.rosinka.at
SUMMARY:ЗВЕЗДОЧЕТЫ
DESCRIPTION:
URL:https://www.rosinka.at/event/%d0%b7%d0%b2%d0%b5%d0%b7%d0%b4%d0%be%d1%87%d0%b5%d1%82%d1%8b-42/
END:VEVENT
BEGIN:VEVENT
DTSTART;TZID=Europe/Vienna:20181207T154500
DTEND;TZID=Europe/Vienna:20181207T164500
DTSTAMP:20260420T085154
CREATED:20180907T093700Z
LAST-MODIFIED:20181001T131604Z
UID:1977-1544197500-1544201100@www.rosinka.at
SUMMARY:ФАНТАЗЕРЫ
DESCRIPTION:
URL:https://www.rosinka.at/event/%d0%ba%d0%be%d0%bb%d0%be%d0%ba%d0%be%d0%bb%d1%8c%d1%87%d0%b8%d0%ba-20/
END:VEVENT
BEGIN:VEVENT
DTSTART;TZID=Europe/Vienna:20181207T164500
DTEND;TZID=Europe/Vienna:20181207T174500
DTSTAMP:20260420T085154
CREATED:20180907T153626Z
LAST-MODIFIED:20181001T131513Z
UID:2013-1544201100-1544204700@www.rosinka.at
SUMMARY:РАДУГА
DESCRIPTION:
URL:https://www.rosinka.at/event/%d1%80%d0%b0%d0%b4%d1%83%d0%b3%d0%b0-40/
END:VEVENT
END:VCALENDAR