BEGIN:VCALENDAR
VERSION:2.0
PRODID:-//Rosinka - ECPv6.15.20//NONSGML v1.0//EN
CALSCALE:GREGORIAN
METHOD:PUBLISH
X-ORIGINAL-URL:https://www.rosinka.at
X-WR-CALDESC:Мероприятия для Rosinka
REFRESH-INTERVAL;VALUE=DURATION:PT1H
X-Robots-Tag:noindex
X-PUBLISHED-TTL:PT1H
BEGIN:VTIMEZONE
TZID:Europe/Vienna
BEGIN:DAYLIGHT
TZOFFSETFROM:+0100
TZOFFSETTO:+0200
TZNAME:CEST
DTSTART:20170326T010000
END:DAYLIGHT
BEGIN:STANDARD
TZOFFSETFROM:+0200
TZOFFSETTO:+0100
TZNAME:CET
DTSTART:20171029T010000
END:STANDARD
BEGIN:DAYLIGHT
TZOFFSETFROM:+0100
TZOFFSETTO:+0200
TZNAME:CEST
DTSTART:20180325T010000
END:DAYLIGHT
BEGIN:STANDARD
TZOFFSETFROM:+0200
TZOFFSETTO:+0100
TZNAME:CET
DTSTART:20181028T010000
END:STANDARD
BEGIN:DAYLIGHT
TZOFFSETFROM:+0100
TZOFFSETTO:+0200
TZNAME:CEST
DTSTART:20190331T010000
END:DAYLIGHT
BEGIN:STANDARD
TZOFFSETFROM:+0200
TZOFFSETTO:+0100
TZNAME:CET
DTSTART:20191027T010000
END:STANDARD
BEGIN:DAYLIGHT
TZOFFSETFROM:+0100
TZOFFSETTO:+0200
TZNAME:CEST
DTSTART:20200329T010000
END:DAYLIGHT
BEGIN:STANDARD
TZOFFSETFROM:+0200
TZOFFSETTO:+0100
TZNAME:CET
DTSTART:20201025T010000
END:STANDARD
END:VTIMEZONE
BEGIN:VEVENT
DTSTART;TZID=Europe/Vienna:20181217T100000
DTEND;TZID=Europe/Vienna:20181217T110000
DTSTAMP:20260420T085745
CREATED:20181106T093520Z
LAST-MODIFIED:20181106T093520Z
UID:2214-1545040800-1545044400@www.rosinka.at
SUMMARY:Группа 3 - 4 года
DESCRIPTION:
URL:https://www.rosinka.at/event/%d0%b3%d1%80%d1%83%d0%bf%d0%bf%d0%b0-3-4-%d0%b3%d0%be%d0%b4%d0%b0-7/
END:VEVENT
BEGIN:VEVENT
DTSTART;TZID=Europe/Vienna:20181218T160000
DTEND;TZID=Europe/Vienna:20181218T170000
DTSTAMP:20260420T085745
CREATED:20181016T192747Z
LAST-MODIFIED:20181016T192747Z
UID:2174-1545148800-1545152400@www.rosinka.at
SUMMARY:Группа 1\,5 - 3 года
DESCRIPTION:
URL:https://www.rosinka.at/event/%d0%b3%d1%80%d1%83%d0%bf%d0%bf%d0%b0-15-3-%d0%b3%d0%be%d0%b4%d0%b0-9/
LOCATION:Jakoministrasse 15\, Jakoministrasse 15\, Graz\, 8010\, Austria
END:VEVENT
BEGIN:VEVENT
DTSTART;TZID=Europe/Vienna:20181218T163000
DTEND;TZID=Europe/Vienna:20181218T181500
DTSTAMP:20260420T085745
CREATED:20180907T083840Z
LAST-MODIFIED:20180907T083840Z
UID:1904-1545150600-1545156900@www.rosinka.at
SUMMARY:ЗОЛОТОЙ КЛЮЧИК
DESCRIPTION:
URL:https://www.rosinka.at/event/%d0%b7%d0%be%d0%bb%d0%be%d1%82%d0%be%d0%b9-%d0%ba%d0%bb%d1%8e%d1%87%d0%b8%d0%ba-46/
END:VEVENT
BEGIN:VEVENT
DTSTART;TZID=Europe/Vienna:20181219T160000
DTEND;TZID=Europe/Vienna:20181219T171500
DTSTAMP:20260420T085745
CREATED:20180926T140824Z
LAST-MODIFIED:20180926T140824Z
UID:2065-1545235200-1545239700@www.rosinka.at
SUMMARY:ЯКОРЕК
DESCRIPTION:
URL:https://www.rosinka.at/event/%d1%8f%d0%ba%d0%be%d1%80%d0%b5%d0%ba-31/
END:VEVENT
BEGIN:VEVENT
DTSTART;TZID=Europe/Vienna:20181220T144500
DTEND;TZID=Europe/Vienna:20181220T154500
DTSTAMP:20260420T085745
CREATED:20181220T135521Z
LAST-MODIFIED:20181220T135521Z
UID:2265-1545317100-1545320700@www.rosinka.at
SUMMARY:Группа 0 - 1\,5
DESCRIPTION:
URL:https://www.rosinka.at/event/%d0%b3%d1%80%d1%83%d0%bf%d0%bf%d0%b0-0-15-3/
END:VEVENT
BEGIN:VEVENT
DTSTART;TZID=Europe/Vienna:20181220T163000
DTEND;TZID=Europe/Vienna:20181220T181500
DTSTAMP:20260420T085745
CREATED:20180907T091324Z
LAST-MODIFIED:20180907T091324Z
UID:1945-1545323400-1545329700@www.rosinka.at
SUMMARY:ЗВЕЗДОЧЕТЫ
DESCRIPTION:
URL:https://www.rosinka.at/event/%d0%b7%d0%b2%d0%b5%d0%b7%d0%b4%d0%be%d1%87%d0%b5%d1%82%d1%8b-44/
END:VEVENT
BEGIN:VEVENT
DTSTART;TZID=Europe/Vienna:20181221T154500
DTEND;TZID=Europe/Vienna:20181221T164500
DTSTAMP:20260420T085745
CREATED:20180907T093751Z
LAST-MODIFIED:20181001T131121Z
UID:1981-1545407100-1545410700@www.rosinka.at
SUMMARY:ФАНТАЗЕРЫ
DESCRIPTION:
URL:https://www.rosinka.at/event/%d0%ba%d0%be%d0%bb%d0%be%d0%ba%d0%be%d0%bb%d1%8c%d1%87%d0%b8%d0%ba-22/
END:VEVENT
BEGIN:VEVENT
DTSTART;TZID=Europe/Vienna:20181221T164500
DTEND;TZID=Europe/Vienna:20181221T174500
DTSTAMP:20260420T085745
CREATED:20180907T153722Z
LAST-MODIFIED:20181001T131041Z
UID:2017-1545410700-1545414300@www.rosinka.at
SUMMARY:РАДУГА
DESCRIPTION:
URL:https://www.rosinka.at/event/%d1%80%d0%b0%d0%b4%d1%83%d0%b3%d0%b0-42/
END:VEVENT
BEGIN:VEVENT
DTSTART;VALUE=DATE:20181222
DTEND;VALUE=DATE:20190107
DTSTAMP:20260420T085745
CREATED:20180907T075722Z
LAST-MODIFIED:20180907T075722Z
UID:1851-1545436800-1546819199@www.rosinka.at
SUMMARY:РОЖДЕСТВЕНСКИЕ КАНИКУЛЫ
DESCRIPTION:
URL:https://www.rosinka.at/event/%d1%80%d0%be%d0%b6%d0%b4%d0%b5%d1%81%d1%82%d0%b2%d0%b5%d0%bd%d1%81%d0%ba%d0%b8%d0%b5-%d0%ba%d0%b0%d0%bd%d0%b8%d0%ba%d1%83%d0%bb%d1%8b-2/
END:VEVENT
END:VCALENDAR