BEGIN:VCALENDAR
VERSION:2.0
PRODID:-//Rosinka - ECPv6.15.20//NONSGML v1.0//EN
CALSCALE:GREGORIAN
METHOD:PUBLISH
X-ORIGINAL-URL:https://www.rosinka.at
X-WR-CALDESC:Мероприятия для Rosinka
REFRESH-INTERVAL;VALUE=DURATION:PT1H
X-Robots-Tag:noindex
X-PUBLISHED-TTL:PT1H
BEGIN:VTIMEZONE
TZID:Europe/Vienna
BEGIN:DAYLIGHT
TZOFFSETFROM:+0100
TZOFFSETTO:+0200
TZNAME:CEST
DTSTART:20180325T010000
END:DAYLIGHT
BEGIN:STANDARD
TZOFFSETFROM:+0200
TZOFFSETTO:+0100
TZNAME:CET
DTSTART:20181028T010000
END:STANDARD
BEGIN:DAYLIGHT
TZOFFSETFROM:+0100
TZOFFSETTO:+0200
TZNAME:CEST
DTSTART:20190331T010000
END:DAYLIGHT
BEGIN:STANDARD
TZOFFSETFROM:+0200
TZOFFSETTO:+0100
TZNAME:CET
DTSTART:20191027T010000
END:STANDARD
BEGIN:DAYLIGHT
TZOFFSETFROM:+0100
TZOFFSETTO:+0200
TZNAME:CEST
DTSTART:20200329T010000
END:DAYLIGHT
BEGIN:STANDARD
TZOFFSETFROM:+0200
TZOFFSETTO:+0100
TZNAME:CET
DTSTART:20201025T010000
END:STANDARD
END:VTIMEZONE
BEGIN:VEVENT
DTSTART;TZID=Europe/Vienna:20190107T100000
DTEND;TZID=Europe/Vienna:20190107T110000
DTSTAMP:20260420T120516
CREATED:20181106T093604Z
LAST-MODIFIED:20181106T093604Z
UID:2216-1546855200-1546858800@www.rosinka.at
SUMMARY:Группа 3 - 4 года
DESCRIPTION:
URL:https://www.rosinka.at/event/%d0%b3%d1%80%d1%83%d0%bf%d0%bf%d0%b0-3-4-%d0%b3%d0%be%d0%b4%d0%b0-8/
END:VEVENT
BEGIN:VEVENT
DTSTART;TZID=Europe/Vienna:20190108T160000
DTEND;TZID=Europe/Vienna:20190108T170000
DTSTAMP:20260420T120516
CREATED:20181016T192821Z
LAST-MODIFIED:20181016T192821Z
UID:2176-1546963200-1546966800@www.rosinka.at
SUMMARY:Группа 1\,5 - 3 года
DESCRIPTION:
URL:https://www.rosinka.at/event/%d0%b3%d1%80%d1%83%d0%bf%d0%bf%d0%b0-15-3-%d0%b3%d0%be%d0%b4%d0%b0-10/
LOCATION:Jakoministrasse 15\, Jakoministrasse 15\, Graz\, 8010\, Austria
END:VEVENT
BEGIN:VEVENT
DTSTART;TZID=Europe/Vienna:20190108T163000
DTEND;TZID=Europe/Vienna:20190108T181500
DTSTAMP:20260420T120516
CREATED:20180907T084052Z
LAST-MODIFIED:20180907T084052Z
UID:1907-1546965000-1546971300@www.rosinka.at
SUMMARY:ЗОЛОТОЙ КЛЮЧИК
DESCRIPTION:
URL:https://www.rosinka.at/event/%d0%b7%d0%be%d0%bb%d0%be%d1%82%d0%be%d0%b9-%d0%ba%d0%bb%d1%8e%d1%87%d0%b8%d0%ba-47/
END:VEVENT
BEGIN:VEVENT
DTSTART;TZID=Europe/Vienna:20190109T160000
DTEND;TZID=Europe/Vienna:20190109T171500
DTSTAMP:20260420T120516
CREATED:20180926T140956Z
LAST-MODIFIED:20180926T140956Z
UID:2067-1547049600-1547054100@www.rosinka.at
SUMMARY:ЯКОРЕК
DESCRIPTION:
URL:https://www.rosinka.at/event/%d1%8f%d0%ba%d0%be%d1%80%d0%b5%d0%ba-32/
END:VEVENT
BEGIN:VEVENT
DTSTART;TZID=Europe/Vienna:20190110T144500
DTEND;TZID=Europe/Vienna:20190110T154500
DTSTAMP:20260420T120516
CREATED:20181220T135554Z
LAST-MODIFIED:20181220T135554Z
UID:2267-1547131500-1547135100@www.rosinka.at
SUMMARY:Группа 0 - 1\,5
DESCRIPTION:
URL:https://www.rosinka.at/event/%d0%b3%d1%80%d1%83%d0%bf%d0%bf%d0%b0-0-15-4/
END:VEVENT
BEGIN:VEVENT
DTSTART;TZID=Europe/Vienna:20190110T163000
DTEND;TZID=Europe/Vienna:20190110T181500
DTSTAMP:20260420T120516
CREATED:20180907T091359Z
LAST-MODIFIED:20180907T091359Z
UID:1947-1547137800-1547144100@www.rosinka.at
SUMMARY:ЗВЕЗДОЧЕТЫ
DESCRIPTION:
URL:https://www.rosinka.at/event/%d0%b7%d0%b2%d0%b5%d0%b7%d0%b4%d0%be%d1%87%d0%b5%d1%82%d1%8b-45/
END:VEVENT
BEGIN:VEVENT
DTSTART;TZID=Europe/Vienna:20190111T154500
DTEND;TZID=Europe/Vienna:20190111T164500
DTSTAMP:20260420T120516
CREATED:20180907T094331Z
LAST-MODIFIED:20181001T131000Z
UID:1983-1547221500-1547225100@www.rosinka.at
SUMMARY:ФАНТАЗЕРЫ
DESCRIPTION:
URL:https://www.rosinka.at/event/%d0%ba%d0%be%d0%bb%d0%be%d0%ba%d0%be%d0%bb%d1%8c%d1%87%d0%b8%d0%ba-23/
END:VEVENT
BEGIN:VEVENT
DTSTART;TZID=Europe/Vienna:20190111T164500
DTEND;TZID=Europe/Vienna:20190111T174500
DTSTAMP:20260420T120516
CREATED:20180907T153750Z
LAST-MODIFIED:20181001T130925Z
UID:2019-1547225100-1547228700@www.rosinka.at
SUMMARY:РАДУГА
DESCRIPTION:
URL:https://www.rosinka.at/event/%d1%80%d0%b0%d0%b4%d1%83%d0%b3%d0%b0-43/
END:VEVENT
END:VCALENDAR