BEGIN:VCALENDAR
VERSION:2.0
PRODID:-//Rosinka - ECPv6.15.20//NONSGML v1.0//EN
CALSCALE:GREGORIAN
METHOD:PUBLISH
X-ORIGINAL-URL:https://www.rosinka.at
X-WR-CALDESC:Мероприятия для Rosinka
REFRESH-INTERVAL;VALUE=DURATION:PT1H
X-Robots-Tag:noindex
X-PUBLISHED-TTL:PT1H
BEGIN:VTIMEZONE
TZID:Europe/Vienna
BEGIN:DAYLIGHT
TZOFFSETFROM:+0100
TZOFFSETTO:+0200
TZNAME:CEST
DTSTART:20180325T010000
END:DAYLIGHT
BEGIN:STANDARD
TZOFFSETFROM:+0200
TZOFFSETTO:+0100
TZNAME:CET
DTSTART:20181028T010000
END:STANDARD
BEGIN:DAYLIGHT
TZOFFSETFROM:+0100
TZOFFSETTO:+0200
TZNAME:CEST
DTSTART:20190331T010000
END:DAYLIGHT
BEGIN:STANDARD
TZOFFSETFROM:+0200
TZOFFSETTO:+0100
TZNAME:CET
DTSTART:20191027T010000
END:STANDARD
BEGIN:DAYLIGHT
TZOFFSETFROM:+0100
TZOFFSETTO:+0200
TZNAME:CEST
DTSTART:20200329T010000
END:DAYLIGHT
BEGIN:STANDARD
TZOFFSETFROM:+0200
TZOFFSETTO:+0100
TZNAME:CET
DTSTART:20201025T010000
END:STANDARD
END:VTIMEZONE
BEGIN:VEVENT
DTSTART;TZID=Europe/Vienna:20190128T100000
DTEND;TZID=Europe/Vienna:20190128T110000
DTSTAMP:20260420T120519
CREATED:20181106T093919Z
LAST-MODIFIED:20181106T093919Z
UID:2225-1548669600-1548673200@www.rosinka.at
SUMMARY:Группа 3 - 4 года
DESCRIPTION:
URL:https://www.rosinka.at/event/%d0%b3%d1%80%d1%83%d0%bf%d0%bf%d0%b0-3-4-%d0%b3%d0%be%d0%b4%d0%b0-11/
END:VEVENT
BEGIN:VEVENT
DTSTART;TZID=Europe/Vienna:20190129T154500
DTEND;TZID=Europe/Vienna:20190129T164500
DTSTAMP:20260420T120519
CREATED:20181016T193023Z
LAST-MODIFIED:20190117T071619Z
UID:2182-1548776700-1548780300@www.rosinka.at
SUMMARY:Группа 1\,5 - 3 года
DESCRIPTION:
URL:https://www.rosinka.at/event/%d0%b3%d1%80%d1%83%d0%bf%d0%bf%d0%b0-15-3-%d0%b3%d0%be%d0%b4%d0%b0-13/
END:VEVENT
BEGIN:VEVENT
DTSTART;TZID=Europe/Vienna:20190129T163000
DTEND;TZID=Europe/Vienna:20190129T181500
DTSTAMP:20260420T120519
CREATED:20180907T084222Z
LAST-MODIFIED:20180907T084222Z
UID:1913-1548779400-1548785700@www.rosinka.at
SUMMARY:ЗОЛОТОЙ КЛЮЧИК
DESCRIPTION:
URL:https://www.rosinka.at/event/%d0%b7%d0%be%d0%bb%d0%be%d1%82%d0%be%d0%b9-%d0%ba%d0%bb%d1%8e%d1%87%d0%b8%d0%ba-50/
END:VEVENT
BEGIN:VEVENT
DTSTART;TZID=Europe/Vienna:20190130T160000
DTEND;TZID=Europe/Vienna:20190130T171500
DTSTAMP:20260420T120519
CREATED:20180926T141145Z
LAST-MODIFIED:20180926T141145Z
UID:2073-1548864000-1548868500@www.rosinka.at
SUMMARY:ЯКОРЕК
DESCRIPTION:
URL:https://www.rosinka.at/event/%d1%8f%d0%ba%d0%be%d1%80%d0%b5%d0%ba-35/
END:VEVENT
BEGIN:VEVENT
DTSTART;TZID=Europe/Vienna:20190131T144500
DTEND;TZID=Europe/Vienna:20190131T154500
DTSTAMP:20260420T120519
CREATED:20181220T140715Z
LAST-MODIFIED:20181220T140715Z
UID:2273-1548945900-1548949500@www.rosinka.at
SUMMARY:Группа 0 - 1\,5
DESCRIPTION:
URL:https://www.rosinka.at/event/%d0%b3%d1%80%d1%83%d0%bf%d0%bf%d0%b0-0-15-7/
END:VEVENT
BEGIN:VEVENT
DTSTART;TZID=Europe/Vienna:20190131T163000
DTEND;TZID=Europe/Vienna:20190131T181500
DTSTAMP:20260420T120519
CREATED:20180907T091528Z
LAST-MODIFIED:20180907T091528Z
UID:1953-1548952200-1548958500@www.rosinka.at
SUMMARY:ЗВЕЗДОЧЕТЫ
DESCRIPTION:
URL:https://www.rosinka.at/event/%d0%b7%d0%b2%d0%b5%d0%b7%d0%b4%d0%be%d1%87%d0%b5%d1%82%d1%8b-48/
END:VEVENT
BEGIN:VEVENT
DTSTART;TZID=Europe/Vienna:20190201T154500
DTEND;TZID=Europe/Vienna:20190201T164500
DTSTAMP:20260420T120519
CREATED:20180907T094617Z
LAST-MODIFIED:20181001T130615Z
UID:1989-1549035900-1549039500@www.rosinka.at
SUMMARY:ФАНТАЗЕРЫ
DESCRIPTION:
URL:https://www.rosinka.at/event/%d0%ba%d0%be%d0%bb%d0%be%d0%ba%d0%be%d0%bb%d1%8c%d1%87%d0%b8%d0%ba-26/
END:VEVENT
BEGIN:VEVENT
DTSTART;TZID=Europe/Vienna:20190201T164500
DTEND;TZID=Europe/Vienna:20190201T174500
DTSTAMP:20260420T120519
CREATED:20180907T154014Z
LAST-MODIFIED:20181001T130541Z
UID:2027-1549039500-1549043100@www.rosinka.at
SUMMARY:РАДУГА
DESCRIPTION:
URL:https://www.rosinka.at/event/%d1%80%d0%b0%d0%b4%d1%83%d0%b3%d0%b0-47/
END:VEVENT
END:VCALENDAR