BEGIN:VCALENDAR
VERSION:2.0
PRODID:-//Rosinka - ECPv6.15.20//NONSGML v1.0//EN
CALSCALE:GREGORIAN
METHOD:PUBLISH
X-ORIGINAL-URL:https://www.rosinka.at
X-WR-CALDESC:Мероприятия для Rosinka
REFRESH-INTERVAL;VALUE=DURATION:PT1H
X-Robots-Tag:noindex
X-PUBLISHED-TTL:PT1H
BEGIN:VTIMEZONE
TZID:Europe/Vienna
BEGIN:DAYLIGHT
TZOFFSETFROM:+0100
TZOFFSETTO:+0200
TZNAME:CEST
DTSTART:20180325T010000
END:DAYLIGHT
BEGIN:STANDARD
TZOFFSETFROM:+0200
TZOFFSETTO:+0100
TZNAME:CET
DTSTART:20181028T010000
END:STANDARD
BEGIN:DAYLIGHT
TZOFFSETFROM:+0100
TZOFFSETTO:+0200
TZNAME:CEST
DTSTART:20190331T010000
END:DAYLIGHT
BEGIN:STANDARD
TZOFFSETFROM:+0200
TZOFFSETTO:+0100
TZNAME:CET
DTSTART:20191027T010000
END:STANDARD
BEGIN:DAYLIGHT
TZOFFSETFROM:+0100
TZOFFSETTO:+0200
TZNAME:CEST
DTSTART:20200329T010000
END:DAYLIGHT
BEGIN:STANDARD
TZOFFSETFROM:+0200
TZOFFSETTO:+0100
TZNAME:CET
DTSTART:20201025T010000
END:STANDARD
END:VTIMEZONE
BEGIN:VEVENT
DTSTART;TZID=Europe/Vienna:20190429T153000
DTEND;TZID=Europe/Vienna:20190429T163000
DTSTAMP:20260420T233658
CREATED:20190303T215131Z
LAST-MODIFIED:20190303T215131Z
UID:2685-1556551800-1556555400@www.rosinka.at
SUMMARY:Музыкальное Развитие (4-6)
DESCRIPTION:
URL:https://www.rosinka.at/event/%d0%bc%d1%83%d0%b7%d1%8b%d0%ba%d0%b0%d0%bb%d1%8c%d0%bd%d0%be%d0%b5-%d1%80%d0%b0%d0%b7%d0%b2%d0%b8%d1%82%d0%b8%d0%b5-4-6-7/
END:VEVENT
BEGIN:VEVENT
DTSTART;TZID=Europe/Vienna:20190430T160000
DTEND;TZID=Europe/Vienna:20190430T170000
DTSTAMP:20260420T233658
CREATED:20190227T214616Z
LAST-MODIFIED:20190318T191853Z
UID:2662-1556640000-1556643600@www.rosinka.at
SUMMARY:СВЕТЛЯЧКИ (1\,5-3)
DESCRIPTION:
URL:https://www.rosinka.at/event/%d0%b3%d1%80%d1%83%d0%bf%d0%bf%d0%b0-15-3-%d0%b3%d0%be%d0%b4%d0%b0-18/
END:VEVENT
BEGIN:VEVENT
DTSTART;TZID=Europe/Vienna:20190430T163000
DTEND;TZID=Europe/Vienna:20190430T181500
DTSTAMP:20260420T233658
CREATED:20190227T214644Z
LAST-MODIFIED:20190227T214644Z
UID:2664-1556641800-1556648100@www.rosinka.at
SUMMARY:ЗОЛОТОЙ КЛЮЧИК (8-10)
DESCRIPTION:
URL:https://www.rosinka.at/event/%d0%b7%d0%be%d0%bb%d0%be%d1%82%d0%be%d0%b9-%d0%ba%d0%bb%d1%8e%d1%87%d0%b8%d0%ba-8-10-7/
END:VEVENT
BEGIN:VEVENT
DTSTART;VALUE=DATE:20190501
DTEND;VALUE=DATE:20190502
DTSTAMP:20260420T233658
CREATED:20180907T080156Z
LAST-MODIFIED:20180907T081127Z
UID:1859-1556668800-1556755199@www.rosinka.at
SUMMARY:НЕУЧЕБНЫЙ ДЕНЬ
DESCRIPTION:
URL:https://www.rosinka.at/event/%d0%b3%d0%be%d1%81%d1%83%d0%b4%d0%b0%d1%80%d1%81%d1%82%d0%b2%d0%b5%d0%bd%d0%bd%d1%8b%d0%b9-%d0%bf%d1%80%d0%b0%d0%b7%d0%b4%d0%bd%d0%b8%d0%ba-4/
END:VEVENT
BEGIN:VEVENT
DTSTART;TZID=Europe/Vienna:20190501T160000
DTEND;TZID=Europe/Vienna:20190501T170000
DTSTAMP:20260420T233658
CREATED:20190412T145413Z
LAST-MODIFIED:20190412T145413Z
UID:3073-1556726400-1556730000@www.rosinka.at
SUMMARY:ЯКОРЕК (4-5)
DESCRIPTION:
URL:https://www.rosinka.at/event/%d1%8f%d0%ba%d0%be%d1%80%d0%b5%d0%ba-4-5-18/
END:VEVENT
BEGIN:VEVENT
DTSTART;TZID=Europe/Vienna:20190502T150000
DTEND;TZID=Europe/Vienna:20190502T163000
DTSTAMP:20260420T233658
CREATED:20190311T083933Z
LAST-MODIFIED:20190311T084855Z
UID:2765-1556809200-1556814600@www.rosinka.at
SUMMARY:ЖИВОПИСЬ (7-11)
DESCRIPTION:
URL:https://www.rosinka.at/event/%d0%b6%d0%b8%d0%b2%d0%be%d0%bf%d0%b8%d1%81%d1%8c-7-11-8/
END:VEVENT
BEGIN:VEVENT
DTSTART;TZID=Europe/Vienna:20190502T163000
DTEND;TZID=Europe/Vienna:20190502T181500
DTSTAMP:20260420T233658
CREATED:20190311T085100Z
LAST-MODIFIED:20190311T085100Z
UID:2773-1556814600-1556820900@www.rosinka.at
SUMMARY:ЗВЕЗДОЧЕТЫ (7-8)
DESCRIPTION:
URL:https://www.rosinka.at/event/%d0%b7%d0%b2%d0%b5%d0%b7%d0%b4%d0%be%d1%87%d0%b5%d1%82%d1%8b-7-8-11/
END:VEVENT
BEGIN:VEVENT
DTSTART;TZID=Europe/Vienna:20190502T164000
DTEND;TZID=Europe/Vienna:20190502T174000
DTSTAMP:20260420T233658
CREATED:20190311T084006Z
LAST-MODIFIED:20190311T084056Z
UID:2767-1556815200-1556818800@www.rosinka.at
SUMMARY:ЖИВОПИСЬ (4-6)
DESCRIPTION:
URL:https://www.rosinka.at/event/%d0%b7%d0%b2%d0%b5%d0%b7%d0%b4%d0%be%d1%87%d0%b5%d1%82%d1%8b-7-8-10/
END:VEVENT
BEGIN:VEVENT
DTSTART;TZID=Europe/Vienna:20190503T154500
DTEND;TZID=Europe/Vienna:20190503T173000
DTSTAMP:20260420T233658
CREATED:20190311T084333Z
LAST-MODIFIED:20190311T084333Z
UID:2770-1556898300-1556904600@www.rosinka.at
SUMMARY:ФАНТАЗЕРЫ (6-7)
DESCRIPTION:
URL:https://www.rosinka.at/event/%d1%84%d0%b0%d0%bd%d1%82%d0%b0%d0%b7%d0%b5%d1%80%d1%8b-6-7-9/
END:VEVENT
BEGIN:VEVENT
DTSTART;TZID=Europe/Vienna:20190504T110000
DTEND;TZID=Europe/Vienna:20190504T123000
DTSTAMP:20260420T233658
CREATED:20190318T221033Z
LAST-MODIFIED:20190318T221033Z
UID:3004-1556967600-1556973000@www.rosinka.at
SUMMARY:БЛОК II:  ХОХЛОМА
DESCRIPTION:
URL:https://www.rosinka.at/event/%d0%b1%d0%bb%d0%be%d0%ba-ii-%d1%85%d0%be%d1%85%d0%bb%d0%be%d0%bc%d0%b0-2/
END:VEVENT
BEGIN:VEVENT
DTSTART;TZID=Europe/Vienna:20190504T113000
DTEND;TZID=Europe/Vienna:20190504T123000
DTSTAMP:20260420T233658
CREATED:20190311T085453Z
LAST-MODIFIED:20190311T085453Z
UID:2775-1556969400-1556973000@www.rosinka.at
SUMMARY:РОБОТОТЕХНИКА (7-10)
DESCRIPTION:
URL:https://www.rosinka.at/event/%d1%80%d0%be%d0%b1%d0%be%d1%82%d0%be%d1%82%d0%b5%d1%85%d0%bd%d0%b8%d0%ba%d0%b0-7-10-8/
END:VEVENT
BEGIN:VEVENT
DTSTART;TZID=Europe/Vienna:20190504T133000
DTEND;TZID=Europe/Vienna:20190504T150000
DTSTAMP:20260420T233658
CREATED:20190311T090128Z
LAST-MODIFIED:20190311T090128Z
UID:2777-1556976600-1556982000@www.rosinka.at
SUMMARY:РОБОТОТЕХНИКА (11+)
DESCRIPTION:
URL:https://www.rosinka.at/event/%d1%80%d0%be%d0%b1%d0%be%d1%82%d0%be%d1%82%d0%b5%d1%85%d0%bd%d0%b8%d0%ba%d0%b0-11-8/
END:VEVENT
END:VCALENDAR