BEGIN:VCALENDAR
VERSION:2.0
PRODID:-//Rosinka - ECPv6.15.20//NONSGML v1.0//EN
CALSCALE:GREGORIAN
METHOD:PUBLISH
X-WR-CALNAME:Rosinka
X-ORIGINAL-URL:https://www.rosinka.at
X-WR-CALDESC:Мероприятия для Rosinka
REFRESH-INTERVAL;VALUE=DURATION:PT1H
X-Robots-Tag:noindex
X-PUBLISHED-TTL:PT1H
BEGIN:VTIMEZONE
TZID:Europe/Vienna
BEGIN:DAYLIGHT
TZOFFSETFROM:+0100
TZOFFSETTO:+0200
TZNAME:CEST
DTSTART:20180325T010000
END:DAYLIGHT
BEGIN:STANDARD
TZOFFSETFROM:+0200
TZOFFSETTO:+0100
TZNAME:CET
DTSTART:20181028T010000
END:STANDARD
BEGIN:DAYLIGHT
TZOFFSETFROM:+0100
TZOFFSETTO:+0200
TZNAME:CEST
DTSTART:20190331T010000
END:DAYLIGHT
BEGIN:STANDARD
TZOFFSETFROM:+0200
TZOFFSETTO:+0100
TZNAME:CET
DTSTART:20191027T010000
END:STANDARD
BEGIN:DAYLIGHT
TZOFFSETFROM:+0100
TZOFFSETTO:+0200
TZNAME:CEST
DTSTART:20200329T010000
END:DAYLIGHT
BEGIN:STANDARD
TZOFFSETFROM:+0200
TZOFFSETTO:+0100
TZNAME:CET
DTSTART:20201025T010000
END:STANDARD
END:VTIMEZONE
BEGIN:VEVENT
DTSTART;TZID=Europe/Vienna:20190507T163000
DTEND;TZID=Europe/Vienna:20190507T181500
DTSTAMP:20260421T072531
CREATED:20190311T090804Z
LAST-MODIFIED:20190311T090804Z
UID:2781-1557246600-1557252900@www.rosinka.at
SUMMARY:ЗОЛОТОЙ КЛЮЧИК (8-10)
DESCRIPTION:
URL:https://www.rosinka.at/event/%d0%b7%d0%be%d0%bb%d0%be%d1%82%d0%be%d0%b9-%d0%ba%d0%bb%d1%8e%d1%87%d0%b8%d0%ba-8-10-8/
END:VEVENT
BEGIN:VEVENT
DTSTART;TZID=Europe/Vienna:20190508T150000
DTEND;TZID=Europe/Vienna:20190508T160000
DTSTAMP:20260421T072531
CREATED:20190311T093458Z
LAST-MODIFIED:20190311T093650Z
UID:2788-1557327600-1557331200@www.rosinka.at
SUMMARY:СТУДИЯ ДИЗАЙНА
DESCRIPTION:
URL:https://www.rosinka.at/event/%d1%81%d1%82%d1%83%d0%b4%d0%b8%d1%8f-%d0%b4%d0%b8%d0%b7%d0%b0%d0%b9%d0%bd%d0%b0-10/
END:VEVENT
BEGIN:VEVENT
DTSTART;TZID=Europe/Vienna:20190508T160000
DTEND;TZID=Europe/Vienna:20190508T170000
DTSTAMP:20260421T072531
CREATED:20190311T091720Z
LAST-MODIFIED:20190311T091720Z
UID:2783-1557331200-1557334800@www.rosinka.at
SUMMARY:ЯКОРЕК (4-5)
DESCRIPTION:
URL:https://www.rosinka.at/event/%d1%8f%d0%ba%d0%be%d1%80%d0%b5%d0%ba-4-5-11/
END:VEVENT
BEGIN:VEVENT
DTSTART;TZID=Europe/Vienna:20190508T163000
DTEND;TZID=Europe/Vienna:20190508T173000
DTSTAMP:20260421T072531
CREATED:20190311T093755Z
LAST-MODIFIED:20190311T094032Z
UID:2790-1557333000-1557336600@www.rosinka.at
SUMMARY:ТЕАТРАЛЬНЫЙ КРУЖОК (3-4)
DESCRIPTION:
URL:https://www.rosinka.at/event/%d1%82%d0%b5%d0%b0%d1%82%d1%80%d0%b0%d0%bb%d1%8c%d0%bd%d1%8b%d0%b9-%d0%ba%d1%80%d1%83%d0%b6%d0%be%d0%ba-3-4-7/
LOCATION:Alte Poststraße 134\, 8020 Graz\, Alte Poststraße 134\, Graz\, 8020\, Austria
END:VEVENT
BEGIN:VEVENT
DTSTART;TZID=Europe/Vienna:20190509T150000
DTEND;TZID=Europe/Vienna:20190509T163000
DTSTAMP:20260421T072531
CREATED:20190311T093834Z
LAST-MODIFIED:20190311T093834Z
UID:2792-1557414000-1557419400@www.rosinka.at
SUMMARY:ЖИВОПИСЬ (7-11)
DESCRIPTION:
URL:https://www.rosinka.at/event/%d0%b6%d0%b8%d0%b2%d0%be%d0%bf%d0%b8%d1%81%d1%8c-7-11-9/
END:VEVENT
BEGIN:VEVENT
DTSTART;TZID=Europe/Vienna:20190509T163000
DTEND;TZID=Europe/Vienna:20190509T181500
DTSTAMP:20260421T072531
CREATED:20190311T093903Z
LAST-MODIFIED:20190311T093903Z
UID:2794-1557419400-1557425700@www.rosinka.at
SUMMARY:ЗВЕЗДОЧЕТЫ (7-8)
DESCRIPTION:
URL:https://www.rosinka.at/event/%d0%b7%d0%b2%d0%b5%d0%b7%d0%b4%d0%be%d1%87%d0%b5%d1%82%d1%8b-7-8-12/
END:VEVENT
BEGIN:VEVENT
DTSTART;TZID=Europe/Vienna:20190509T164000
DTEND;TZID=Europe/Vienna:20190509T174000
DTSTAMP:20260421T072531
CREATED:20190311T093933Z
LAST-MODIFIED:20190311T093933Z
UID:2796-1557420000-1557423600@www.rosinka.at
SUMMARY:ЖИВОПИСЬ (4-6)
DESCRIPTION:
URL:https://www.rosinka.at/event/%d0%b6%d0%b8%d0%b2%d0%be%d0%bf%d0%b8%d1%81%d1%8c-4-6-7/
END:VEVENT
BEGIN:VEVENT
DTSTART;TZID=Europe/Vienna:20190510T154500
DTEND;TZID=Europe/Vienna:20190510T173000
DTSTAMP:20260421T072531
CREATED:20190311T094006Z
LAST-MODIFIED:20190311T094006Z
UID:2798-1557503100-1557509400@www.rosinka.at
SUMMARY:ФАНТАЗЕРЫ (6-7)
DESCRIPTION:
URL:https://www.rosinka.at/event/%d1%84%d0%b0%d0%bd%d1%82%d0%b0%d0%b7%d0%b5%d1%80%d1%8b-6-7-10/
END:VEVENT
BEGIN:VEVENT
DTSTART;TZID=Europe/Vienna:20190511T113000
DTEND;TZID=Europe/Vienna:20190511T123000
DTSTAMP:20260421T072531
CREATED:20190311T094238Z
LAST-MODIFIED:20190311T094238Z
UID:2800-1557574200-1557577800@www.rosinka.at
SUMMARY:РОБОТОТЕХНИКА (7-10)
DESCRIPTION:
URL:https://www.rosinka.at/event/%d1%80%d0%be%d0%b1%d0%be%d1%82%d0%be%d1%82%d0%b5%d1%85%d0%bd%d0%b8%d0%ba%d0%b0-7-10-9/
END:VEVENT
BEGIN:VEVENT
DTSTART;TZID=Europe/Vienna:20190511T133000
DTEND;TZID=Europe/Vienna:20190511T150000
DTSTAMP:20260421T072531
CREATED:20190311T094316Z
LAST-MODIFIED:20190311T094316Z
UID:2803-1557581400-1557586800@www.rosinka.at
SUMMARY:РОБОТОТЕХНИКА (11+)
DESCRIPTION:
URL:https://www.rosinka.at/event/%d1%80%d0%be%d0%b1%d0%be%d1%82%d0%be%d1%82%d0%b5%d1%85%d0%bd%d0%b8%d0%ba%d0%b0-11-9/
END:VEVENT
END:VCALENDAR