BEGIN:VCALENDAR
VERSION:2.0
PRODID:-//Rosinka - ECPv6.15.20//NONSGML v1.0//EN
CALSCALE:GREGORIAN
METHOD:PUBLISH
X-WR-CALNAME:Rosinka
X-ORIGINAL-URL:https://www.rosinka.at
X-WR-CALDESC:Мероприятия для Rosinka
REFRESH-INTERVAL;VALUE=DURATION:PT1H
X-Robots-Tag:noindex
X-PUBLISHED-TTL:PT1H
BEGIN:VTIMEZONE
TZID:Europe/Vienna
BEGIN:DAYLIGHT
TZOFFSETFROM:+0100
TZOFFSETTO:+0200
TZNAME:CEST
DTSTART:20180325T010000
END:DAYLIGHT
BEGIN:STANDARD
TZOFFSETFROM:+0200
TZOFFSETTO:+0100
TZNAME:CET
DTSTART:20181028T010000
END:STANDARD
BEGIN:DAYLIGHT
TZOFFSETFROM:+0100
TZOFFSETTO:+0200
TZNAME:CEST
DTSTART:20190331T010000
END:DAYLIGHT
BEGIN:STANDARD
TZOFFSETFROM:+0200
TZOFFSETTO:+0100
TZNAME:CET
DTSTART:20191027T010000
END:STANDARD
BEGIN:DAYLIGHT
TZOFFSETFROM:+0100
TZOFFSETTO:+0200
TZNAME:CEST
DTSTART:20200329T010000
END:DAYLIGHT
BEGIN:STANDARD
TZOFFSETFROM:+0200
TZOFFSETTO:+0100
TZNAME:CET
DTSTART:20201025T010000
END:STANDARD
END:VTIMEZONE
BEGIN:VEVENT
DTSTART;TZID=Europe/Vienna:20190514T160000
DTEND;TZID=Europe/Vienna:20190514T170000
DTSTAMP:20260421T023904
CREATED:20190311T094425Z
LAST-MODIFIED:20190318T191828Z
UID:2805-1557849600-1557853200@www.rosinka.at
SUMMARY:СВЕТЛЯЧКИ (1\,5-3)
DESCRIPTION:
URL:https://www.rosinka.at/event/%d0%b3%d1%80%d1%83%d0%bf%d0%bf%d0%b0-15-3-2/
END:VEVENT
BEGIN:VEVENT
DTSTART;TZID=Europe/Vienna:20190514T163000
DTEND;TZID=Europe/Vienna:20190514T181500
DTSTAMP:20260421T023904
CREATED:20190311T094510Z
LAST-MODIFIED:20190311T094510Z
UID:2807-1557851400-1557857700@www.rosinka.at
SUMMARY:ЗОЛОТОЙ КЛЮЧИК (8-10)
DESCRIPTION:
URL:https://www.rosinka.at/event/%d0%b7%d0%be%d0%bb%d0%be%d1%82%d0%be%d0%b9-%d0%ba%d0%bb%d1%8e%d1%87%d0%b8%d0%ba-8-10-9/
END:VEVENT
BEGIN:VEVENT
DTSTART;TZID=Europe/Vienna:20190515T150000
DTEND;TZID=Europe/Vienna:20190515T160000
DTSTAMP:20260421T023904
CREATED:20190311T094541Z
LAST-MODIFIED:20190311T094541Z
UID:2809-1557932400-1557936000@www.rosinka.at
SUMMARY:СТУДИЯ ДИЗАЙНА
DESCRIPTION:
URL:https://www.rosinka.at/event/%d1%81%d1%82%d1%83%d0%b4%d0%b8%d1%8f-%d0%b4%d0%b8%d0%b7%d0%b0%d0%b9%d0%bd%d0%b0-11/
END:VEVENT
BEGIN:VEVENT
DTSTART;TZID=Europe/Vienna:20190515T160000
DTEND;TZID=Europe/Vienna:20190515T170000
DTSTAMP:20260421T023904
CREATED:20190311T094601Z
LAST-MODIFIED:20190311T094601Z
UID:2811-1557936000-1557939600@www.rosinka.at
SUMMARY:ЯКОРЕК (4-5)
DESCRIPTION:
URL:https://www.rosinka.at/event/%d1%8f%d0%ba%d0%be%d1%80%d0%b5%d0%ba-4-5-12/
END:VEVENT
BEGIN:VEVENT
DTSTART;TZID=Europe/Vienna:20190515T163000
DTEND;TZID=Europe/Vienna:20190515T173000
DTSTAMP:20260421T023904
CREATED:20190311T094635Z
LAST-MODIFIED:20190311T094635Z
UID:2813-1557937800-1557941400@www.rosinka.at
SUMMARY:ТЕАТРАЛЬНЫЙ КРУЖОК (3-4)
DESCRIPTION:
URL:https://www.rosinka.at/event/%d1%82%d0%b5%d0%b0%d1%82%d1%80%d0%b0%d0%bb%d1%8c%d0%bd%d1%8b%d0%b9-%d0%ba%d1%80%d1%83%d0%b6%d0%be%d0%ba-3-4-8/
LOCATION:Alte Poststraße 134\, 8020 Graz\, Alte Poststraße 134\, Graz\, 8020\, Austria
END:VEVENT
BEGIN:VEVENT
DTSTART;TZID=Europe/Vienna:20190516T150000
DTEND;TZID=Europe/Vienna:20190516T163000
DTSTAMP:20260421T023904
CREATED:20190311T094719Z
LAST-MODIFIED:20190311T094719Z
UID:2815-1558018800-1558024200@www.rosinka.at
SUMMARY:ЖИВОПИСЬ (7-11)
DESCRIPTION:
URL:https://www.rosinka.at/event/%d0%b6%d0%b8%d0%b2%d0%be%d0%bf%d0%b8%d1%81%d1%8c-7-11-10/
END:VEVENT
BEGIN:VEVENT
DTSTART;TZID=Europe/Vienna:20190516T163000
DTEND;TZID=Europe/Vienna:20190516T181500
DTSTAMP:20260421T023904
CREATED:20190311T094746Z
LAST-MODIFIED:20190311T094746Z
UID:2817-1558024200-1558030500@www.rosinka.at
SUMMARY:ЗВЕЗДОЧЕТЫ (7-8)
DESCRIPTION:
URL:https://www.rosinka.at/event/%d0%b7%d0%b2%d0%b5%d0%b7%d0%b4%d0%be%d1%87%d0%b5%d1%82%d1%8b-7-8-13/
END:VEVENT
BEGIN:VEVENT
DTSTART;TZID=Europe/Vienna:20190516T164000
DTEND;TZID=Europe/Vienna:20190516T174000
DTSTAMP:20260421T023904
CREATED:20190311T094816Z
LAST-MODIFIED:20190311T094816Z
UID:2819-1558024800-1558028400@www.rosinka.at
SUMMARY:ЖИВОПИСЬ (4-6)
DESCRIPTION:
URL:https://www.rosinka.at/event/%d0%b6%d0%b8%d0%b2%d0%be%d0%bf%d0%b8%d1%81%d1%8c-4-6-8/
END:VEVENT
BEGIN:VEVENT
DTSTART;TZID=Europe/Vienna:20190517T154500
DTEND;TZID=Europe/Vienna:20190517T173000
DTSTAMP:20260421T023904
CREATED:20190311T094847Z
LAST-MODIFIED:20190311T094847Z
UID:2821-1558107900-1558114200@www.rosinka.at
SUMMARY:ФАНТАЗЕРЫ (6-7)
DESCRIPTION:
URL:https://www.rosinka.at/event/%d1%84%d0%b0%d0%bd%d1%82%d0%b0%d0%b7%d0%b5%d1%80%d1%8b-6-7-11/
END:VEVENT
BEGIN:VEVENT
DTSTART;TZID=Europe/Vienna:20190518T113000
DTEND;TZID=Europe/Vienna:20190518T123000
DTSTAMP:20260421T023904
CREATED:20190311T094934Z
LAST-MODIFIED:20190311T094934Z
UID:2823-1558179000-1558182600@www.rosinka.at
SUMMARY:РОБОТОТЕХНИКА (7-10)
DESCRIPTION:
URL:https://www.rosinka.at/event/%d1%80%d0%be%d0%b1%d0%be%d1%82%d0%be%d1%82%d0%b5%d1%85%d0%bd%d0%b8%d0%ba%d0%b0-7-10-10/
END:VEVENT
BEGIN:VEVENT
DTSTART;TZID=Europe/Vienna:20190518T133000
DTEND;TZID=Europe/Vienna:20190518T150000
DTSTAMP:20260421T023904
CREATED:20190311T095003Z
LAST-MODIFIED:20190311T095003Z
UID:2825-1558186200-1558191600@www.rosinka.at
SUMMARY:РОБОТОТЕХНИКА (11+)
DESCRIPTION:
URL:https://www.rosinka.at/event/%d1%80%d0%be%d0%b1%d0%be%d1%82%d0%be%d1%82%d0%b5%d1%85%d0%bd%d0%b8%d0%ba%d0%b0-11-10/
END:VEVENT
END:VCALENDAR