BEGIN:VCALENDAR
VERSION:2.0
PRODID:-//Rosinka - ECPv6.15.20//NONSGML v1.0//EN
CALSCALE:GREGORIAN
METHOD:PUBLISH
X-ORIGINAL-URL:https://www.rosinka.at
X-WR-CALDESC:Мероприятия для Rosinka
REFRESH-INTERVAL;VALUE=DURATION:PT1H
X-Robots-Tag:noindex
X-PUBLISHED-TTL:PT1H
BEGIN:VTIMEZONE
TZID:Europe/Vienna
BEGIN:DAYLIGHT
TZOFFSETFROM:+0100
TZOFFSETTO:+0200
TZNAME:CEST
DTSTART:20180325T010000
END:DAYLIGHT
BEGIN:STANDARD
TZOFFSETFROM:+0200
TZOFFSETTO:+0100
TZNAME:CET
DTSTART:20181028T010000
END:STANDARD
BEGIN:DAYLIGHT
TZOFFSETFROM:+0100
TZOFFSETTO:+0200
TZNAME:CEST
DTSTART:20190331T010000
END:DAYLIGHT
BEGIN:STANDARD
TZOFFSETFROM:+0200
TZOFFSETTO:+0100
TZNAME:CET
DTSTART:20191027T010000
END:STANDARD
BEGIN:DAYLIGHT
TZOFFSETFROM:+0100
TZOFFSETTO:+0200
TZNAME:CEST
DTSTART:20200329T010000
END:DAYLIGHT
BEGIN:STANDARD
TZOFFSETFROM:+0200
TZOFFSETTO:+0100
TZNAME:CET
DTSTART:20201025T010000
END:STANDARD
END:VTIMEZONE
BEGIN:VEVENT
DTSTART;TZID=Europe/Vienna:20190617T153000
DTEND;TZID=Europe/Vienna:20190617T163000
DTSTAMP:20260420T234833
CREATED:20190303T215455Z
LAST-MODIFIED:20190303T215455Z
UID:2697-1560785400-1560789000@www.rosinka.at
SUMMARY:Музыкальное Развитие (4-6)
DESCRIPTION:
URL:https://www.rosinka.at/event/%d0%bc%d1%83%d0%b7%d1%8b%d0%ba%d0%b0%d0%bb%d1%8c%d0%bd%d0%be%d0%b5-%d1%80%d0%b0%d0%b7%d0%b2%d0%b8%d1%82%d0%b8%d0%b5-4-6-13/
END:VEVENT
BEGIN:VEVENT
DTSTART;TZID=Europe/Vienna:20190618T160000
DTEND;TZID=Europe/Vienna:20190618T170000
DTSTAMP:20260420T234833
CREATED:20190318T151316Z
LAST-MODIFIED:20190318T151316Z
UID:2942-1560873600-1560877200@www.rosinka.at
SUMMARY:СВЕТЛЯЧКИ (1\,5-3)
DESCRIPTION:
URL:https://www.rosinka.at/event/%d1%81%d0%b2%d0%b5%d1%82%d0%bb%d1%8f%d1%87%d0%ba%d0%b8-15-3-2/
END:VEVENT
BEGIN:VEVENT
DTSTART;TZID=Europe/Vienna:20190618T163000
DTEND;TZID=Europe/Vienna:20190618T181500
DTSTAMP:20260420T234833
CREATED:20190318T151348Z
LAST-MODIFIED:20190318T151348Z
UID:2944-1560875400-1560881700@www.rosinka.at
SUMMARY:ЗОЛОТОЙ КЛЮЧИК (8-10)
DESCRIPTION:
URL:https://www.rosinka.at/event/%d0%b7%d0%be%d0%bb%d0%be%d1%82%d0%be%d0%b9-%d0%ba%d0%bb%d1%8e%d1%87%d0%b8%d0%ba-8-10-13/
END:VEVENT
BEGIN:VEVENT
DTSTART;TZID=Europe/Vienna:20190619T160000
DTEND;TZID=Europe/Vienna:20190619T170000
DTSTAMP:20260420T234833
CREATED:20190318T151451Z
LAST-MODIFIED:20190318T151451Z
UID:2948-1560960000-1560963600@www.rosinka.at
SUMMARY:ЯКОРЕК (3-4)
DESCRIPTION:
URL:https://www.rosinka.at/event/%d1%8f%d0%ba%d0%be%d1%80%d0%b5%d0%ba-3-4/
END:VEVENT
BEGIN:VEVENT
DTSTART;TZID=Europe/Vienna:20190619T163000
DTEND;TZID=Europe/Vienna:20190619T173000
DTSTAMP:20260420T234833
CREATED:20190318T151527Z
LAST-MODIFIED:20190318T151527Z
UID:2950-1560961800-1560965400@www.rosinka.at
SUMMARY:ТЕАТРАЛЬНАЯ СТУДИЯ (3-4)
DESCRIPTION:
URL:https://www.rosinka.at/event/%d1%82%d0%b5%d0%b0%d1%82%d1%80%d0%b0%d0%bb%d1%8c%d0%bd%d0%b0%d1%8f-%d1%81%d1%82%d1%83%d0%b4%d0%b8%d1%8f-3-4-2/
LOCATION:Alte Poststraße 134\, 8020 Graz\, Alte Poststraße 134\, Graz\, 8020\, Austria
END:VEVENT
BEGIN:VEVENT
DTSTART;VALUE=DATE:20190620
DTEND;VALUE=DATE:20190621
DTSTAMP:20260420T234833
CREATED:20180907T080726Z
LAST-MODIFIED:20180907T081808Z
UID:1866-1560988800-1561075199@www.rosinka.at
SUMMARY:НЕУЧЕБНЫЙ ДЕНЬ
DESCRIPTION:
URL:https://www.rosinka.at/event/%d0%b3%d0%be%d1%81%d1%83%d0%b4%d0%b0%d1%80%d1%81%d1%82%d0%b2%d0%b5%d0%bd%d0%bd%d1%8b%d0%b9-%d0%bf%d1%80%d0%b0%d0%b7%d0%b4%d0%bd%d0%b8%d0%ba-6/
END:VEVENT
BEGIN:VEVENT
DTSTART;TZID=Europe/Vienna:20190621T154500
DTEND;TZID=Europe/Vienna:20190621T173000
DTSTAMP:20260420T234833
CREATED:20190318T151605Z
LAST-MODIFIED:20190318T151605Z
UID:2952-1561131900-1561138200@www.rosinka.at
SUMMARY:ФАНТАЗЕРЫ (6-7)
DESCRIPTION:
URL:https://www.rosinka.at/event/%d1%84%d0%b0%d0%bd%d1%82%d0%b0%d0%b7%d0%b5%d1%80%d1%8b-6-7-15/
END:VEVENT
BEGIN:VEVENT
DTSTART;TZID=Europe/Vienna:20190622T113000
DTEND;TZID=Europe/Vienna:20190622T123000
DTSTAMP:20260420T234833
CREATED:20190318T151704Z
LAST-MODIFIED:20190318T151704Z
UID:2954-1561203000-1561206600@www.rosinka.at
SUMMARY:РОБОТОТЕХНИКА (7-10)
DESCRIPTION:
URL:https://www.rosinka.at/event/%d1%80%d0%be%d0%b1%d0%be%d1%82%d0%be%d1%82%d0%b5%d1%85%d0%bd%d0%b8%d0%ba%d0%b0-7-10-12/
END:VEVENT
BEGIN:VEVENT
DTSTART;TZID=Europe/Vienna:20190622T133000
DTEND;TZID=Europe/Vienna:20190622T150000
DTSTAMP:20260420T234833
CREATED:20190318T151752Z
LAST-MODIFIED:20190318T151752Z
UID:2956-1561210200-1561215600@www.rosinka.at
SUMMARY:РОБОТОТЕХНИКА (11+)
DESCRIPTION:
URL:https://www.rosinka.at/event/%d1%80%d0%be%d0%b1%d0%be%d1%82%d0%be%d1%82%d0%b5%d1%85%d0%bd%d0%b8%d0%ba%d0%b0-11-13/
END:VEVENT
END:VCALENDAR