BEGIN:VCALENDAR
VERSION:2.0
PRODID:-//Rosinka - ECPv6.15.20//NONSGML v1.0//EN
CALSCALE:GREGORIAN
METHOD:PUBLISH
X-ORIGINAL-URL:https://www.rosinka.at
X-WR-CALDESC:Мероприятия для Rosinka
REFRESH-INTERVAL;VALUE=DURATION:PT1H
X-Robots-Tag:noindex
X-PUBLISHED-TTL:PT1H
BEGIN:VTIMEZONE
TZID:Europe/Vienna
BEGIN:DAYLIGHT
TZOFFSETFROM:+0100
TZOFFSETTO:+0200
TZNAME:CEST
DTSTART:20180325T010000
END:DAYLIGHT
BEGIN:STANDARD
TZOFFSETFROM:+0200
TZOFFSETTO:+0100
TZNAME:CET
DTSTART:20181028T010000
END:STANDARD
BEGIN:DAYLIGHT
TZOFFSETFROM:+0100
TZOFFSETTO:+0200
TZNAME:CEST
DTSTART:20190331T010000
END:DAYLIGHT
BEGIN:STANDARD
TZOFFSETFROM:+0200
TZOFFSETTO:+0100
TZNAME:CET
DTSTART:20191027T010000
END:STANDARD
BEGIN:DAYLIGHT
TZOFFSETFROM:+0100
TZOFFSETTO:+0200
TZNAME:CEST
DTSTART:20200329T010000
END:DAYLIGHT
BEGIN:STANDARD
TZOFFSETFROM:+0200
TZOFFSETTO:+0100
TZNAME:CET
DTSTART:20201025T010000
END:STANDARD
END:VTIMEZONE
BEGIN:VEVENT
DTSTART;TZID=Europe/Vienna:20190624T153000
DTEND;TZID=Europe/Vienna:20190624T163000
DTSTAMP:20260420T234835
CREATED:20190303T215548Z
LAST-MODIFIED:20190303T215548Z
UID:2701-1561390200-1561393800@www.rosinka.at
SUMMARY:Музыкальное Развитие (4-6)
DESCRIPTION:
URL:https://www.rosinka.at/event/%d0%bc%d1%83%d0%b7%d1%8b%d0%ba%d0%b0%d0%bb%d1%8c%d0%bd%d0%be%d0%b5-%d1%80%d0%b0%d0%b7%d0%b2%d0%b8%d1%82%d0%b8%d0%b5-4-6-14/
END:VEVENT
BEGIN:VEVENT
DTSTART;TZID=Europe/Vienna:20190625T160000
DTEND;TZID=Europe/Vienna:20190625T170000
DTSTAMP:20260420T234835
CREATED:20190318T151852Z
LAST-MODIFIED:20190318T151852Z
UID:2958-1561478400-1561482000@www.rosinka.at
SUMMARY:СВЕТЛЯЧКИ (1\,5-3)
DESCRIPTION:
URL:https://www.rosinka.at/event/%d1%81%d0%b2%d0%b5%d1%82%d0%bb%d1%8f%d1%87%d0%ba%d0%b8-15-3-3/
END:VEVENT
BEGIN:VEVENT
DTSTART;TZID=Europe/Vienna:20190625T163000
DTEND;TZID=Europe/Vienna:20190625T181500
DTSTAMP:20260420T234835
CREATED:20190318T151930Z
LAST-MODIFIED:20190318T151930Z
UID:2960-1561480200-1561486500@www.rosinka.at
SUMMARY:ЗОЛОТОЙ КЛЮЧИК (8-10)
DESCRIPTION:
URL:https://www.rosinka.at/event/%d0%b7%d0%be%d0%bb%d0%be%d1%82%d0%be%d0%b9-%d0%ba%d0%bb%d1%8e%d1%87%d0%b8%d0%ba-8-10-14/
END:VEVENT
BEGIN:VEVENT
DTSTART;TZID=Europe/Vienna:20190626T160000
DTEND;TZID=Europe/Vienna:20190626T170000
DTSTAMP:20260420T234835
CREATED:20190318T152030Z
LAST-MODIFIED:20190318T152030Z
UID:2964-1561564800-1561568400@www.rosinka.at
SUMMARY:ЯКОРЕК (4-5)
DESCRIPTION:
URL:https://www.rosinka.at/event/%d1%8f%d0%ba%d0%be%d1%80%d0%b5%d0%ba-4-5-17/
END:VEVENT
BEGIN:VEVENT
DTSTART;TZID=Europe/Vienna:20190626T163000
DTEND;TZID=Europe/Vienna:20190626T173000
DTSTAMP:20260420T234835
CREATED:20190318T152109Z
LAST-MODIFIED:20190318T152109Z
UID:2966-1561566600-1561570200@www.rosinka.at
SUMMARY:ТЕАТРАЛЬНЫЙ КРУЖОК (3-4)
DESCRIPTION:
URL:https://www.rosinka.at/event/%d1%82%d0%b5%d0%b0%d1%82%d1%80%d0%b0%d0%bb%d1%8c%d0%bd%d1%8b%d0%b9-%d0%ba%d1%80%d1%83%d0%b6%d0%be%d0%ba-3-4-13/
LOCATION:Alte Poststraße 134\, 8020 Graz\, Alte Poststraße 134\, Graz\, 8020\, Austria
END:VEVENT
BEGIN:VEVENT
DTSTART;TZID=Europe/Vienna:20190627T150000
DTEND;TZID=Europe/Vienna:20190627T163000
DTSTAMP:20260420T234835
CREATED:20190318T152204Z
LAST-MODIFIED:20190318T152204Z
UID:2968-1561647600-1561653000@www.rosinka.at
SUMMARY:ЖИВОПИСЬ (7-11)
DESCRIPTION:
URL:https://www.rosinka.at/event/%d0%b6%d0%b8%d0%b2%d0%be%d0%bf%d0%b8%d1%81%d1%8c-7-11-14/
END:VEVENT
BEGIN:VEVENT
DTSTART;TZID=Europe/Vienna:20190627T163000
DTEND;TZID=Europe/Vienna:20190627T181500
DTSTAMP:20260420T234835
CREATED:20190318T152316Z
LAST-MODIFIED:20190318T152316Z
UID:2970-1561653000-1561659300@www.rosinka.at
SUMMARY:ЗВЕЗДОЧЕТЫ (7-8)
DESCRIPTION:
URL:https://www.rosinka.at/event/%d0%b7%d0%b2%d0%b5%d0%b7%d0%b4%d0%be%d1%87%d0%b5%d1%82%d1%8b-7-8-17/
END:VEVENT
BEGIN:VEVENT
DTSTART;TZID=Europe/Vienna:20190627T164000
DTEND;TZID=Europe/Vienna:20190627T174000
DTSTAMP:20260420T234835
CREATED:20190318T152350Z
LAST-MODIFIED:20190318T152350Z
UID:2972-1561653600-1561657200@www.rosinka.at
SUMMARY:ЖИВОПИСЬ (4-6)
DESCRIPTION:
URL:https://www.rosinka.at/event/%d0%b6%d0%b8%d0%b2%d0%be%d0%bf%d0%b8%d1%81%d1%8c-4-6-12/
END:VEVENT
BEGIN:VEVENT
DTSTART;TZID=Europe/Vienna:20190628T154500
DTEND;TZID=Europe/Vienna:20190628T173000
DTSTAMP:20260420T234835
CREATED:20190318T152419Z
LAST-MODIFIED:20190318T152419Z
UID:2974-1561736700-1561743000@www.rosinka.at
SUMMARY:ФАНТАЗЕРЫ (6-7)
DESCRIPTION:
URL:https://www.rosinka.at/event/%d1%84%d0%b0%d0%bd%d1%82%d0%b0%d0%b7%d0%b5%d1%80%d1%8b-6-7-16/
END:VEVENT
BEGIN:VEVENT
DTSTART;TZID=Europe/Vienna:20190629T100000
DTEND;TZID=Europe/Vienna:20190629T130000
DTSTAMP:20260420T234835
CREATED:20190318T152557Z
LAST-MODIFIED:20190318T152557Z
UID:2976-1561802400-1561813200@www.rosinka.at
SUMMARY:ЛЕТНИЙ ПРАЗДНИК ????
DESCRIPTION:
URL:https://www.rosinka.at/event/%d0%bb%d0%b5%d1%82%d0%bd%d0%b8%d0%b9-%d0%bf%d1%80%d0%b0%d0%b7%d0%b4%d0%bd%d0%b8%d0%ba-%f0%9f%8e%89%f0%9f%8e%88%f0%9f%8e%89%f0%9f%8e%88/
END:VEVENT
BEGIN:VEVENT
DTSTART;VALUE=DATE:20190630
DTEND;VALUE=DATE:20190916
DTSTAMP:20260420T234835
CREATED:20190517T070855Z
LAST-MODIFIED:20190913T062519Z
UID:3104-1561852800-1568591999@www.rosinka.at
SUMMARY:ЛЕТНИЕ КАНИКУЛЫ ?☀️?
DESCRIPTION:
URL:https://www.rosinka.at/event/%d0%bb%d0%b5%d1%82%d0%bd%d0%b8%d0%b5-%d0%ba%d0%b0%d0%bd%d0%b8%d0%ba%d1%83%d0%bb%d1%8b-%f0%9f%98%83%e2%98%80%ef%b8%8f%f0%9f%8e%89-3/
END:VEVENT
END:VCALENDAR