BEGIN:VCALENDAR
VERSION:2.0
PRODID:-//Rosinka - ECPv6.15.20//NONSGML v1.0//EN
CALSCALE:GREGORIAN
METHOD:PUBLISH
X-WR-CALNAME:Rosinka
X-ORIGINAL-URL:https://www.rosinka.at
X-WR-CALDESC:Мероприятия для Rosinka
REFRESH-INTERVAL;VALUE=DURATION:PT1H
X-Robots-Tag:noindex
X-PUBLISHED-TTL:PT1H
BEGIN:VTIMEZONE
TZID:Europe/Vienna
BEGIN:DAYLIGHT
TZOFFSETFROM:+0100
TZOFFSETTO:+0200
TZNAME:CEST
DTSTART:20180325T010000
END:DAYLIGHT
BEGIN:STANDARD
TZOFFSETFROM:+0200
TZOFFSETTO:+0100
TZNAME:CET
DTSTART:20181028T010000
END:STANDARD
BEGIN:DAYLIGHT
TZOFFSETFROM:+0100
TZOFFSETTO:+0200
TZNAME:CEST
DTSTART:20190331T010000
END:DAYLIGHT
BEGIN:STANDARD
TZOFFSETFROM:+0200
TZOFFSETTO:+0100
TZNAME:CET
DTSTART:20191027T010000
END:STANDARD
BEGIN:DAYLIGHT
TZOFFSETFROM:+0100
TZOFFSETTO:+0200
TZNAME:CEST
DTSTART:20200329T010000
END:DAYLIGHT
BEGIN:STANDARD
TZOFFSETFROM:+0200
TZOFFSETTO:+0100
TZNAME:CET
DTSTART:20201025T010000
END:STANDARD
END:VTIMEZONE
BEGIN:VEVENT
DTSTART;TZID=Europe/Vienna:20191028T152000
DTEND;TZID=Europe/Vienna:20191028T165000
DTSTAMP:20260421T172908
CREATED:20191001T213304Z
LAST-MODIFIED:20191001T213304Z
UID:3481-1572276000-1572281400@www.rosinka.at
SUMMARY:Музыкальное развитие (4-6) // КАПЕЛЬКИ
DESCRIPTION:
URL:https://www.rosinka.at/event/%d0%bc%d1%83%d0%b7%d1%8b%d0%ba%d0%b0%d0%bb%d1%8c%d0%bd%d0%be%d0%b5-%d1%80%d0%b0%d0%b7%d0%b2%d0%b8%d1%82%d0%b8%d0%b5-4-6-%d0%ba%d0%b0%d0%bf%d0%b5%d0%bb%d1%8c%d0%ba%d0%b8-5/
END:VEVENT
BEGIN:VEVENT
DTSTART;TZID=Europe/Vienna:20191028T163000
DTEND;TZID=Europe/Vienna:20191028T181500
DTSTAMP:20260421T172908
CREATED:20191001T213331Z
LAST-MODIFIED:20191001T213331Z
UID:3483-1572280200-1572286500@www.rosinka.at
SUMMARY:ЗОЛОТОЙ КЛЮЧИК (9-11)
DESCRIPTION:
URL:https://www.rosinka.at/event/%d0%b7%d0%be%d0%bb%d0%be%d1%82%d0%be%d0%b9-%d0%ba%d0%bb%d1%8e%d1%87%d0%b8%d0%ba-9-11-5/
END:VEVENT
BEGIN:VEVENT
DTSTART;TZID=Europe/Vienna:20191029T150000
DTEND;TZID=Europe/Vienna:20191029T160000
DTSTAMP:20260421T172908
CREATED:20191001T213357Z
LAST-MODIFIED:20191001T213357Z
UID:3485-1572361200-1572364800@www.rosinka.at
SUMMARY:СВЕТЛЯЧКИ (1\,5-3)
DESCRIPTION:
URL:https://www.rosinka.at/event/%d1%81%d0%b2%d0%b5%d1%82%d0%bb%d1%8f%d1%87%d0%ba%d0%b8-15-3-11/
END:VEVENT
BEGIN:VEVENT
DTSTART;TZID=Europe/Vienna:20191029T163000
DTEND;TZID=Europe/Vienna:20191029T173000
DTSTAMP:20260421T172908
CREATED:20191001T213421Z
LAST-MODIFIED:20191108T202803Z
UID:3487-1572366600-1572370200@www.rosinka.at
SUMMARY:ЛУЧИКИ (3+)
DESCRIPTION:
URL:https://www.rosinka.at/event/%d1%81%d0%b2%d0%b5%d1%82%d0%bb%d1%8f%d1%87%d0%ba%d0%b8-3-7/
END:VEVENT
BEGIN:VEVENT
DTSTART;TZID=Europe/Vienna:20191030T154500
DTEND;TZID=Europe/Vienna:20191030T173000
DTSTAMP:20260421T172908
CREATED:20191001T213513Z
LAST-MODIFIED:20191001T213513Z
UID:3489-1572450300-1572456600@www.rosinka.at
SUMMARY:ЯКОРЕК (5-6) подгруппа I
DESCRIPTION:
URL:https://www.rosinka.at/event/%d1%8f%d0%ba%d0%be%d1%80%d0%b5%d0%ba-5-6-%d0%bf%d0%be%d0%b4%d0%b3%d1%80%d1%83%d0%bf%d0%bf%d0%b0-i-4/
END:VEVENT
BEGIN:VEVENT
DTSTART;TZID=Europe/Vienna:20191030T163000
DTEND;TZID=Europe/Vienna:20191030T173000
DTSTAMP:20260421T172908
CREATED:20191001T213621Z
LAST-MODIFIED:20191001T213621Z
UID:3495-1572453000-1572456600@www.rosinka.at
SUMMARY:ТЕАТРАЛЬНЫЙ КРУЖОК (3-4+)
DESCRIPTION:
URL:https://www.rosinka.at/event/%d1%82%d0%b5%d0%b0%d1%82%d1%80%d0%b0%d0%bb%d1%8c%d0%bd%d1%8b%d0%b9-%d0%ba%d1%80%d1%83%d0%b6%d0%be%d0%ba-3-4-20/
LOCATION:Alte Poststraße 134\, 8020 Graz\, Alte Poststraße 134\, Graz\, 8020\, Austria
END:VEVENT
BEGIN:VEVENT
DTSTART;TZID=Europe/Vienna:20191030T163000
DTEND;TZID=Europe/Vienna:20191030T181500
DTSTAMP:20260421T172908
CREATED:20191001T213533Z
LAST-MODIFIED:20191001T213533Z
UID:3491-1572453000-1572459300@www.rosinka.at
SUMMARY:ЯКОРЕК (5-6) подгруппа II
DESCRIPTION:
URL:https://www.rosinka.at/event/%d1%8f%d0%ba%d0%be%d1%80%d0%b5%d0%ba-5-6-%d0%bf%d0%be%d0%b4%d0%b3%d1%80%d1%83%d0%bf%d0%bf%d0%b0-ii-5/
END:VEVENT
BEGIN:VEVENT
DTSTART;VALUE=DATE:20191031
DTEND;VALUE=DATE:20191101
DTSTAMP:20260421T172908
CREATED:20190903T173327Z
LAST-MODIFIED:20190903T173327Z
UID:3258-1572480000-1572566399@www.rosinka.at
SUMMARY:НЕУЧЕБНЫЙ ДЕНЬ
DESCRIPTION:
URL:https://www.rosinka.at/event/%d0%bd%d0%b5%d1%83%d1%87%d0%b5%d0%b1%d0%bd%d1%8b%d0%b9-%d0%b4%d0%b5%d0%bd%d1%8c-17/
END:VEVENT
BEGIN:VEVENT
DTSTART;VALUE=DATE:20191101
DTEND;VALUE=DATE:20191102
DTSTAMP:20260421T172908
CREATED:20190521T200802Z
LAST-MODIFIED:20190521T200802Z
UID:3122-1572566400-1572652799@www.rosinka.at
SUMMARY:НЕУЧЕБНЫЙ ДЕНЬ
DESCRIPTION:
URL:https://www.rosinka.at/event/%d0%bd%d0%b5%d1%83%d1%87%d0%b5%d0%b1%d0%bd%d1%8b%d0%b9-%d0%b4%d0%b5%d0%bd%d1%8c-11/
END:VEVENT
END:VCALENDAR