BEGIN:VCALENDAR
VERSION:2.0
PRODID:-//Rosinka - ECPv6.15.20//NONSGML v1.0//EN
CALSCALE:GREGORIAN
METHOD:PUBLISH
X-WR-CALNAME:Rosinka
X-ORIGINAL-URL:https://www.rosinka.at
X-WR-CALDESC:Мероприятия для Rosinka
REFRESH-INTERVAL;VALUE=DURATION:PT1H
X-Robots-Tag:noindex
X-PUBLISHED-TTL:PT1H
BEGIN:VTIMEZONE
TZID:Europe/Vienna
BEGIN:DAYLIGHT
TZOFFSETFROM:+0100
TZOFFSETTO:+0200
TZNAME:CEST
DTSTART:20180325T010000
END:DAYLIGHT
BEGIN:STANDARD
TZOFFSETFROM:+0200
TZOFFSETTO:+0100
TZNAME:CET
DTSTART:20181028T010000
END:STANDARD
BEGIN:DAYLIGHT
TZOFFSETFROM:+0100
TZOFFSETTO:+0200
TZNAME:CEST
DTSTART:20190331T010000
END:DAYLIGHT
BEGIN:STANDARD
TZOFFSETFROM:+0200
TZOFFSETTO:+0100
TZNAME:CET
DTSTART:20191027T010000
END:STANDARD
BEGIN:DAYLIGHT
TZOFFSETFROM:+0100
TZOFFSETTO:+0200
TZNAME:CEST
DTSTART:20200329T010000
END:DAYLIGHT
BEGIN:STANDARD
TZOFFSETFROM:+0200
TZOFFSETTO:+0100
TZNAME:CET
DTSTART:20201025T010000
END:STANDARD
END:VTIMEZONE
BEGIN:VEVENT
DTSTART;VALUE=DATE:20191104
DTEND;VALUE=DATE:20191105
DTSTAMP:20260421T172910
CREATED:20190903T173416Z
LAST-MODIFIED:20190903T173416Z
UID:3260-1572825600-1572911999@www.rosinka.at
SUMMARY:НЕУЧЕБНЫЙ ДЕНЬ
DESCRIPTION:
URL:https://www.rosinka.at/event/%d0%bd%d0%b5%d1%83%d1%87%d0%b5%d0%b1%d0%bd%d1%8b%d0%b9-%d0%b4%d0%b5%d0%bd%d1%8c-18/
END:VEVENT
BEGIN:VEVENT
DTSTART;TZID=Europe/Vienna:20191104T160000
DTEND;TZID=Europe/Vienna:20191104T174500
DTSTAMP:20260421T172910
CREATED:20191104T094601Z
LAST-MODIFIED:20191104T094601Z
UID:3701-1572883200-1572889500@www.rosinka.at
SUMMARY:ЗВЕЗДОЧЕТЫ (8-9)
DESCRIPTION:
URL:https://www.rosinka.at/event/%d0%b7%d0%b2%d0%b5%d0%b7%d0%b4%d0%be%d1%87%d0%b5%d1%82%d1%8b-8-9-11/
END:VEVENT
BEGIN:VEVENT
DTSTART;TZID=Europe/Vienna:20191105T150000
DTEND;TZID=Europe/Vienna:20191105T160000
DTSTAMP:20260421T172910
CREATED:20191022T201803Z
LAST-MODIFIED:20191022T201803Z
UID:3524-1572966000-1572969600@www.rosinka.at
SUMMARY:СВЕТЛЯЧКИ (1\,5-3)
DESCRIPTION:
URL:https://www.rosinka.at/event/%d1%81%d0%b2%d0%b5%d1%82%d0%bb%d1%8f%d1%87%d0%ba%d0%b8-15-3-12/
END:VEVENT
BEGIN:VEVENT
DTSTART;TZID=Europe/Vienna:20191105T163000
DTEND;TZID=Europe/Vienna:20191105T173000
DTSTAMP:20260421T172910
CREATED:20191022T201847Z
LAST-MODIFIED:20191108T202739Z
UID:3526-1572971400-1572975000@www.rosinka.at
SUMMARY:ЛУЧИКИ (3+)
DESCRIPTION:
URL:https://www.rosinka.at/event/%d1%81%d0%b2%d0%b5%d1%82%d0%bb%d1%8f%d1%87%d0%ba%d0%b8-3-8/
END:VEVENT
BEGIN:VEVENT
DTSTART;TZID=Europe/Vienna:20191106T154500
DTEND;TZID=Europe/Vienna:20191106T173000
DTSTAMP:20260421T172910
CREATED:20191022T202028Z
LAST-MODIFIED:20191022T202028Z
UID:3528-1573055100-1573061400@www.rosinka.at
SUMMARY:ЯКОРЕК (5-6) подгруппа I
DESCRIPTION:
URL:https://www.rosinka.at/event/%d1%8f%d0%ba%d0%be%d1%80%d0%b5%d0%ba-5-6-%d0%bf%d0%be%d0%b4%d0%b3%d1%80%d1%83%d0%bf%d0%bf%d0%b0-i-5/
END:VEVENT
BEGIN:VEVENT
DTSTART;TZID=Europe/Vienna:20191106T160000
DTEND;TZID=Europe/Vienna:20191106T170000
DTSTAMP:20260421T172910
CREATED:20191022T203825Z
LAST-MODIFIED:20191104T153943Z
UID:3556-1573056000-1573059600@www.rosinka.at
SUMMARY:ЖИВОПИСЬ (4-6)
DESCRIPTION:
URL:https://www.rosinka.at/event/%d0%b6%d0%b8%d0%b2%d0%be%d0%bf%d0%b8%d1%81%d1%8c-4-6-21/
END:VEVENT
BEGIN:VEVENT
DTSTART;TZID=Europe/Vienna:20191106T163000
DTEND;TZID=Europe/Vienna:20191106T173000
DTSTAMP:20260421T172910
CREATED:20191022T202358Z
LAST-MODIFIED:20191022T202358Z
UID:3534-1573057800-1573061400@www.rosinka.at
SUMMARY:ТЕАТРАЛЬНЫЙ КРУЖОК (3-4+)
DESCRIPTION:
URL:https://www.rosinka.at/event/%d1%82%d0%b5%d0%b0%d1%82%d1%80%d0%b0%d0%bb%d1%8c%d0%bd%d1%8b%d0%b9-%d0%ba%d1%80%d1%83%d0%b6%d0%be%d0%ba-3-4-21/
LOCATION:Alte Poststraße 134\, 8020 Graz\, Alte Poststraße 134\, Graz\, 8020\, Austria
END:VEVENT
BEGIN:VEVENT
DTSTART;TZID=Europe/Vienna:20191106T163000
DTEND;TZID=Europe/Vienna:20191106T181500
DTSTAMP:20260421T172910
CREATED:20191022T202121Z
LAST-MODIFIED:20191022T202121Z
UID:3530-1573057800-1573064100@www.rosinka.at
SUMMARY:ЯКОРЕК (5-6) подгруппа II
DESCRIPTION:
URL:https://www.rosinka.at/event/%d1%8f%d0%ba%d0%be%d1%80%d0%b5%d0%ba-5-6-%d0%bf%d0%be%d0%b4%d0%b3%d1%80%d1%83%d0%bf%d0%bf%d0%b0-ii-6/
END:VEVENT
BEGIN:VEVENT
DTSTART;TZID=Europe/Vienna:20191107T151500
DTEND;TZID=Europe/Vienna:20191107T164500
DTSTAMP:20260421T172910
CREATED:20191022T202821Z
LAST-MODIFIED:20191022T202821Z
UID:3536-1573139700-1573145100@www.rosinka.at
SUMMARY:ЖИВОПИСЬ (7-11)
DESCRIPTION:
URL:https://www.rosinka.at/event/%d0%b6%d0%b8%d0%b2%d0%be%d0%bf%d0%b8%d1%81%d1%8c-7-11-21/
END:VEVENT
BEGIN:VEVENT
DTSTART;TZID=Europe/Vienna:20191107T151500
DTEND;TZID=Europe/Vienna:20191107T164500
DTSTAMP:20260421T172910
CREATED:20191022T202913Z
LAST-MODIFIED:20191022T202913Z
UID:3538-1573139700-1573145100@www.rosinka.at
SUMMARY:БУКВОЕЖКИ (4-5)
DESCRIPTION:
URL:https://www.rosinka.at/event/%d0%b1%d1%83%d0%ba%d0%b2%d0%be%d0%b5%d0%b6%d0%ba%d0%b8-4-5/
END:VEVENT
BEGIN:VEVENT
DTSTART;TZID=Europe/Vienna:20191107T163000
DTEND;TZID=Europe/Vienna:20191107T181500
DTSTAMP:20260421T172910
CREATED:20191022T202956Z
LAST-MODIFIED:20191022T202956Z
UID:3540-1573144200-1573150500@www.rosinka.at
SUMMARY:ФАНТАЗЕРЫ (7-8)
DESCRIPTION:
URL:https://www.rosinka.at/event/%d1%84%d0%b0%d0%bd%d1%82%d0%b0%d0%b7%d0%b5%d1%80%d1%8b-7-8-7/
END:VEVENT
BEGIN:VEVENT
DTSTART;TZID=Europe/Vienna:20191108T160000
DTEND;TZID=Europe/Vienna:20191108T174500
DTSTAMP:20260421T172910
CREATED:20191022T203041Z
LAST-MODIFIED:20191022T203041Z
UID:3542-1573228800-1573235100@www.rosinka.at
SUMMARY:ЗВЕЗДОЧЕТЫ (8-9)
DESCRIPTION:
URL:https://www.rosinka.at/event/%d0%b7%d0%b2%d0%b5%d0%b7%d0%b4%d0%be%d1%87%d0%b5%d1%82%d1%8b-8-9-6/
END:VEVENT
END:VCALENDAR