BEGIN:VCALENDAR
VERSION:2.0
PRODID:-//Rosinka - ECPv6.15.20//NONSGML v1.0//EN
CALSCALE:GREGORIAN
METHOD:PUBLISH
X-WR-CALNAME:Rosinka
X-ORIGINAL-URL:https://www.rosinka.at
X-WR-CALDESC:Мероприятия для Rosinka
REFRESH-INTERVAL;VALUE=DURATION:PT1H
X-Robots-Tag:noindex
X-PUBLISHED-TTL:PT1H
BEGIN:VTIMEZONE
TZID:Europe/Vienna
BEGIN:DAYLIGHT
TZOFFSETFROM:+0100
TZOFFSETTO:+0200
TZNAME:CEST
DTSTART:20180325T010000
END:DAYLIGHT
BEGIN:STANDARD
TZOFFSETFROM:+0200
TZOFFSETTO:+0100
TZNAME:CET
DTSTART:20181028T010000
END:STANDARD
BEGIN:DAYLIGHT
TZOFFSETFROM:+0100
TZOFFSETTO:+0200
TZNAME:CEST
DTSTART:20190331T010000
END:DAYLIGHT
BEGIN:STANDARD
TZOFFSETFROM:+0200
TZOFFSETTO:+0100
TZNAME:CET
DTSTART:20191027T010000
END:STANDARD
BEGIN:DAYLIGHT
TZOFFSETFROM:+0100
TZOFFSETTO:+0200
TZNAME:CEST
DTSTART:20200329T010000
END:DAYLIGHT
BEGIN:STANDARD
TZOFFSETFROM:+0200
TZOFFSETTO:+0100
TZNAME:CET
DTSTART:20201025T010000
END:STANDARD
END:VTIMEZONE
BEGIN:VEVENT
DTSTART;TZID=Europe/Vienna:20191125T152000
DTEND;TZID=Europe/Vienna:20191125T165000
DTSTAMP:20260421T155712
CREATED:20191022T205228Z
LAST-MODIFIED:20191022T205228Z
UID:3592-1574695200-1574700600@www.rosinka.at
SUMMARY:Музыкальное развитие (4-6) // КАПЕЛЬКИ
DESCRIPTION:
URL:https://www.rosinka.at/event/%d0%bc%d1%83%d0%b7%d1%8b%d0%ba%d0%b0%d0%bb%d1%8c%d0%bd%d0%be%d0%b5-%d1%80%d0%b0%d0%b7%d0%b2%d0%b8%d1%82%d0%b8%d0%b5-4-6-%d0%ba%d0%b0%d0%bf%d0%b5%d0%bb%d1%8c%d0%ba%d0%b8-8/
END:VEVENT
BEGIN:VEVENT
DTSTART;TZID=Europe/Vienna:20191125T163000
DTEND;TZID=Europe/Vienna:20191125T181500
DTSTAMP:20260421T155712
CREATED:20191022T205317Z
LAST-MODIFIED:20191022T205317Z
UID:3594-1574699400-1574705700@www.rosinka.at
SUMMARY:ЗОЛОТОЙ КЛЮЧИК (9-11)
DESCRIPTION:
URL:https://www.rosinka.at/event/%d0%b7%d0%be%d0%bb%d0%be%d1%82%d0%be%d0%b9-%d0%ba%d0%bb%d1%8e%d1%87%d0%b8%d0%ba-9-11-8/
END:VEVENT
BEGIN:VEVENT
DTSTART;TZID=Europe/Vienna:20191126T150000
DTEND;TZID=Europe/Vienna:20191126T160000
DTSTAMP:20260421T155712
CREATED:20191022T205356Z
LAST-MODIFIED:20191022T205356Z
UID:3596-1574780400-1574784000@www.rosinka.at
SUMMARY:СВЕТЛЯЧКИ (1\,5-3)
DESCRIPTION:
URL:https://www.rosinka.at/event/%d1%81%d0%b2%d0%b5%d1%82%d0%bb%d1%8f%d1%87%d0%ba%d0%b8-15-3-15/
END:VEVENT
BEGIN:VEVENT
DTSTART;TZID=Europe/Vienna:20191126T163000
DTEND;TZID=Europe/Vienna:20191126T173000
DTSTAMP:20260421T155712
CREATED:20191022T205425Z
LAST-MODIFIED:20191108T202633Z
UID:3598-1574785800-1574789400@www.rosinka.at
SUMMARY:ЛУЧИКИ (3+)
DESCRIPTION:
URL:https://www.rosinka.at/event/%d1%81%d0%b2%d0%b5%d1%82%d0%bb%d1%8f%d1%87%d0%ba%d0%b8-3-11/
END:VEVENT
BEGIN:VEVENT
DTSTART;TZID=Europe/Vienna:20191127T154500
DTEND;TZID=Europe/Vienna:20191127T173000
DTSTAMP:20260421T155712
CREATED:20191022T205518Z
LAST-MODIFIED:20191022T205518Z
UID:3600-1574869500-1574875800@www.rosinka.at
SUMMARY:ЯКОРЕК (5-6) подгруппа I
DESCRIPTION:
URL:https://www.rosinka.at/event/%d1%8f%d0%ba%d0%be%d1%80%d0%b5%d0%ba-5-6-%d0%bf%d0%be%d0%b4%d0%b3%d1%80%d1%83%d0%bf%d0%bf%d0%b0-i-8/
END:VEVENT
BEGIN:VEVENT
DTSTART;TZID=Europe/Vienna:20191127T160000
DTEND;TZID=Europe/Vienna:20191127T170000
DTSTAMP:20260421T155712
CREATED:20191022T205623Z
LAST-MODIFIED:20191022T205623Z
UID:3604-1574870400-1574874000@www.rosinka.at
SUMMARY:ЖИВОПИСЬ (4-6)
DESCRIPTION:
URL:https://www.rosinka.at/event/%d0%b6%d0%b8%d0%b2%d0%be%d0%bf%d0%b8%d1%81%d1%8c-4-6-23/
END:VEVENT
BEGIN:VEVENT
DTSTART;TZID=Europe/Vienna:20191127T163000
DTEND;TZID=Europe/Vienna:20191127T173000
DTSTAMP:20260421T155712
CREATED:20191022T205711Z
LAST-MODIFIED:20191022T205711Z
UID:3606-1574872200-1574875800@www.rosinka.at
SUMMARY:ТЕАТРАЛЬНЫЙ КРУЖОК (3-4+)
DESCRIPTION:
URL:https://www.rosinka.at/event/%d1%82%d0%b5%d0%b0%d1%82%d1%80%d0%b0%d0%bb%d1%8c%d0%bd%d1%8b%d0%b9-%d0%ba%d1%80%d1%83%d0%b6%d0%be%d0%ba-3-4-24/
LOCATION:Alte Poststraße 134\, 8020 Graz\, Alte Poststraße 134\, Graz\, 8020\, Austria
END:VEVENT
BEGIN:VEVENT
DTSTART;TZID=Europe/Vienna:20191127T163000
DTEND;TZID=Europe/Vienna:20191127T181500
DTSTAMP:20260421T155712
CREATED:20191022T205553Z
LAST-MODIFIED:20191022T205553Z
UID:3602-1574872200-1574878500@www.rosinka.at
SUMMARY:ЯКОРЕК (5-6) подгруппа II
DESCRIPTION:
URL:https://www.rosinka.at/event/%d1%8f%d0%ba%d0%be%d1%80%d0%b5%d0%ba-5-6-%d0%bf%d0%be%d0%b4%d0%b3%d1%80%d1%83%d0%bf%d0%bf%d0%b0-ii-9/
END:VEVENT
BEGIN:VEVENT
DTSTART;TZID=Europe/Vienna:20191128T151500
DTEND;TZID=Europe/Vienna:20191128T163000
DTSTAMP:20260421T155712
CREATED:20191022T205926Z
LAST-MODIFIED:20191022T205926Z
UID:3610-1574954100-1574958600@www.rosinka.at
SUMMARY:БУКВОЕЖКИ (4-5)
DESCRIPTION:
URL:https://www.rosinka.at/event/%d0%b1%d1%83%d0%ba%d0%b2%d0%be%d0%b5%d0%b6%d0%ba%d0%b8-4-5-4/
END:VEVENT
BEGIN:VEVENT
DTSTART;TZID=Europe/Vienna:20191128T151500
DTEND;TZID=Europe/Vienna:20191128T164500
DTSTAMP:20260421T155712
CREATED:20191022T205852Z
LAST-MODIFIED:20191022T205852Z
UID:3608-1574954100-1574959500@www.rosinka.at
SUMMARY:ЖИВОПИСЬ (7-11)
DESCRIPTION:
URL:https://www.rosinka.at/event/%d0%b6%d0%b8%d0%b2%d0%be%d0%bf%d0%b8%d1%81%d1%8c-7-11-24/
END:VEVENT
BEGIN:VEVENT
DTSTART;TZID=Europe/Vienna:20191128T163000
DTEND;TZID=Europe/Vienna:20191128T181500
DTSTAMP:20260421T155712
CREATED:20191022T210000Z
LAST-MODIFIED:20191022T210000Z
UID:3612-1574958600-1574964900@www.rosinka.at
SUMMARY:ФАНТАЗЕРЫ (7-8)
DESCRIPTION:
URL:https://www.rosinka.at/event/%d1%84%d0%b0%d0%bd%d1%82%d0%b0%d0%b7%d0%b5%d1%80%d1%8b-7-8-10/
END:VEVENT
BEGIN:VEVENT
DTSTART;TZID=Europe/Vienna:20191129T160000
DTEND;TZID=Europe/Vienna:20191129T174500
DTSTAMP:20260421T155712
CREATED:20191022T210035Z
LAST-MODIFIED:20191022T210035Z
UID:3614-1575043200-1575049500@www.rosinka.at
SUMMARY:ЗВЕЗДОЧЕТЫ (8-9)
DESCRIPTION:
URL:https://www.rosinka.at/event/%d0%b7%d0%b2%d0%b5%d0%b7%d0%b4%d0%be%d1%87%d0%b5%d1%82%d1%8b-8-9-9/
END:VEVENT
END:VCALENDAR