BEGIN:VCALENDAR
VERSION:2.0
PRODID:-//Rosinka - ECPv6.15.20//NONSGML v1.0//EN
CALSCALE:GREGORIAN
METHOD:PUBLISH
X-WR-CALNAME:Rosinka
X-ORIGINAL-URL:https://www.rosinka.at
X-WR-CALDESC:Мероприятия для Rosinka
REFRESH-INTERVAL;VALUE=DURATION:PT1H
X-Robots-Tag:noindex
X-PUBLISHED-TTL:PT1H
BEGIN:VTIMEZONE
TZID:Europe/Vienna
BEGIN:DAYLIGHT
TZOFFSETFROM:+0100
TZOFFSETTO:+0200
TZNAME:CEST
DTSTART:20200329T010000
END:DAYLIGHT
BEGIN:STANDARD
TZOFFSETFROM:+0200
TZOFFSETTO:+0100
TZNAME:CET
DTSTART:20201025T010000
END:STANDARD
BEGIN:DAYLIGHT
TZOFFSETFROM:+0100
TZOFFSETTO:+0200
TZNAME:CEST
DTSTART:20210328T010000
END:DAYLIGHT
BEGIN:STANDARD
TZOFFSETFROM:+0200
TZOFFSETTO:+0100
TZNAME:CET
DTSTART:20211031T010000
END:STANDARD
BEGIN:DAYLIGHT
TZOFFSETFROM:+0100
TZOFFSETTO:+0200
TZNAME:CEST
DTSTART:20220327T010000
END:DAYLIGHT
BEGIN:STANDARD
TZOFFSETFROM:+0200
TZOFFSETTO:+0100
TZNAME:CET
DTSTART:20221030T010000
END:STANDARD
END:VTIMEZONE
BEGIN:VEVENT
DTSTART;TZID=Europe/Vienna:20210111T153000
DTEND;TZID=Europe/Vienna:20210111T170000
DTSTAMP:20260421T215626
CREATED:20200918T210400Z
LAST-MODIFIED:20201228T145705Z
UID:5286-1610379000-1610384400@www.rosinka.at
SUMMARY:ЗОЛОТОЙ КЛЮЧИК (10-12)
DESCRIPTION:
URL:https://www.rosinka.at/event/%d0%b7%d0%be%d0%bb%d0%be%d1%82%d0%be%d0%b9-%d0%ba%d0%bb%d1%8e%d1%87%d0%b8%d0%ba-10-12-2021-01-12/
END:VEVENT
BEGIN:VEVENT
DTSTART;TZID=Europe/Vienna:20210112T160000
DTEND;TZID=Europe/Vienna:20210112T173000
DTSTAMP:20260421T215626
CREATED:20200918T210850Z
LAST-MODIFIED:20201228T145810Z
UID:5312-1610467200-1610472600@www.rosinka.at
SUMMARY:ЗВЕЗДОЧЕТЫ (9-10)
DESCRIPTION:
URL:https://www.rosinka.at/event/%d0%b7%d0%b2%d0%b5%d0%b7%d0%b4%d0%be%d1%87%d0%b5%d1%82%d1%8b-9-10-2021-01-12/
END:VEVENT
BEGIN:VEVENT
DTSTART;TZID=Europe/Vienna:20210113T163000
DTEND;TZID=Europe/Vienna:20210113T173000
DTSTAMP:20260421T215626
CREATED:20200918T211242Z
LAST-MODIFIED:20201228T150244Z
UID:5338-1610555400-1610559000@www.rosinka.at
SUMMARY:ЯКОРЕК (6-7)
DESCRIPTION:
URL:https://www.rosinka.at/event/%d1%8f%d0%ba%d0%be%d1%80%d0%b5%d0%ba-6-7-2021-01-13/
END:VEVENT
BEGIN:VEVENT
DTSTART;TZID=Europe/Vienna:20210114T151500
DTEND;TZID=Europe/Vienna:20210114T161500
DTSTAMP:20260421T215626
CREATED:20200918T212015Z
LAST-MODIFIED:20201228T150138Z
UID:5363-1610637300-1610640900@www.rosinka.at
SUMMARY:БУКВОЕЖКИ (5-6)
DESCRIPTION:
URL:https://www.rosinka.at/event/%d0%b1%d1%83%d0%ba%d0%b2%d0%be%d0%b5%d0%b6%d0%ba%d0%b8-5-6-2021-01-14/
END:VEVENT
BEGIN:VEVENT
DTSTART;TZID=Europe/Vienna:20210115T163000
DTEND;TZID=Europe/Vienna:20210115T171500
DTSTAMP:20260421T215626
CREATED:20200928T051657Z
LAST-MODIFIED:20201228T150504Z
UID:5550-1610728200-1610730900@www.rosinka.at
SUMMARY:ЗНАЙЧИКИ (4-5)
DESCRIPTION:
URL:https://www.rosinka.at/event/%d0%b7%d0%bd%d0%b0%d0%b9%d1%87%d0%b8%d0%ba%d0%b8-4-5-2021-01-15/
END:VEVENT
END:VCALENDAR