BEGIN:VCALENDAR
VERSION:2.0
PRODID:-//Rosinka - ECPv6.15.20//NONSGML v1.0//EN
CALSCALE:GREGORIAN
METHOD:PUBLISH
X-ORIGINAL-URL:https://www.rosinka.at
X-WR-CALDESC:Мероприятия для Rosinka
REFRESH-INTERVAL;VALUE=DURATION:PT1H
X-Robots-Tag:noindex
X-PUBLISHED-TTL:PT1H
BEGIN:VTIMEZONE
TZID:Europe/Vienna
BEGIN:DAYLIGHT
TZOFFSETFROM:+0100
TZOFFSETTO:+0200
TZNAME:CEST
DTSTART:20200329T010000
END:DAYLIGHT
BEGIN:STANDARD
TZOFFSETFROM:+0200
TZOFFSETTO:+0100
TZNAME:CET
DTSTART:20201025T010000
END:STANDARD
BEGIN:DAYLIGHT
TZOFFSETFROM:+0100
TZOFFSETTO:+0200
TZNAME:CEST
DTSTART:20210328T010000
END:DAYLIGHT
BEGIN:STANDARD
TZOFFSETFROM:+0200
TZOFFSETTO:+0100
TZNAME:CET
DTSTART:20211031T010000
END:STANDARD
BEGIN:DAYLIGHT
TZOFFSETFROM:+0100
TZOFFSETTO:+0200
TZNAME:CEST
DTSTART:20220327T010000
END:DAYLIGHT
BEGIN:STANDARD
TZOFFSETFROM:+0200
TZOFFSETTO:+0100
TZNAME:CET
DTSTART:20221030T010000
END:STANDARD
END:VTIMEZONE
BEGIN:VEVENT
DTSTART;TZID=Europe/Vienna:20210201T153000
DTEND;TZID=Europe/Vienna:20210201T170000
DTSTAMP:20260421T215653
CREATED:20200918T210400Z
LAST-MODIFIED:20210126T092900Z
UID:5289-1612193400-1612198800@www.rosinka.at
SUMMARY:ЗОЛОТОЙ КЛЮЧИК (10-12)
DESCRIPTION:
URL:https://www.rosinka.at/event/%d0%b7%d0%be%d0%bb%d0%be%d1%82%d0%be%d0%b9-%d0%ba%d0%bb%d1%8e%d1%87%d0%b8%d0%ba-10-12-2021-02-02/
END:VEVENT
BEGIN:VEVENT
DTSTART;TZID=Europe/Vienna:20210202T160000
DTEND;TZID=Europe/Vienna:20210202T173000
DTSTAMP:20260421T215653
CREATED:20200918T210850Z
LAST-MODIFIED:20210126T092954Z
UID:5315-1612281600-1612287000@www.rosinka.at
SUMMARY:ЗВЕЗДОЧЕТЫ (9-10)
DESCRIPTION:
URL:https://www.rosinka.at/event/%d0%b7%d0%b2%d0%b5%d0%b7%d0%b4%d0%be%d1%87%d0%b5%d1%82%d1%8b-9-10-2021-02-02/
END:VEVENT
BEGIN:VEVENT
DTSTART;TZID=Europe/Vienna:20210203T163000
DTEND;TZID=Europe/Vienna:20210203T173000
DTSTAMP:20260421T215653
CREATED:20200918T211242Z
LAST-MODIFIED:20210126T093135Z
UID:5341-1612369800-1612373400@www.rosinka.at
SUMMARY:ЯКОРЕК (6-7)
DESCRIPTION:
URL:https://www.rosinka.at/event/%d1%8f%d0%ba%d0%be%d1%80%d0%b5%d0%ba-6-7-2021-02-03/
END:VEVENT
BEGIN:VEVENT
DTSTART;TZID=Europe/Vienna:20210204T151500
DTEND;TZID=Europe/Vienna:20210204T161500
DTSTAMP:20260421T215653
CREATED:20200918T212015Z
LAST-MODIFIED:20210126T093205Z
UID:5366-1612451700-1612455300@www.rosinka.at
SUMMARY:БУКВОЕЖКИ (5-6)
DESCRIPTION:
URL:https://www.rosinka.at/event/%d0%b1%d1%83%d0%ba%d0%b2%d0%be%d0%b5%d0%b6%d0%ba%d0%b8-5-6-2021-02-04/
END:VEVENT
BEGIN:VEVENT
DTSTART;TZID=Europe/Vienna:20210205T163000
DTEND;TZID=Europe/Vienna:20210205T171500
DTSTAMP:20260421T215653
CREATED:20200928T051657Z
LAST-MODIFIED:20210126T093304Z
UID:5553-1612542600-1612545300@www.rosinka.at
SUMMARY:ЗНАЙЧИКИ (4-5)
DESCRIPTION:
URL:https://www.rosinka.at/event/%d0%b7%d0%bd%d0%b0%d0%b9%d1%87%d0%b8%d0%ba%d0%b8-4-5-2021-02-05/
END:VEVENT
BEGIN:VEVENT
DTSTART;VALUE=DATE:20210207
DTEND;VALUE=DATE:20210215
DTSTAMP:20260421T215653
CREATED:20200910T211830Z
LAST-MODIFIED:20210126T093850Z
UID:5127-1612656000-1613347199@www.rosinka.at
SUMMARY:ЗИМНИЕ КАНИКУЛЫ
DESCRIPTION:
URL:https://www.rosinka.at/event/%d0%b7%d0%b8%d0%bc%d0%bd%d0%b8%d0%b5-%d0%ba%d0%b0%d0%bd%d0%b8%d0%ba%d1%83%d0%bb%d1%8b-4/
END:VEVENT
END:VCALENDAR