BEGIN:VCALENDAR
VERSION:2.0
PRODID:-//Rosinka - ECPv6.15.20//NONSGML v1.0//EN
CALSCALE:GREGORIAN
METHOD:PUBLISH
X-ORIGINAL-URL:https://www.rosinka.at
X-WR-CALDESC:Мероприятия для Rosinka
REFRESH-INTERVAL;VALUE=DURATION:PT1H
X-Robots-Tag:noindex
X-PUBLISHED-TTL:PT1H
BEGIN:VTIMEZONE
TZID:Europe/Vienna
BEGIN:DAYLIGHT
TZOFFSETFROM:+0100
TZOFFSETTO:+0200
TZNAME:CEST
DTSTART:20210328T010000
END:DAYLIGHT
BEGIN:STANDARD
TZOFFSETFROM:+0200
TZOFFSETTO:+0100
TZNAME:CET
DTSTART:20211031T010000
END:STANDARD
BEGIN:DAYLIGHT
TZOFFSETFROM:+0100
TZOFFSETTO:+0200
TZNAME:CEST
DTSTART:20220327T010000
END:DAYLIGHT
BEGIN:STANDARD
TZOFFSETFROM:+0200
TZOFFSETTO:+0100
TZNAME:CET
DTSTART:20221030T010000
END:STANDARD
BEGIN:DAYLIGHT
TZOFFSETFROM:+0100
TZOFFSETTO:+0200
TZNAME:CEST
DTSTART:20230326T010000
END:DAYLIGHT
BEGIN:STANDARD
TZOFFSETFROM:+0200
TZOFFSETTO:+0100
TZNAME:CET
DTSTART:20231029T010000
END:STANDARD
END:VTIMEZONE
BEGIN:VEVENT
DTSTART;TZID=Europe/Vienna:20220215T164500
DTEND;TZID=Europe/Vienna:20220215T182000
DTSTAMP:20260420T184346
CREATED:20220209T083148Z
LAST-MODIFIED:20220209T083148Z
UID:7218-1644943500-1644949200@www.rosinka.at
SUMMARY:ЗВЕЗДОЧЕТЫ (10-11)
DESCRIPTION:
URL:https://www.rosinka.at/event/%d0%b7%d0%b2%d0%b5%d0%b7%d0%b4%d0%be%d1%87%d0%b5%d1%82%d1%8b-10-11-2/
END:VEVENT
BEGIN:VEVENT
DTSTART;TZID=Europe/Vienna:20220218T161500
DTEND;TZID=Europe/Vienna:20220218T171500
DTSTAMP:20260420T184346
CREATED:20210923T053131Z
LAST-MODIFIED:20220108T131054Z
UID:6576-1645200900-1645204500@www.rosinka.at
SUMMARY:ЛЮБОЗНАЙКИ (3-4)
DESCRIPTION:
URL:https://www.rosinka.at/event/%d0%bb%d1%8e%d0%b1%d0%be%d0%b7%d0%bd%d0%b0%d0%b9%d0%ba%d0%b8-2-2022-02-18/
END:VEVENT
BEGIN:VEVENT
DTSTART;VALUE=DATE:20220219
DTEND;VALUE=DATE:20220228
DTSTAMP:20260420T184346
CREATED:20210824T140442Z
LAST-MODIFIED:20210824T140442Z
UID:6357-1645228800-1646006399@www.rosinka.at
SUMMARY:ЗИМНИЕ КАНИКУЛЫ
DESCRIPTION:
URL:https://www.rosinka.at/event/%d0%b7%d0%b8%d0%bc%d0%bd%d0%b8%d0%b5-%d0%ba%d0%b0%d0%bd%d0%b8%d0%ba%d1%83%d0%bb%d1%8b-5/
END:VEVENT
END:VCALENDAR