BEGIN:VCALENDAR
VERSION:2.0
PRODID:-//Rosinka - ECPv6.15.20//NONSGML v1.0//EN
CALSCALE:GREGORIAN
METHOD:PUBLISH
X-ORIGINAL-URL:https://www.rosinka.at
X-WR-CALDESC:Мероприятия для Rosinka
REFRESH-INTERVAL;VALUE=DURATION:PT1H
X-Robots-Tag:noindex
X-PUBLISHED-TTL:PT1H
BEGIN:VTIMEZONE
TZID:Europe/Vienna
BEGIN:DAYLIGHT
TZOFFSETFROM:+0100
TZOFFSETTO:+0200
TZNAME:CEST
DTSTART:20220327T010000
END:DAYLIGHT
BEGIN:STANDARD
TZOFFSETFROM:+0200
TZOFFSETTO:+0100
TZNAME:CET
DTSTART:20221030T010000
END:STANDARD
BEGIN:DAYLIGHT
TZOFFSETFROM:+0100
TZOFFSETTO:+0200
TZNAME:CEST
DTSTART:20230326T010000
END:DAYLIGHT
BEGIN:STANDARD
TZOFFSETFROM:+0200
TZOFFSETTO:+0100
TZNAME:CET
DTSTART:20231029T010000
END:STANDARD
BEGIN:DAYLIGHT
TZOFFSETFROM:+0100
TZOFFSETTO:+0200
TZNAME:CEST
DTSTART:20240331T010000
END:DAYLIGHT
BEGIN:STANDARD
TZOFFSETFROM:+0200
TZOFFSETTO:+0100
TZNAME:CET
DTSTART:20241027T010000
END:STANDARD
END:VTIMEZONE
BEGIN:VEVENT
DTSTART;TZID=Europe/Vienna:20230428T163000
DTEND;TZID=Europe/Vienna:20230428T180000
DTSTAMP:20260419T192012
CREATED:20230428T152601Z
LAST-MODIFIED:20230428T152601Z
UID:9098-1682699400-1682704800@www.rosinka.at
SUMMARY:ЗОЛОТОЙ КЛЮЧИК (12-13)
DESCRIPTION:
URL:https://www.rosinka.at/event/%d0%b7%d0%be%d0%bb%d0%be%d1%82%d0%be%d0%b9-%d0%ba%d0%bb%d1%8e%d1%87%d0%b8%d0%ba-12-13-4/
END:VEVENT
BEGIN:VEVENT
DTSTART;TZID=Europe/Vienna:20230429T114500
DTEND;TZID=Europe/Vienna:20230429T124500
DTSTAMP:20260419T192012
CREATED:20230226T114628Z
LAST-MODIFIED:20230226T114628Z
UID:9038-1682768700-1682772300@www.rosinka.at
SUMMARY:РОБОТОТЕХНИКА
DESCRIPTION:
URL:https://www.rosinka.at/event/%d1%80%d0%be%d0%b1%d0%be%d1%82%d0%be%d1%82%d0%b5%d1%85%d0%bd%d0%b8%d0%ba%d0%b0-10/
END:VEVENT
BEGIN:VEVENT
DTSTART;TZID=Europe/Vienna:20230430T103000
DTEND;TZID=Europe/Vienna:20230430T120000
DTSTAMP:20260419T192012
CREATED:20230430T090059Z
LAST-MODIFIED:20230430T090059Z
UID:9100-1682850600-1682856000@www.rosinka.at
SUMMARY:ФАНТАЗЕРЫ (10-11)
DESCRIPTION:
URL:https://www.rosinka.at/event/%d1%84%d0%b0%d0%bd%d1%82%d0%b0%d0%b7%d0%b5%d1%80%d1%8b-10-11-4/
END:VEVENT
END:VCALENDAR