BEGIN:VCALENDAR
VERSION:2.0
PRODID:-//Rosinka - ECPv6.15.20//NONSGML v1.0//EN
CALSCALE:GREGORIAN
METHOD:PUBLISH
X-WR-CALNAME:Rosinka
X-ORIGINAL-URL:https://www.rosinka.at
X-WR-CALDESC:Мероприятия для Rosinka
REFRESH-INTERVAL;VALUE=DURATION:PT1H
X-Robots-Tag:noindex
X-PUBLISHED-TTL:PT1H
BEGIN:VTIMEZONE
TZID:Europe/Vienna
BEGIN:DAYLIGHT
TZOFFSETFROM:+0100
TZOFFSETTO:+0200
TZNAME:CEST
DTSTART:20220327T010000
END:DAYLIGHT
BEGIN:STANDARD
TZOFFSETFROM:+0200
TZOFFSETTO:+0100
TZNAME:CET
DTSTART:20221030T010000
END:STANDARD
BEGIN:DAYLIGHT
TZOFFSETFROM:+0100
TZOFFSETTO:+0200
TZNAME:CEST
DTSTART:20230326T010000
END:DAYLIGHT
BEGIN:STANDARD
TZOFFSETFROM:+0200
TZOFFSETTO:+0100
TZNAME:CET
DTSTART:20231029T010000
END:STANDARD
BEGIN:DAYLIGHT
TZOFFSETFROM:+0100
TZOFFSETTO:+0200
TZNAME:CEST
DTSTART:20240331T010000
END:DAYLIGHT
BEGIN:STANDARD
TZOFFSETFROM:+0200
TZOFFSETTO:+0100
TZNAME:CET
DTSTART:20241027T010000
END:STANDARD
END:VTIMEZONE
BEGIN:VEVENT
DTSTART;TZID=Europe/Vienna:20231212T150000
DTEND;TZID=Europe/Vienna:20231212T163000
DTSTAMP:20260420T073646
CREATED:20230915T085001Z
LAST-MODIFIED:20231129T102041Z
UID:9470-1702393200-1702398600@www.rosinka.at
SUMMARY:ЗВЕЗДОЧЕТЫ\, ЗОЛОТОЙ КЛЮЧИК (12-14)
DESCRIPTION:
URL:https://www.rosinka.at/event/%d0%b7%d0%b2%d0%b5%d0%b7%d0%b4%d0%be%d1%87%d0%b5%d1%82%d1%8b-12-13-2023-12-14/
END:VEVENT
BEGIN:VEVENT
DTSTART;TZID=Europe/Vienna:20231214T163000
DTEND;TZID=Europe/Vienna:20231214T180000
DTSTAMP:20260420T073646
CREATED:20231211T104636Z
LAST-MODIFIED:20231211T104636Z
UID:9779-1702571400-1702576800@www.rosinka.at
SUMMARY:ЖИВОПИСЬ (7-10)
DESCRIPTION:
URL:https://www.rosinka.at/event/%d0%b6%d0%b8%d0%b2%d0%be%d0%bf%d0%b8%d1%81%d1%8c-7-10-3/
END:VEVENT
BEGIN:VEVENT
DTSTART;TZID=Europe/Vienna:20231217T150000
DTEND;TZID=Europe/Vienna:20231217T170000
DTSTAMP:20260420T073646
CREATED:20231206T161300Z
LAST-MODIFIED:20231206T161300Z
UID:9767-1702825200-1702832400@www.rosinka.at
SUMMARY:МУЛЬТИПЛИКАЦИЯ
DESCRIPTION:
URL:https://www.rosinka.at/event/%d0%bc%d1%83%d0%bb%d1%8c%d1%82%d0%b8%d0%bf%d0%bb%d0%b8%d0%ba%d0%b0%d1%86%d0%b8%d1%8f-2/
END:VEVENT
END:VCALENDAR