BEGIN:VCALENDAR
VERSION:2.0
PRODID:-//Rosinka - ECPv6.15.20//NONSGML v1.0//EN
CALSCALE:GREGORIAN
METHOD:PUBLISH
X-WR-CALNAME:Rosinka
X-ORIGINAL-URL:https://www.rosinka.at
X-WR-CALDESC:Мероприятия для Rosinka
REFRESH-INTERVAL;VALUE=DURATION:PT1H
X-Robots-Tag:noindex
X-PUBLISHED-TTL:PT1H
BEGIN:VTIMEZONE
TZID:Europe/Vienna
BEGIN:DAYLIGHT
TZOFFSETFROM:+0100
TZOFFSETTO:+0200
TZNAME:CEST
DTSTART:20230326T010000
END:DAYLIGHT
BEGIN:STANDARD
TZOFFSETFROM:+0200
TZOFFSETTO:+0100
TZNAME:CET
DTSTART:20231029T010000
END:STANDARD
BEGIN:DAYLIGHT
TZOFFSETFROM:+0100
TZOFFSETTO:+0200
TZNAME:CEST
DTSTART:20240331T010000
END:DAYLIGHT
BEGIN:STANDARD
TZOFFSETFROM:+0200
TZOFFSETTO:+0100
TZNAME:CET
DTSTART:20241027T010000
END:STANDARD
BEGIN:DAYLIGHT
TZOFFSETFROM:+0100
TZOFFSETTO:+0200
TZNAME:CEST
DTSTART:20250330T010000
END:DAYLIGHT
BEGIN:STANDARD
TZOFFSETFROM:+0200
TZOFFSETTO:+0100
TZNAME:CET
DTSTART:20251026T010000
END:STANDARD
END:VTIMEZONE
BEGIN:VEVENT
DTSTART;TZID=Europe/Vienna:20240506T153000
DTEND;TZID=Europe/Vienna:20240506T170000
DTSTAMP:20260420T120427
CREATED:20240216T150540Z
LAST-MODIFIED:20240304T101635Z
UID:9887-1715009400-1715014800@www.rosinka.at
SUMMARY:НЕПОСЕДЫ (6-7)
DESCRIPTION:
URL:https://www.rosinka.at/event/%d0%bd%d0%b5%d0%bf%d0%be%d1%81%d0%b5%d0%b4%d1%8b-6-7-2-2024-03-11/2024-05-06/
END:VEVENT
BEGIN:VEVENT
DTSTART;TZID=Europe/Vienna:20240506T171500
DTEND;TZID=Europe/Vienna:20240506T181500
DTSTAMP:20260420T120427
CREATED:20240216T150734Z
LAST-MODIFIED:20240216T150734Z
UID:9903-1715015700-1715019300@www.rosinka.at
SUMMARY:СВЕТЛЯЧКИ (3-4)
DESCRIPTION:
URL:https://www.rosinka.at/event/%d1%81%d0%b2%d0%b5%d1%82%d0%bb%d1%8f%d1%87%d0%ba%d0%b8-3-4-4/2024-05-06/
END:VEVENT
BEGIN:VEVENT
DTSTART;TZID=Europe/Vienna:20240506T171500
DTEND;TZID=Europe/Vienna:20240506T184500
DTSTAMP:20260420T120427
CREATED:20240216T150907Z
LAST-MODIFIED:20240216T150907Z
UID:9919-1715015700-1715021100@www.rosinka.at
SUMMARY:ЖИВОПИСЬ (7-10)
DESCRIPTION:
URL:https://www.rosinka.at/event/%d0%b6%d0%b8%d0%b2%d0%be%d0%bf%d0%b8%d1%81%d1%8c-7-10-4/2024-05-06/
END:VEVENT
BEGIN:VEVENT
DTSTART;TZID=Europe/Vienna:20240507T164500
DTEND;TZID=Europe/Vienna:20240507T181500
DTSTAMP:20260420T120427
CREATED:20240216T151126Z
LAST-MODIFIED:20240613T145321Z
UID:9935-1715100300-1715105700@www.rosinka.at
SUMMARY:ЯКОРЕК (9-10)
DESCRIPTION:
URL:https://www.rosinka.at/event/%d1%8f%d0%ba%d0%be%d1%80%d0%b5%d0%ba-9-10-3/2024-05-07/
END:VEVENT
BEGIN:VEVENT
DTSTART;TZID=Europe/Vienna:20240508T150000
DTEND;TZID=Europe/Vienna:20240508T163000
DTSTAMP:20260420T120427
CREATED:20240216T151334Z
LAST-MODIFIED:20240216T151334Z
UID:9951-1715180400-1715185800@www.rosinka.at
SUMMARY:ЗНАЙЧИКИ (7-8)
DESCRIPTION:
URL:https://www.rosinka.at/event/%d0%b7%d0%bd%d0%b0%d0%b9%d1%87%d0%b8%d0%ba%d0%b8-7-8-2/2024-05-08/
END:VEVENT
BEGIN:VEVENT
DTSTART;TZID=Europe/Vienna:20240508T164500
DTEND;TZID=Europe/Vienna:20240508T181500
DTSTAMP:20260420T120427
CREATED:20240216T151448Z
LAST-MODIFIED:20240216T151448Z
UID:9968-1715186700-1715192100@www.rosinka.at
SUMMARY:БУКВОЕЖКИ (8-9)
DESCRIPTION:
URL:https://www.rosinka.at/event/%d0%b1%d1%83%d0%ba%d0%b2%d0%be%d0%b5%d0%b6%d0%ba%d0%b8-8-9-2/2024-05-08/
END:VEVENT
BEGIN:VEVENT
DTSTART;VALUE=DATE:20240509
DTEND;VALUE=DATE:20240513
DTSTAMP:20260420T120427
CREATED:20230802T200641Z
LAST-MODIFIED:20240210T174628Z
UID:9151-1715212800-1715558399@www.rosinka.at
SUMMARY:НЕУЧЕБНЫЙ ДЕНЬ
DESCRIPTION:
URL:https://www.rosinka.at/event/%d0%bd%d0%b5%d1%83%d1%87%d0%b5%d0%b1%d0%bd%d1%8b%d0%b9-%d0%b4%d0%b5%d0%bd%d1%8c-40/
END:VEVENT
BEGIN:VEVENT
DTSTART;TZID=Europe/Vienna:20240510T163000
DTEND;TZID=Europe/Vienna:20240510T173000
DTSTAMP:20260420T120427
CREATED:20240509T120632Z
LAST-MODIFIED:20240509T120632Z
UID:10149-1715358600-1715362200@www.rosinka.at
SUMMARY:МАЛЫШАРИКИ (1\,5-3)
DESCRIPTION:
URL:https://www.rosinka.at/event/%d0%bc%d0%b0%d0%bb%d1%8b%d1%88%d0%b0%d1%80%d0%b8%d0%ba%d0%b8-15-3/
END:VEVENT
BEGIN:VEVENT
DTSTART;TZID=Europe/Vienna:20240512T100000
DTEND;TZID=Europe/Vienna:20240512T120000
DTSTAMP:20260420T120427
CREATED:20240428T093046Z
LAST-MODIFIED:20240428T093046Z
UID:10142-1715508000-1715515200@www.rosinka.at
SUMMARY:КУКОЛЬНЫЙ ТЕАТР
DESCRIPTION:
URL:https://www.rosinka.at/event/%d0%ba%d1%83%d0%ba%d0%be%d0%bb%d1%8c%d0%bd%d1%8b%d0%b9-%d1%82%d0%b5%d0%b0%d1%82%d1%80/2024-05-12/
END:VEVENT
END:VCALENDAR