BEGIN:VCALENDAR
VERSION:2.0
PRODID:-//Rosinka - ECPv6.15.20//NONSGML v1.0//EN
CALSCALE:GREGORIAN
METHOD:PUBLISH
X-ORIGINAL-URL:https://www.rosinka.at
X-WR-CALDESC:Мероприятия для Rosinka
REFRESH-INTERVAL;VALUE=DURATION:PT1H
X-Robots-Tag:noindex
X-PUBLISHED-TTL:PT1H
BEGIN:VTIMEZONE
TZID:Europe/Vienna
BEGIN:DAYLIGHT
TZOFFSETFROM:+0100
TZOFFSETTO:+0200
TZNAME:CEST
DTSTART:20230326T010000
END:DAYLIGHT
BEGIN:STANDARD
TZOFFSETFROM:+0200
TZOFFSETTO:+0100
TZNAME:CET
DTSTART:20231029T010000
END:STANDARD
BEGIN:DAYLIGHT
TZOFFSETFROM:+0100
TZOFFSETTO:+0200
TZNAME:CEST
DTSTART:20240331T010000
END:DAYLIGHT
BEGIN:STANDARD
TZOFFSETFROM:+0200
TZOFFSETTO:+0100
TZNAME:CET
DTSTART:20241027T010000
END:STANDARD
BEGIN:DAYLIGHT
TZOFFSETFROM:+0100
TZOFFSETTO:+0200
TZNAME:CEST
DTSTART:20250330T010000
END:DAYLIGHT
BEGIN:STANDARD
TZOFFSETFROM:+0200
TZOFFSETTO:+0100
TZNAME:CET
DTSTART:20251026T010000
END:STANDARD
END:VTIMEZONE
BEGIN:VEVENT
DTSTART;TZID=Europe/Vienna:20240916T171500
DTEND;TZID=Europe/Vienna:20240916T181500
DTSTAMP:20260420T032757
CREATED:20240909T121718Z
LAST-MODIFIED:20240909T123339Z
UID:10266-1726506900-1726510500@www.rosinka.at
SUMMARY:СВЕТЛЯЧКИ (4-5)
DESCRIPTION:
URL:https://www.rosinka.at/event/%d1%81%d0%b2%d0%b5%d1%82%d0%bb%d1%8f%d1%87%d0%ba%d0%b8-4-5/2024-09-16/
END:VEVENT
BEGIN:VEVENT
DTSTART;TZID=Europe/Vienna:20240916T171500
DTEND;TZID=Europe/Vienna:20240916T184500
DTSTAMP:20260420T032757
CREATED:20240909T121917Z
LAST-MODIFIED:20240909T123432Z
UID:10273-1726506900-1726512300@www.rosinka.at
SUMMARY:ЖИВОПИСЬ (7-10+)
DESCRIPTION:
URL:https://www.rosinka.at/event/%d0%b6%d0%b8%d0%b2%d0%be%d0%bf%d0%b8%d1%81%d1%8c-7-10-5/2024-09-16/
END:VEVENT
BEGIN:VEVENT
DTSTART;TZID=Europe/Vienna:20240917T150000
DTEND;TZID=Europe/Vienna:20240917T163000
DTSTAMP:20260420T032757
CREATED:20240914T205228Z
LAST-MODIFIED:20241112T153752Z
UID:10481-1726585200-1726590600@www.rosinka.at
SUMMARY:СТАРШЕКЛАССНИКИ (12-13)
DESCRIPTION:
URL:https://www.rosinka.at/event/%d0%b3%d1%80%d1%83%d0%bf%d0%bf%d0%b0-3-4-%d0%ba%d0%bb%d0%b0%d1%81%d1%81/2024-09-17/
END:VEVENT
BEGIN:VEVENT
DTSTART;TZID=Europe/Vienna:20240917T164500
DTEND;TZID=Europe/Vienna:20240917T174500
DTSTAMP:20260420T032757
CREATED:20240916T140234Z
LAST-MODIFIED:20240916T140234Z
UID:10543-1726591500-1726595100@www.rosinka.at
SUMMARY:ЖИВОПИСЬ (4-6)
DESCRIPTION:
URL:https://www.rosinka.at/event/%d0%b6%d0%b8%d0%b2%d0%be%d0%bf%d0%b8%d1%81%d1%8c-4-6-31/
END:VEVENT
BEGIN:VEVENT
DTSTART;TZID=Europe/Vienna:20240917T164500
DTEND;TZID=Europe/Vienna:20240917T181500
DTSTAMP:20260420T032757
CREATED:20240909T122100Z
LAST-MODIFIED:20240909T123520Z
UID:10280-1726591500-1726596900@www.rosinka.at
SUMMARY:ЯКОРЕК (10-11)
DESCRIPTION:
URL:https://www.rosinka.at/event/%d1%8f%d0%ba%d0%be%d1%80%d0%b5%d0%ba-10-11/2024-09-17/
END:VEVENT
BEGIN:VEVENT
DTSTART;TZID=Europe/Vienna:20240918T150000
DTEND;TZID=Europe/Vienna:20240918T163000
DTSTAMP:20260420T032757
CREATED:20240909T122331Z
LAST-MODIFIED:20240909T123607Z
UID:10296-1726671600-1726677000@www.rosinka.at
SUMMARY:ЗНАЙЧИКИ (8-9)
DESCRIPTION:
URL:https://www.rosinka.at/event/%d0%b7%d0%bd%d0%b0%d0%b9%d1%87%d0%b8%d0%ba%d0%b8-8-9/2024-09-18/
END:VEVENT
BEGIN:VEVENT
DTSTART;TZID=Europe/Vienna:20240918T164500
DTEND;TZID=Europe/Vienna:20240918T181500
DTSTAMP:20260420T032757
CREATED:20240909T122217Z
LAST-MODIFIED:20240909T123649Z
UID:10288-1726677900-1726683300@www.rosinka.at
SUMMARY:БУКВОЕЖКИ (9-10)
DESCRIPTION:
URL:https://www.rosinka.at/event/%d0%b1%d1%83%d0%ba%d0%b2%d0%be%d0%b5%d0%b6%d0%ba%d0%b8-9-10/2024-09-18/
END:VEVENT
BEGIN:VEVENT
DTSTART;TZID=Europe/Vienna:20240919T163000
DTEND;TZID=Europe/Vienna:20240919T180000
DTSTAMP:20260420T032757
CREATED:20240909T122505Z
LAST-MODIFIED:20241004T074638Z
UID:10304-1726763400-1726768800@www.rosinka.at
SUMMARY:УМНИКИ (13-15)
DESCRIPTION:
URL:https://www.rosinka.at/event/%d0%bf%d0%be%d0%b4%d1%80%d0%be%d1%81%d1%82%d0%ba%d0%b8-2-0-13-15/2024-09-19/
END:VEVENT
BEGIN:VEVENT
DTSTART;TZID=Europe/Vienna:20240919T164500
DTEND;TZID=Europe/Vienna:20240919T181500
DTSTAMP:20260420T032757
CREATED:20240909T122618Z
LAST-MODIFIED:20240909T123832Z
UID:10312-1726764300-1726769700@www.rosinka.at
SUMMARY:СОЛНЫШКИ (5-6)
DESCRIPTION:
URL:https://www.rosinka.at/event/%d1%81%d0%be%d0%bb%d0%bd%d1%8b%d1%88%d0%ba%d0%b8-5-6/2024-09-19/
END:VEVENT
BEGIN:VEVENT
DTSTART;TZID=Europe/Vienna:20240920T144500
DTEND;TZID=Europe/Vienna:20240920T161500
DTSTAMP:20260420T032758
CREATED:20240914T205405Z
LAST-MODIFIED:20241019T141756Z
UID:10501-1726843500-1726848900@www.rosinka.at
SUMMARY:ФИКСИКИ (6-7)
DESCRIPTION:
URL:https://www.rosinka.at/event/%d0%bf%d1%87%d0%b5%d0%bb%d0%ba%d0%b8-6-7/2024-09-20/
END:VEVENT
BEGIN:VEVENT
DTSTART;TZID=Europe/Vienna:20240920T160000
DTEND;TZID=Europe/Vienna:20240920T173000
DTSTAMP:20260420T032758
CREATED:20240916T195330Z
LAST-MODIFIED:20240916T195330Z
UID:10546-1726848000-1726853400@www.rosinka.at
SUMMARY:ЛУЧИКИ (5-6)
DESCRIPTION:
URL:https://www.rosinka.at/event/%d0%bb%d1%83%d1%87%d0%b8%d0%ba%d0%b8-5-6/2024-09-20/
END:VEVENT
BEGIN:VEVENT
DTSTART;TZID=Europe/Vienna:20240920T170000
DTEND;TZID=Europe/Vienna:20240920T180000
DTSTAMP:20260420T032758
CREATED:20240909T122733Z
LAST-MODIFIED:20241021T153218Z
UID:10320-1726851600-1726855200@www.rosinka.at
SUMMARY:МАЛЫШАРИКИ (1\,5-3)
DESCRIPTION:
URL:https://www.rosinka.at/event/%d0%bc%d0%b0%d0%bb%d1%8b%d1%88%d0%b0%d1%80%d0%b8%d0%ba%d0%b8-15-3-3/2024-09-20/
END:VEVENT
BEGIN:VEVENT
DTSTART;TZID=Europe/Vienna:20240921T130000
DTEND;TZID=Europe/Vienna:20240921T140000
DTSTAMP:20260420T032758
CREATED:20240916T113831Z
LAST-MODIFIED:20240916T113831Z
UID:10541-1726923600-1726927200@www.rosinka.at
SUMMARY:ШАХМАТЫ
DESCRIPTION:
URL:https://www.rosinka.at/event/%d1%88%d0%b0%d1%85%d0%bc%d0%b0%d1%82%d1%8b-8/
END:VEVENT
END:VCALENDAR