BEGIN:VCALENDAR
VERSION:2.0
PRODID:-//Rosinka - ECPv6.15.20//NONSGML v1.0//EN
CALSCALE:GREGORIAN
METHOD:PUBLISH
X-WR-CALNAME:Rosinka
X-ORIGINAL-URL:https://www.rosinka.at
X-WR-CALDESC:Мероприятия для Rosinka
REFRESH-INTERVAL;VALUE=DURATION:PT1H
X-Robots-Tag:noindex
X-PUBLISHED-TTL:PT1H
BEGIN:VTIMEZONE
TZID:Europe/Vienna
BEGIN:DAYLIGHT
TZOFFSETFROM:+0100
TZOFFSETTO:+0200
TZNAME:CEST
DTSTART:20230326T010000
END:DAYLIGHT
BEGIN:STANDARD
TZOFFSETFROM:+0200
TZOFFSETTO:+0100
TZNAME:CET
DTSTART:20231029T010000
END:STANDARD
BEGIN:DAYLIGHT
TZOFFSETFROM:+0100
TZOFFSETTO:+0200
TZNAME:CEST
DTSTART:20240331T010000
END:DAYLIGHT
BEGIN:STANDARD
TZOFFSETFROM:+0200
TZOFFSETTO:+0100
TZNAME:CET
DTSTART:20241027T010000
END:STANDARD
BEGIN:DAYLIGHT
TZOFFSETFROM:+0100
TZOFFSETTO:+0200
TZNAME:CEST
DTSTART:20250330T010000
END:DAYLIGHT
BEGIN:STANDARD
TZOFFSETFROM:+0200
TZOFFSETTO:+0100
TZNAME:CET
DTSTART:20251026T010000
END:STANDARD
BEGIN:DAYLIGHT
TZOFFSETFROM:+0100
TZOFFSETTO:+0200
TZNAME:CEST
DTSTART:20260329T010000
END:DAYLIGHT
BEGIN:STANDARD
TZOFFSETFROM:+0200
TZOFFSETTO:+0100
TZNAME:CET
DTSTART:20261025T010000
END:STANDARD
END:VTIMEZONE
BEGIN:VEVENT
DTSTART;TZID=Europe/Vienna:20241216T171500
DTEND;TZID=Europe/Vienna:20241216T181500
DTSTAMP:20260419T211005
CREATED:20240909T121718Z
LAST-MODIFIED:20240909T121718Z
UID:10349-1734369300-1734372900@www.rosinka.at
SUMMARY:СВЕТЛЯЧКИ (4-5)
DESCRIPTION:
URL:https://www.rosinka.at/event/%d1%81%d0%b2%d0%b5%d1%82%d0%bb%d1%8f%d1%87%d0%ba%d0%b8-4-5/2024-12-16/
END:VEVENT
BEGIN:VEVENT
DTSTART;TZID=Europe/Vienna:20241216T171500
DTEND;TZID=Europe/Vienna:20241216T184500
DTSTAMP:20260419T211005
CREATED:20240909T121917Z
LAST-MODIFIED:20240909T121917Z
UID:10366-1734369300-1734374700@www.rosinka.at
SUMMARY:ЖИВОПИСЬ (7-10+)
DESCRIPTION:
URL:https://www.rosinka.at/event/%d0%b6%d0%b8%d0%b2%d0%be%d0%bf%d0%b8%d1%81%d1%8c-7-10-5/2024-12-16/
END:VEVENT
BEGIN:VEVENT
DTSTART;TZID=Europe/Vienna:20241217T150000
DTEND;TZID=Europe/Vienna:20241217T163000
DTSTAMP:20260419T211005
CREATED:20240914T205228Z
LAST-MODIFIED:20241112T153758Z
UID:10494-1734447600-1734453000@www.rosinka.at
SUMMARY:СТАРШЕКЛАССНИКИ (12-13)
DESCRIPTION:
URL:https://www.rosinka.at/event/%d0%b3%d1%80%d1%83%d0%bf%d0%bf%d0%b0-3-4-%d0%ba%d0%bb%d0%b0%d1%81%d1%81/2024-12-17/
END:VEVENT
BEGIN:VEVENT
DTSTART;TZID=Europe/Vienna:20241217T164500
DTEND;TZID=Europe/Vienna:20241217T181500
DTSTAMP:20260419T211005
CREATED:20240909T122100Z
LAST-MODIFIED:20240909T122100Z
UID:10383-1734453900-1734459300@www.rosinka.at
SUMMARY:ЯКОРЕК (10-11)
DESCRIPTION:
URL:https://www.rosinka.at/event/%d1%8f%d0%ba%d0%be%d1%80%d0%b5%d0%ba-10-11/2024-12-17/
END:VEVENT
BEGIN:VEVENT
DTSTART;TZID=Europe/Vienna:20241218T150000
DTEND;TZID=Europe/Vienna:20241218T163000
DTSTAMP:20260419T211005
CREATED:20240909T122331Z
LAST-MODIFIED:20240909T122331Z
UID:10401-1734534000-1734539400@www.rosinka.at
SUMMARY:ЗНАЙЧИКИ (8-9)
DESCRIPTION:
URL:https://www.rosinka.at/event/%d0%b7%d0%bd%d0%b0%d0%b9%d1%87%d0%b8%d0%ba%d0%b8-8-9/2024-12-18/
END:VEVENT
BEGIN:VEVENT
DTSTART;TZID=Europe/Vienna:20241218T163500
DTEND;TZID=Europe/Vienna:20241218T173500
DTSTAMP:20260419T211005
CREATED:20240914T205542Z
LAST-MODIFIED:20240914T205542Z
UID:10816-1734539700-1734543300@www.rosinka.at
SUMMARY:ФАНТАЗЕРЫ (4-5)
DESCRIPTION:
URL:https://www.rosinka.at/event/%d0%b3%d1%80%d1%83%d0%bf%d0%bf%d0%b0-4-5-%d0%bb%d0%b5%d1%82-7/2024-12-18/
END:VEVENT
BEGIN:VEVENT
DTSTART;TZID=Europe/Vienna:20241218T164500
DTEND;TZID=Europe/Vienna:20241218T181500
DTSTAMP:20260419T211005
CREATED:20240909T122217Z
LAST-MODIFIED:20240909T122217Z
UID:10419-1734540300-1734545700@www.rosinka.at
SUMMARY:БУКВОЕЖКИ (9-10)
DESCRIPTION:
URL:https://www.rosinka.at/event/%d0%b1%d1%83%d0%ba%d0%b2%d0%be%d0%b5%d0%b6%d0%ba%d0%b8-9-10/2024-12-18/
END:VEVENT
BEGIN:VEVENT
DTSTART;TZID=Europe/Vienna:20241219T164500
DTEND;TZID=Europe/Vienna:20241219T181500
DTSTAMP:20260419T211005
CREATED:20240909T122618Z
LAST-MODIFIED:20240909T122618Z
UID:10455-1734626700-1734632100@www.rosinka.at
SUMMARY:СОЛНЫШКИ (5-6)
DESCRIPTION:
URL:https://www.rosinka.at/event/%d1%81%d0%be%d0%bb%d0%bd%d1%8b%d1%88%d0%ba%d0%b8-5-6/2024-12-19/
END:VEVENT
BEGIN:VEVENT
DTSTART;TZID=Europe/Vienna:20241220T144500
DTEND;TZID=Europe/Vienna:20241220T161500
DTSTAMP:20260419T211005
CREATED:20240914T205405Z
LAST-MODIFIED:20241019T141801Z
UID:10514-1734705900-1734711300@www.rosinka.at
SUMMARY:ФИКСИКИ (6-7)
DESCRIPTION:
URL:https://www.rosinka.at/event/%d0%bf%d1%87%d0%b5%d0%bb%d0%ba%d0%b8-6-7/2024-12-20/
END:VEVENT
BEGIN:VEVENT
DTSTART;TZID=Europe/Vienna:20241220T160000
DTEND;TZID=Europe/Vienna:20241220T173000
DTSTAMP:20260419T211005
CREATED:20240916T195330Z
LAST-MODIFIED:20240916T195330Z
UID:10559-1734710400-1734715800@www.rosinka.at
SUMMARY:ЛУЧИКИ (5-6)
DESCRIPTION:
URL:https://www.rosinka.at/event/%d0%bb%d1%83%d1%87%d0%b8%d0%ba%d0%b8-5-6/2024-12-20/
END:VEVENT
BEGIN:VEVENT
DTSTART;TZID=Europe/Vienna:20241220T170000
DTEND;TZID=Europe/Vienna:20241220T180000
DTSTAMP:20260419T211005
CREATED:20240909T122733Z
LAST-MODIFIED:20240909T122733Z
UID:10734-1734714000-1734717600@www.rosinka.at
SUMMARY:МАЛЫШАРИКИ (1\,5-3)
DESCRIPTION:
URL:https://www.rosinka.at/event/%d0%bc%d0%b0%d0%bb%d1%8b%d1%88%d0%b0%d1%80%d0%b8%d0%ba%d0%b8-15-3-3/2024-12-20/
END:VEVENT
BEGIN:VEVENT
DTSTART;VALUE=DATE:20241221
DTEND;VALUE=DATE:20250107
DTSTAMP:20260419T211005
CREATED:20240813T102554Z
LAST-MODIFIED:20240813T102554Z
UID:10240-1734739200-1736207999@www.rosinka.at
SUMMARY:РОЖДЕСТВЕНСКИЕ КАНИКУЛЫ
DESCRIPTION:
URL:https://www.rosinka.at/event/%d1%80%d0%be%d0%b6%d0%b4%d0%b5%d1%81%d1%82%d0%b2%d0%b5%d0%bd%d1%81%d0%ba%d0%b8%d0%b5-%d0%ba%d0%b0%d0%bd%d0%b8%d0%ba%d1%83%d0%bb%d1%8b-8/
END:VEVENT
END:VCALENDAR